From mboxrd@z Thu Jan 1 00:00:00 1970 Return-Path: Received: from mails.dpdk.org (mails.dpdk.org [217.70.189.124]) by inbox.dpdk.org (Postfix) with ESMTP id E5D434678C for ; Mon, 19 May 2025 11:43:07 +0200 (CEST) Received: from mails.dpdk.org (localhost [127.0.0.1]) by mails.dpdk.org (Postfix) with ESMTP id C19C7402AC; Mon, 19 May 2025 11:43:07 +0200 (CEST) Received: from mail-io1-f99.google.com (mail-io1-f99.google.com [209.85.166.99]) by mails.dpdk.org (Postfix) with ESMTP id AA4D440276 for ; Mon, 19 May 2025 11:43:05 +0200 (CEST) Received: by mail-io1-f99.google.com with SMTP id ca18e2360f4ac-864a071b44bso98248039f.3 for ; Mon, 19 May 2025 02:43:05 -0700 (PDT) DKIM-Signature: v=1; a=rsa-sha256; c=relaxed/relaxed; d=iol.unh.edu; s=unh-iol; t=1747647785; x=1748252585; darn=dpdk.org; h=references:in-reply-to:cc:to:from:subject:message-id:date:from:to :cc:subject:date:message-id:reply-to; bh=D/J61qFdxq6OkQWoslrhoZpdB+uyBs6ew+QEp3rQwWY=; b=MSVYvfBc5uYjPTCebiKHI48rw54kLW83AF6nfgEFMajd8ISIEgYcBNMDGr9zQ3l/tW 70XTv+xcHRLMFhpLXH5252+xg7zhXC8zjbbKYMBw2BdsHzB60cogvsrfrOB+2RvRtMLB 5XGM3FSO2B0EnsDnY9v7Zdy/SyUxkCKdijRE0= X-Google-DKIM-Signature: v=1; a=rsa-sha256; c=relaxed/relaxed; d=1e100.net; s=20230601; t=1747647785; x=1748252585; h=references:in-reply-to:cc:to:from:subject:message-id:date :x-gm-message-state:from:to:cc:subject:date:message-id:reply-to; bh=D/J61qFdxq6OkQWoslrhoZpdB+uyBs6ew+QEp3rQwWY=; b=e/4ChpQtJHX1Ch0+jPLN1IaZPJbbE/qj4Qj3muA4omFmkomEMytU+ZxEGZGeLCVE/Z tjI92z3yaxRLmji0ZvIldRAGB1AYNo5J24pd28Uz2c8w2FKm3iKVtC07XUoZ7LLchCB/ 5+7EPSrrWXDdyCLIMfptVRbl3REow/0Lz/J2uEhasp5FRiMg+JQGQE6X62VcgHx/RavK ebFNIffrgSx8Qwr16vg5cjOlJleIzbLP+qpJxVi2nIQC9IjbwccsSQeRNm1kw5DoN9gj hHdqAPqm1YO8elnd3lWNmUrvLykOz2Xmp+/NPBTS48psvQSfJFFjIwPLqICRjMYev9WY GiHA== X-Gm-Message-State: AOJu0YwOzZaMaNiDtRE4P6EGoG6fvbPegMq3W5vA8Ceo+bQA52JSRnIS DmGgJ4nZDjGg5V95TFDjXQV+V6+b1av8T15yOtxIiCuneYroeufJ+4iYItZt7oY3OmHm7/WGuBp xcNEOk/VCtYBFXe820SOACFz6FhTOL9yuqMj5sAr+udc5Dat4laE1BgsEtjRI X-Gm-Gg: ASbGncs889/vZ3wnzEYwlC2GIwf5PbXNKhQtB7OeRJ3mUIzOtYYXDGe9AcOG5V9JwNl ENgHmROzyw48OAIy2ChWg2/nlOoYXNgHoEtbN5523lgaqMYTzNp4/G5Wq+q0PKxQGHijTKBRMYD fPrBZtu+hk7x8Gfkaz3zVASB1Wu5pPDMo7HIQcQVK9daXcUyANHlS+k+ZE9wC7Mh8ueQ/KNgPl6 zfMLz8PTJ/t8aqDHCd2FS0rMTi2Mq0cKY/v97WB6t6I0+U59rVsqfinMXRR+VqljjDPGP89U9Sj cIRxSg+5Tax2TCxO2zGdc2SFBusICDT4z4mN X-Google-Smtp-Source: AGHT+IGmPiZ5mRsxycxwwWjtBbKiNk4INNCkM9DsoZD6vIqC9thGYxYjHDqw5IQPf6NuErVHUE9ObHapxDYc X-Received: by 2002:a05:6602:4a08:b0:86a:84f:7a45 with SMTP id ca18e2360f4ac-86a24c131a4mr1520973339f.8.1747647784955; Mon, 19 May 2025 02:43:04 -0700 (PDT) Received: from postal.iol.unh.edu (postal.iol.unh.edu. [2606:4100:3880:1234::84]) by smtp-relay.gmail.com with ESMTPS id ca18e2360f4ac-86a2362bd9asm35318239f.13.2025.05.19.02.43.04 (version=TLS1_2 cipher=ECDHE-ECDSA-AES128-GCM-SHA256 bits=128/128); Mon, 19 May 2025 02:43:04 -0700 (PDT) X-Relaying-Domain: iol.unh.edu Date: Mon, 19 May 2025 02:43:04 -0700 (PDT) Message-ID: <682afd28.5d0a0220.1b56b9.3deaSMTPIN_ADDED_MISSING@mx.google.com> Received: from [172.17.0.2] (unknown [172.18.0.76]) by postal.iol.unh.edu (Postfix) with ESMTP id 6B46B6052471; Mon, 19 May 2025 05:43:04 -0400 (EDT) Subject: |SUCCESS| pw153510 [PATCH] app/testpmd: fix random flow item token From: dpdklab@iol.unh.edu To: Test Report Cc: dpdk-test-reports@iol.unh.edu In-Reply-To: <20250519063045.394353-1-getelson@nvidia.com> References: <20250519063045.394353-1-getelson@nvidia.com> Content-Type: text/plain X-BeenThere: test-report@dpdk.org X-Mailman-Version: 2.1.29 Precedence: list List-Id: automatic DPDK test reports List-Unsubscribe: , List-Archive: List-Post: List-Help: List-Subscribe: , Errors-To: test-report-bounces@dpdk.org Test-Label: iol-compile-amd64-testing Test-Status: SUCCESS http://dpdk.org/patch/153510 _Testing PASS_ Submitter: Gregory Etelson Date: Monday, May 19 2025 06:30:45 DPDK git baseline: Repo:dpdk Branch: master CommitID:ff05ee3e3f8fb4ce958a2ce6461e8141aea959c6 153510 --> testing pass Upstream job id: Generic-DPDK-Compile-Meson#389411 Test environment and result as below: +-----------------------------------+--------------------+-------------------+------------------+-------------------------+-------------------+----------------------+ | Environment | dpdk_meson_compile | dpdk_compile_spdk | dpdk_compile_ovs | dpdk_llvm_clang_compile | dpdk_msvc_compile | dpdk_mingw64_compile | +===================================+====================+===================+==================+=========================+===================+======================+ | CentOS Stream 9 | PASS | PASS | SKIPPED | SKIPPED | SKIPPED | SKIPPED | +-----------------------------------+--------------------+-------------------+------------------+-------------------------+-------------------+----------------------+ | CentOS Stream 10 | PASS | SKIPPED | SKIPPED | SKIPPED | SKIPPED | SKIPPED | +-----------------------------------+--------------------+-------------------+------------------+-------------------------+-------------------+----------------------+ | Debian 12 | PASS | PASS | SKIPPED | SKIPPED | SKIPPED | SKIPPED | +-----------------------------------+--------------------+-------------------+------------------+-------------------------+-------------------+----------------------+ | Fedora 40 (Clang) | PASS | PASS | SKIPPED | SKIPPED | SKIPPED | SKIPPED | +-----------------------------------+--------------------+-------------------+------------------+-------------------------+-------------------+----------------------+ | Fedora 40 | PASS | PASS | SKIPPED | SKIPPED | SKIPPED | SKIPPED | +-----------------------------------+--------------------+-------------------+------------------+-------------------------+-------------------+----------------------+ | Fedora 41 (Clang) | PASS | PASS | PASS | SKIPPED | SKIPPED | SKIPPED | +-----------------------------------+--------------------+-------------------+------------------+-------------------------+-------------------+----------------------+ | openSUSE Leap 15 | PASS | SKIPPED | SKIPPED | SKIPPED | SKIPPED | SKIPPED | +-----------------------------------+--------------------+-------------------+------------------+-------------------------+-------------------+----------------------+ | Fedora 41 | PASS | PASS | PASS | SKIPPED | SKIPPED | SKIPPED | +-----------------------------------+--------------------+-------------------+------------------+-------------------------+-------------------+----------------------+ | RHEL8 | PASS | SKIPPED | SKIPPED | SKIPPED | SKIPPED | SKIPPED | +-----------------------------------+--------------------+-------------------+------------------+-------------------------+-------------------+----------------------+ | RHEL9 | PASS | SKIPPED | SKIPPED | SKIPPED | SKIPPED | SKIPPED | +-----------------------------------+--------------------+-------------------+------------------+-------------------------+-------------------+----------------------+ | Ubuntu 20.04 | PASS | SKIPPED | SKIPPED | SKIPPED | SKIPPED | SKIPPED | +-----------------------------------+--------------------+-------------------+------------------+-------------------------+-------------------+----------------------+ | Ubuntu 22.04 | PASS | PASS | SKIPPED | SKIPPED | SKIPPED | SKIPPED | +-----------------------------------+--------------------+-------------------+------------------+-------------------------+-------------------+----------------------+ | Ubuntu 24.04 | PASS | PASS | PASS | SKIPPED | SKIPPED | SKIPPED | +-----------------------------------+--------------------+-------------------+------------------+-------------------------+-------------------+----------------------+ | Alpine | PASS | SKIPPED | SKIPPED | SKIPPED | SKIPPED | SKIPPED | +-----------------------------------+--------------------+-------------------+------------------+-------------------------+-------------------+----------------------+ | Ubuntu 24.04 32 Bit Cross Compile | PASS | SKIPPED | SKIPPED | SKIPPED | SKIPPED | SKIPPED | +-----------------------------------+--------------------+-------------------+------------------+-------------------------+-------------------+----------------------+ | FreeBSD 13.5 | PASS | SKIPPED | SKIPPED | SKIPPED | SKIPPED | SKIPPED | +-----------------------------------+--------------------+-------------------+------------------+-------------------------+-------------------+----------------------+ | FreeBSD 14.2 | PASS | SKIPPED | SKIPPED | SKIPPED | SKIPPED | SKIPPED | +-----------------------------------+--------------------+-------------------+------------------+-------------------------+-------------------+----------------------+ | Windows Server 2022 | SKIPPED | SKIPPED | SKIPPED | PASS | PASS | PASS | +-----------------------------------+--------------------+-------------------+------------------+-------------------------+-------------------+----------------------+ CentOS Stream 9 Kernel: Depends on container host Compiler: gcc 11.5.0 20240719 (Red Hat 11.5.0-2) CentOS Stream 10 Kernel: Depends on container host Compiler: gcc 14.2.1 20241104 (Red Hat 14.2.1-6) Debian 12 Kernel: Depends on container host Compiler: gcc (Debian 12.2.0-14) 12.2.0 Fedora 40 (Clang) Kernel: Depends on container host Compiler: clang 18.1.8 (Fedora 18.1.8-1.fc40) Fedora 40 Kernel: Depends on container host Compiler: gcc 14.2.1 20240912 (Red Hat 14.2.1-3) Fedora 41 (Clang) Kernel: Depends on container host Compiler: clang 19.1.5 (Fedora 19.1.5-1.fc41) openSUSE Leap 15 Kernel: Depends on container host Compiler: gcc (SUSE Linux) 7.5.0 Fedora 41 Kernel: Depends on container host Compiler: gcc 14.2.1 20240912 (Red Hat 14.2.1-3) RHEL8 Kernel: Depends on container host Compiler: gcc 8.5.0 20210514 (Red Hat 8.5.0-22) RHEL9 Kernel: Depends on container host Compiler: gcc 11.5.0 20240719 (Red Hat 11.5.0-2) Ubuntu 20.04 Kernel: Depends on container host Compiler: gcc (Ubuntu 9.4.0-1ubuntu1~20.04.2) 9.4.0 Ubuntu 22.04 Kernel: Depends on container host Compiler: gcc (Ubuntu 11.4.0-1ubuntu1~22.04) 11.4.0 Ubuntu 24.04 Kernel: Depends on container host Compiler: gcc (Ubuntu 13.3.0-6ubuntu2~24.04) 13.3.0 Alpine Kernel: Depends on container host Compiler: gcc (Alpine 14.2.0) 14.2.0 Ubuntu 24.04 32 Bit Cross Compile Kernel: Depends on container host Compiler: gcc (Ubuntu 13.3.0-6ubuntu2~24.04) 13.3.0 FreeBSD 13.5 Kernel: 13.5-RELEASE Compiler: clang 19.1.7 FreeBSD 14.2 Kernel: 14.2-RELEASE Compiler: clang 18.1.6 Windows Server 2022 Kernel: 10.0.20348.2031 Compiler: clang 15.0.7, gcc 14.1.0 (MinGW), and MSVC VS 19.39.33521 To view detailed results, visit: https://lab.dpdk.org/results/dashboard/patchsets/33204/ UNH-IOL DPDK Community Lab To manage your email subscriptions, visit: https://lab.dpdk.org/results/dashboard/preferences/subscriptions/