From mboxrd@z Thu Jan 1 00:00:00 1970 Return-Path: Received: from mails.dpdk.org (mails.dpdk.org [217.70.189.124]) by inbox.dpdk.org (Postfix) with ESMTP id 22C684678C for ; Mon, 19 May 2025 11:55:58 +0200 (CEST) Received: from mails.dpdk.org (localhost [127.0.0.1]) by mails.dpdk.org (Postfix) with ESMTP id EB590402AC; Mon, 19 May 2025 11:55:57 +0200 (CEST) Received: from mail-pg1-f227.google.com (mail-pg1-f227.google.com [209.85.215.227]) by mails.dpdk.org (Postfix) with ESMTP id 7612740276 for ; Mon, 19 May 2025 11:55:57 +0200 (CEST) Received: by mail-pg1-f227.google.com with SMTP id 41be03b00d2f7-af523f4511fso3292256a12.0 for ; Mon, 19 May 2025 02:55:57 -0700 (PDT) DKIM-Signature: v=1; a=rsa-sha256; c=relaxed/relaxed; d=iol.unh.edu; s=unh-iol; t=1747648556; x=1748253356; darn=dpdk.org; h=cc:to:from:subject:message-id:date:from:to:cc:subject:date :message-id:reply-to; bh=V1Dqp+d/Jk4ynPTOty5mRIpUxaQC6N34ZjkCPjtlZcQ=; b=gfACC0IN45InfApDDA+VU8fKjHSLGvgJrap3h2Ho31ecXtXs20joZn6AaO8W6F7G6r raEXd4QFjs+zJXPwawvZ4arNLj81Oa/UyghrzexMJxvIjc6OOoPS8Eg6E+Ynymx4H1BO 3z44S8R9iDAiDC6s7VFXcRcQlXP+JKzQPYAjU= X-Google-DKIM-Signature: v=1; a=rsa-sha256; c=relaxed/relaxed; d=1e100.net; s=20230601; t=1747648556; x=1748253356; h=cc:to:from:subject:message-id:date:x-gm-message-state:from:to:cc :subject:date:message-id:reply-to; bh=V1Dqp+d/Jk4ynPTOty5mRIpUxaQC6N34ZjkCPjtlZcQ=; b=oIX5A61Nrx/2ack1v+tWMYnLKaaf5iZeMWOM9ZkIY9xC8lp8tHQXhVfEjyKw0tjwPw EiQegwCy7g2e1E16LbORFcaZ61jyxjSWCId7OI5AgaB+Gh2k9kP715Y/MyPF1cmpfGfK Qex4BCuGLZrT40CR3Lffrj7QCMMfcctFv8QLJKn0vn2BRddqGFqZVkvDLeZ4TxYQ/Fyv ic9Lb/9vL5qYqBUgJDsATEyZLkzCyh5BN2UvOSmsnd0rAOm2aETNzMws0rryLT9Jujug GNpyTK2Dd9AtiicOdyVUCqMUo3f2GdMn2F5mS0YXVvMNvUcCQH6/3xLh9j/bXnZoKIBE ilqg== X-Gm-Message-State: AOJu0Yw9DElAcuHDNfsnPhLId6uKkBZnFJ16dvBtfWp61WNcXRe8wLrw 4/lu/idnggwVqr8YelfP+sjjYa29sr8ZgU0jsXeFhja9G+TQVLephnWkhpuwsBNf64RsTun+auL ID2UOpDPka+/w3zwkAJCEv921GKQLOVLd0Nu+gfGKeVMdmux++WN6 X-Gm-Gg: ASbGncs8e6LdtezT72foxdw8Pz2P1TkVR6fUTsbUfSb9cdV0XII3GULjbMi7j8TRShp 5ZdUKYkwa0swZFvQ/f5ojusyehv2HHjuUsoN1fKWVgol0atw/6ye/VfUFQtu+14/WsF26ROiOrV 0YNFyrQEcnXOcyRMX6t0sTPz8CSMw+ste1Riuxbo/scrIjl8eI1wBGLDioRzRCOHAiHTCcHLN2I BDiEGvWyhk4MsZsiw3J3uroNo5bMZAebDBw+beOKWX7LajKlDIIX2ROpBQNSyyMH8nb05Bz2aWj oX0JiSw1JEbTx9jH+PymRUStc0EbvdGRuHFg X-Google-Smtp-Source: AGHT+IE2ARuDPME8Hjcf89FLnh/oIbceuYm6hEVefpUUNgGKGvvgLKUw3YTyAvb6jBdKaUkzLTcA1QmpEMs7 X-Received: by 2002:a17:902:ea01:b0:231:97ab:9544 with SMTP id d9443c01a7336-231d452d4f0mr193410175ad.41.1747648544921; Mon, 19 May 2025 02:55:44 -0700 (PDT) Received: from postal.iol.unh.edu (postal.iol.unh.edu. [2606:4100:3880:1234::84]) by smtp-relay.gmail.com with ESMTPS id d9443c01a7336-231d4e97235sm3946405ad.86.2025.05.19.02.55.44 (version=TLS1_2 cipher=ECDHE-ECDSA-AES128-GCM-SHA256 bits=128/128); Mon, 19 May 2025 02:55:44 -0700 (PDT) X-Relaying-Domain: iol.unh.edu Date: Mon, 19 May 2025 02:55:44 -0700 (PDT) Message-ID: <682b0020.170a0220.2e319b.54deSMTPIN_ADDED_MISSING@mx.google.com> Received: from [172.17.0.2] (unknown [172.18.0.76]) by postal.iol.unh.edu (Postfix) with ESMTP id 0B94E6052471; Mon, 19 May 2025 05:55:44 -0400 (EDT) Subject: |SUCCESS| [GIT MASTER] 83a7a648344674c0269fcaeb71d8d16468421a0e From: dpdklab@iol.unh.edu To: Test Report Cc: dpdk-test-reports@iol.unh.edu, Xueming Li , Christian Ehrhardt , Kevin Traynor , Luca Boccassi Content-Type: text/plain X-BeenThere: test-report@dpdk.org X-Mailman-Version: 2.1.29 Precedence: list List-Id: automatic DPDK test reports List-Unsubscribe: , List-Archive: List-Post: List-Help: List-Subscribe: , Errors-To: test-report-bounces@dpdk.org _Testing PASS_ Branch: tags/v23.11 83a7a648344674c0269fcaeb71d8d16468421a0e --> testing pass Upstream job id: Generic-DPDK-Compile-Meson#389376 Test environment and result as below: +------------------------------------+--------------------+ | Environment | dpdk_meson_compile | +====================================+====================+ | RHEL9 (ARM) | PASS | +------------------------------------+--------------------+ | Ubuntu 20.04 ARM GCC Cross Compile | PASS | +------------------------------------+--------------------+ | Ubuntu 20.04 ARM SVE | PASS | +------------------------------------+--------------------+ | Debian 12 with MUSDK | PASS | +------------------------------------+--------------------+ | Fedora 40 (ARM) | PASS | +------------------------------------+--------------------+ | Fedora 40 (ARM Clang) | PASS | +------------------------------------+--------------------+ | Fedora 41 (ARM) | PASS | +------------------------------------+--------------------+ | Fedora 41 (ARM Clang) | PASS | +------------------------------------+--------------------+ | Ubuntu 20.04 (ARM) | PASS | +------------------------------------+--------------------+ | Ubuntu 24.04 (ARM) | PASS | +------------------------------------+--------------------+ | Ubuntu 22.04 (ARM) | PASS | +------------------------------------+--------------------+ | CentOS Stream 9 (ARM) | PASS | +------------------------------------+--------------------+ | CentOS Stream 10 (ARM) | PASS | +------------------------------------+--------------------+ | Debian 12 (arm) | PASS | +------------------------------------+--------------------+ RHEL9 (ARM) Kernel: Depends on container host Compiler: gcc 11.5.0 20240719 (Red Hat 11.5.0-2) Ubuntu 20.04 ARM GCC Cross Compile Kernel: Depends on container host Compiler: aarch64-linux-gnu-gcc (Ubuntu 9.4.0-1ubuntu1~20.04.2) 9.4.0 Ubuntu 20.04 ARM SVE Kernel: Depends on container host Compiler: gcc (Ubuntu 10.5.0-1ubuntu1~20.04) 10.5.0 Debian 12 with MUSDK Kernel: Depends on container host Compiler: gcc (Debian 12.2.0-14) 12.2.0 Fedora 40 (ARM) Kernel: Depends on container host Compiler: gcc 14.2.1 20240912 (Red Hat 14.2.1-3) Fedora 40 (ARM Clang) Kernel: Depends on container host Compiler: clang 18.1.8 (Fedora 18.1.8-1.fc40) Fedora 41 (ARM) Kernel: Depends on container host Compiler: gcc 14.2.1 20240912 (Red Hat 14.2.1-3) Fedora 41 (ARM Clang) Kernel: Depends on container host Compiler: clang 19.1.5 (Fedora 19.1.5-1.fc41) Ubuntu 20.04 (ARM) Kernel: Depends on container host Compiler: gcc (Ubuntu 9.4.0-1ubuntu1~20.04.2) 9.4.0 Ubuntu 24.04 (ARM) Kernel: Depends on container host Compiler: gcc (Ubuntu 13.3.0-6ubuntu2~24.04) 13.3.0 Ubuntu 22.04 (ARM) Kernel: Depends on container host Compiler: gcc (Ubuntu 11.4.0-1ubuntu1~22.04) 11.4.0 CentOS Stream 9 (ARM) Kernel: Depends on container host Compiler: gcc 11.5.0 20240719 (Red Hat 11.5.0-2) CentOS Stream 10 (ARM) Kernel: Depends on container host Compiler: gcc 14.2.1 20241104 (Red Hat 14.2.1-6) Debian 12 (arm) Kernel: Depends on container host Compiler: gcc (Debian 12.2.0-14) 12.2.0 To view detailed results, visit: https://lab.dpdk.org/results/dashboard/tarballs/33578/ UNH-IOL DPDK Community Lab To manage your email subscriptions, visit: https://lab.dpdk.org/results/dashboard/preferences/subscriptions/