From mboxrd@z Thu Jan 1 00:00:00 1970 Return-Path: Received: from mails.dpdk.org (mails.dpdk.org [217.70.189.124]) by inbox.dpdk.org (Postfix) with ESMTP id 942784678D for ; Mon, 19 May 2025 12:09:29 +0200 (CEST) Received: from mails.dpdk.org (localhost [127.0.0.1]) by mails.dpdk.org (Postfix) with ESMTP id 6DCCD402AC; Mon, 19 May 2025 12:09:29 +0200 (CEST) Received: from mail-pf1-f227.google.com (mail-pf1-f227.google.com [209.85.210.227]) by mails.dpdk.org (Postfix) with ESMTP id 3C31E40276 for ; Mon, 19 May 2025 12:09:28 +0200 (CEST) Received: by mail-pf1-f227.google.com with SMTP id d2e1a72fcca58-73bf5aa95e7so3736220b3a.1 for ; Mon, 19 May 2025 03:09:28 -0700 (PDT) DKIM-Signature: v=1; a=rsa-sha256; c=relaxed/relaxed; d=iol.unh.edu; s=unh-iol; t=1747649367; x=1748254167; darn=dpdk.org; h=references:in-reply-to:cc:to:from:subject:message-id:date:from:to :cc:subject:date:message-id:reply-to; bh=YEEUy092e3qkpDBRw82EuYi80Wq+l5jcqAZce6WWJmE=; b=ODx304S4juYlESA9SpfGBTqS5bH6wkLtPplS7nEtWGJRpH6DFwkdS/wOe7YklD5oQU PSqgCvJ3kcctTQsqKir1E2wTpWJVX76YUUdwWm+dDqSgVRi3ck5NKE5Y61cvuqq6AMus ToE2H4N9QqG6tKBJrgimzQuX6/t0GXzSrlqGY= X-Google-DKIM-Signature: v=1; a=rsa-sha256; c=relaxed/relaxed; d=1e100.net; s=20230601; t=1747649367; x=1748254167; h=references:in-reply-to:cc:to:from:subject:message-id:date :x-gm-message-state:from:to:cc:subject:date:message-id:reply-to; bh=YEEUy092e3qkpDBRw82EuYi80Wq+l5jcqAZce6WWJmE=; b=GULX/ujwXUAZoH4dYDu6fXNofz+1D6fOwUcUvTR+ax0WOcoKM30Vu1k5aDwvZ8XaNI mKZ2xZcgXJgzf5pwkijqQ0L5SRZk+XnzNB97jaV/GKw+PMGR0EMjRICgfgzXPXk0f0WL T530vgYs5LleiMQWLug/yAsF8P3m7PqV3J39po/9r/W4tqf1f6uw+uTCtVnsO6C3jL9Q /HgNi6X0qfregg0qzIy4z8f+Rpt4LkzzfwMw+D4IaANCUpFwurcX6f6wPHz3EfYqRiI3 CoOnN7cGUZo9zAirNIA7EMGiq9GlqSpUB7d3eDLjeWA5MnVYEM+NxlvwJbQ7+N1caddc vtZg== X-Gm-Message-State: AOJu0YyZ0YOObaeJBeybguEmKtUuQmcj/J2Iun5OIEMXONU4UQnOG0uI N3j0pJZpejXX+oD0HYMJ3z9JMbpguKzLSkiuKmjZFzCOP+lgCIglFEm2yuko6e9IjSzPDF2IH2G 7MTVsXBK14w8QEMEPQX/LIGxfwYBCpXk6fVaWYfCt1cISWsDcdbwkeSq9I0hq X-Gm-Gg: ASbGnctGm5tLf1jL6w/+LGoESLKaxR6X3hMyYh0NRGOKADi3ExBWb3tUdyqn+XYDI8W QGqmQikrFuZ/nAy6ABpxGyZS9kgrbg1kCQN5kt6gP3QW3hdjYYv4VTDfvWX7dklkMqnHw3j23Le gINZ72OfQg4xsvb1rB+iFXG/uFxU8xtIoddpX9ajCTCMfytdy9oVW+lpmF1tKA3MMj/ZN3vletH KEn+vEBoCSq7YvrfXp6h7R51Reg/wHkRY6POrkds3LYnneZw2TsDGhmM3wXrOaEMg1YEz7Dk9UZ W7ShjQsk7qHCNbMcodyfWZCGnyI9eQDoesJf X-Google-Smtp-Source: AGHT+IFWRir5uTHlgcdYhUMUTo5b8vWDPbgB+yBhenmR7JA+hObKx3roTt300ZxJLd7wlqsaMlFgAeM2xjEq X-Received: by 2002:a05:6a00:2e19:b0:740:9abe:4d94 with SMTP id d2e1a72fcca58-742a98b7efdmr17625023b3a.21.1747649367242; Mon, 19 May 2025 03:09:27 -0700 (PDT) Received: from postal.iol.unh.edu (postal.iol.unh.edu. [2606:4100:3880:1234::84]) by smtp-relay.gmail.com with ESMTPS id d2e1a72fcca58-742a9769520sm424165b3a.12.2025.05.19.03.09.27 (version=TLS1_2 cipher=ECDHE-ECDSA-AES128-GCM-SHA256 bits=128/128); Mon, 19 May 2025 03:09:27 -0700 (PDT) X-Relaying-Domain: iol.unh.edu Date: Mon, 19 May 2025 03:09:27 -0700 (PDT) Message-ID: <682b0357.050a0220.247cdd.61e9SMTPIN_ADDED_MISSING@mx.google.com> Received: from [172.17.0.2] (unknown [172.18.0.76]) by postal.iol.unh.edu (Postfix) with ESMTP id 576E46052471; Mon, 19 May 2025 06:09:26 -0400 (EDT) Subject: |SUCCESS| pw153510 [PATCH] app/testpmd: fix random flow item token From: dpdklab@iol.unh.edu To: Test Report Cc: dpdk-test-reports@iol.unh.edu In-Reply-To: <20250519063045.394353-1-getelson@nvidia.com> References: <20250519063045.394353-1-getelson@nvidia.com> Content-Type: text/plain X-BeenThere: test-report@dpdk.org X-Mailman-Version: 2.1.29 Precedence: list List-Id: automatic DPDK test reports List-Unsubscribe: , List-Archive: List-Post: List-Help: List-Subscribe: , Errors-To: test-report-bounces@dpdk.org Test-Label: iol-compile-arm64-testing Test-Status: SUCCESS http://dpdk.org/patch/153510 _Testing PASS_ Submitter: Gregory Etelson Date: Monday, May 19 2025 06:30:45 DPDK git baseline: Repo:dpdk Branch: master CommitID:ff05ee3e3f8fb4ce958a2ce6461e8141aea959c6 153510 --> testing pass Upstream job id: Generic-DPDK-Compile-Meson#389414 Test environment and result as below: +----------------------------------------+--------------------+ | Environment | dpdk_meson_compile | +========================================+====================+ | RHEL9 (ARM) | PASS | +----------------------------------------+--------------------+ | Ubuntu 20.04 ARM GCC Cross Compile | PASS | +----------------------------------------+--------------------+ | Fedora 40 (ARM) | PASS | +----------------------------------------+--------------------+ | Ubuntu 20.04 ARM SVE | PASS | +----------------------------------------+--------------------+ | Debian 12 with MUSDK | PASS | +----------------------------------------+--------------------+ | Fedora 41 (ARM Clang) | PASS | +----------------------------------------+--------------------+ | Fedora 40 (ARM Clang) | PASS | +----------------------------------------+--------------------+ | Fedora 41 (ARM) | PASS | +----------------------------------------+--------------------+ | Ubuntu 22.04 (ARM) | PASS | +----------------------------------------+--------------------+ | Ubuntu 24.04 (ARM) | PASS | +----------------------------------------+--------------------+ | Ubuntu 20.04 (ARM) | PASS | +----------------------------------------+--------------------+ | CentOS Stream 9 (ARM) | PASS | +----------------------------------------+--------------------+ | Debian 12 (arm) | PASS | +----------------------------------------+--------------------+ | CentOS Stream 10 (ARM) | PASS | +----------------------------------------+--------------------+ | Ubuntu 20.04 aarch32 GCC Cross Compile | PASS | +----------------------------------------+--------------------+ | Ubuntu 20.04 ARM Clang Cross Compile | PASS | +----------------------------------------+--------------------+ RHEL9 (ARM) Kernel: Depends on container host Compiler: gcc 11.5.0 20240719 (Red Hat 11.5.0-2) Ubuntu 20.04 ARM GCC Cross Compile Kernel: Depends on container host Compiler: aarch64-linux-gnu-gcc (Ubuntu 9.4.0-1ubuntu1~20.04.2) 9.4.0 Fedora 40 (ARM) Kernel: Depends on container host Compiler: gcc 14.2.1 20240912 (Red Hat 14.2.1-3) Ubuntu 20.04 ARM SVE Kernel: Depends on container host Compiler: gcc (Ubuntu 10.5.0-1ubuntu1~20.04) 10.5.0 Debian 12 with MUSDK Kernel: Depends on container host Compiler: gcc (Debian 12.2.0-14) 12.2.0 Fedora 41 (ARM Clang) Kernel: Depends on container host Compiler: clang 19.1.5 (Fedora 19.1.5-1.fc41) Fedora 40 (ARM Clang) Kernel: Depends on container host Compiler: clang 18.1.8 (Fedora 18.1.8-1.fc40) Fedora 41 (ARM) Kernel: Depends on container host Compiler: gcc 14.2.1 20240912 (Red Hat 14.2.1-3) Ubuntu 22.04 (ARM) Kernel: Depends on container host Compiler: gcc (Ubuntu 11.4.0-1ubuntu1~22.04) 11.4.0 Ubuntu 24.04 (ARM) Kernel: Depends on container host Compiler: gcc (Ubuntu 13.3.0-6ubuntu2~24.04) 13.3.0 Ubuntu 20.04 (ARM) Kernel: Depends on container host Compiler: gcc (Ubuntu 9.4.0-1ubuntu1~20.04.2) 9.4.0 CentOS Stream 9 (ARM) Kernel: Depends on container host Compiler: gcc 11.5.0 20240719 (Red Hat 11.5.0-2) Debian 12 (arm) Kernel: Depends on container host Compiler: gcc (Debian 12.2.0-14) 12.2.0 CentOS Stream 10 (ARM) Kernel: Depends on container host Compiler: gcc 14.2.1 20241104 (Red Hat 14.2.1-6) Ubuntu 20.04 aarch32 GCC Cross Compile Kernel: Depends on container host Compiler: gcc 9.4.0 Ubuntu 20.04 ARM Clang Cross Compile Kernel: Depends on container host Compiler: clang 10.0.0-4ubuntu1 To view detailed results, visit: https://lab.dpdk.org/results/dashboard/patchsets/33204/ UNH-IOL DPDK Community Lab To manage your email subscriptions, visit: https://lab.dpdk.org/results/dashboard/preferences/subscriptions/