From mboxrd@z Thu Jan 1 00:00:00 1970 Return-Path: Received: from mails.dpdk.org (mails.dpdk.org [217.70.189.124]) by inbox.dpdk.org (Postfix) with ESMTP id 2BAB746793 for ; Mon, 19 May 2025 20:04:51 +0200 (CEST) Received: from mails.dpdk.org (localhost [127.0.0.1]) by mails.dpdk.org (Postfix) with ESMTP id E870040651; Mon, 19 May 2025 20:04:50 +0200 (CEST) Received: from mail-io1-f99.google.com (mail-io1-f99.google.com [209.85.166.99]) by mails.dpdk.org (Postfix) with ESMTP id 966D140612 for ; Mon, 19 May 2025 20:04:49 +0200 (CEST) Received: by mail-io1-f99.google.com with SMTP id ca18e2360f4ac-86135d11760so390093439f.2 for ; Mon, 19 May 2025 11:04:49 -0700 (PDT) DKIM-Signature: v=1; a=rsa-sha256; c=relaxed/relaxed; d=iol.unh.edu; s=unh-iol; t=1747677889; x=1748282689; darn=dpdk.org; h=references:in-reply-to:cc:to:from:subject:message-id:date:from:to :cc:subject:date:message-id:reply-to; bh=I4IW9c79mHS7HG0jkxBOcIqmEYibetvPouMyq6ToDHc=; b=RlQ0iAlKDpVB2Bfta5Eiitx9z8Z+/8p8Sz2JleFC9rOE3WlFFZ/jQTzCul6jP/fqPW 26tSnVBfjGUwHJqurR9/AVht27H6Lsh4ABS+PZdGEncvEoV4c9B74tAEjBFzibSvESmZ aveBLTvlhL9P8PdsZeYkYdSoxDKUBsxTXWil8= X-Google-DKIM-Signature: v=1; a=rsa-sha256; c=relaxed/relaxed; d=1e100.net; s=20230601; t=1747677889; x=1748282689; h=references:in-reply-to:cc:to:from:subject:message-id:date :x-gm-message-state:from:to:cc:subject:date:message-id:reply-to; bh=I4IW9c79mHS7HG0jkxBOcIqmEYibetvPouMyq6ToDHc=; b=so5mypqtq96i7A6IJNl43KzlT0bS2UwphhFJhCw6HJAv5dP1eiGQRm24xkM3zfCMx0 UKFjF3bNuSmsz3f4G8tU5lcltOjk7GOdaDDdXH9k3M8N+N7ABeKSLwXMyHM81TNw7VsG w5KaaVzl1JrzARkB4uLcFMP0AnHOpcUyyPJxCVVuzkspyZiCkAOLeupHO782P5w4yE8I BqXQllnWEMRSRj5roItczTa3nFde42zRwGD6I5oO04pIlyB1Y61MI2vRlqycmyvvLEt7 uCgzKqMnHpdy4C+1fa+t1iGjPlq/x2RsSUrbUr89luU+OrofoMufk5f2MPMaBh7kIm0h QbnA== X-Gm-Message-State: AOJu0YzGPWDVimmhFXDRwyyG48GqBXyvsjxT1iXWsQgVZuDPPo7oipj4 7wm5cWEOBOZ0pW+NT3lhL9iK5q83u1KAIzPUxDvSn3pmoRQN8rh8U2OAX4o7/DwQbyS1hyGqUh5 IP+wzbva7+EkGryIp8k0M1QISwerdpG7VvbPsyQUeR56S X-Gm-Gg: ASbGncu2A0B7GuC2lPOmWTg1Wm9iKFv4A2j3Q0KMVGOZjyYfTGDVwGWRbVNEWkANDvW VbWOr5Br4AZMUhNZ4zcx04qN0JPMM0tPPifIZ9rVDiIGhx1BP8u5uqyNFUB4b2EsG73I9JjtKsp lukwrKVXcQBmSoa/Ezu7gNA1nleb5z9ihf/zgfMcsouS8S+MJpMfKzA/2i02aNpw3AoKOTaONaU zgEQjlkP5IMGTCPCYcRUaRE0stbN7tBcqFuv8Nr0FOwAPwYcopNfHgEfPhKSuoVnskmel98KCRm NsU2NYIVKfkj0W/Y4eUZlTWN1RX7SbKzwux0uzArYSi6cb637QQqG0VRQvs= X-Google-Smtp-Source: AGHT+IF4KhTdHOtltybyRtbN/yppA8nEHK0oQnSpI45YgjgOb84v4DET21mBw82h3IqC1yenOeA56qJG8Grj X-Received: by 2002:a05:6e02:1c07:b0:3d3:f7ed:c903 with SMTP id e9e14a558f8ab-3db841c9b38mr138452685ab.0.1747677888676; Mon, 19 May 2025 11:04:48 -0700 (PDT) Received: from postal.iol.unh.edu (postal.iol.unh.edu. [132.177.123.84]) by smtp-relay.gmail.com with ESMTPS id e9e14a558f8ab-3dc62abe74esm1919685ab.35.2025.05.19.11.04.48 (version=TLS1_2 cipher=ECDHE-ECDSA-AES128-GCM-SHA256 bits=128/128); Mon, 19 May 2025 11:04:48 -0700 (PDT) X-Relaying-Domain: iol.unh.edu Date: Mon, 19 May 2025 11:04:48 -0700 (PDT) Message-ID: <682b72c0.050a0220.269165.9654SMTPIN_ADDED_MISSING@mx.google.com> Received: from [172.21.0.5] (unknown [172.18.0.240]) by postal.iol.unh.edu (Postfix) with ESMTP id 248666052471; Mon, 19 May 2025 14:04:48 -0400 (EDT) Subject: |SUCCESS| pw153503 [PATCH] [v4] eal/linux: skip vfio for non-privile From: dpdklab@iol.unh.edu To: Test Report Cc: dpdk-test-reports@iol.unh.edu In-Reply-To: <20250517083201.400-1-mosesyyoung@gmail.com> References: <20250517083201.400-1-mosesyyoung@gmail.com> Content-Type: text/plain X-BeenThere: test-report@dpdk.org X-Mailman-Version: 2.1.29 Precedence: list List-Id: automatic DPDK test reports List-Unsubscribe: , List-Archive: List-Post: List-Help: List-Subscribe: , Errors-To: test-report-bounces@dpdk.org Test-Label: iol-compile-arm64-testing Test-Status: SUCCESS http://dpdk.org/patch/153503 _Testing PASS_ Submitter: Yang Ming Date: Saturday, May 17 2025 08:32:01 DPDK git baseline: Repo:dpdk Branch: master CommitID:117e86c4b96ed761e9a7ab766261208fe81bf5ca 153503 --> testing pass Upstream job id: Generic-DPDK-Compile-Meson#389461 Test environment and result as below: +----------------------------------------+--------------------+ | Environment | dpdk_meson_compile | +========================================+====================+ | RHEL9 (ARM) | PASS | +----------------------------------------+--------------------+ | Ubuntu 20.04 ARM SVE | PASS | +----------------------------------------+--------------------+ | Debian 12 with MUSDK | PASS | +----------------------------------------+--------------------+ | Ubuntu 20.04 ARM GCC Cross Compile | PASS | +----------------------------------------+--------------------+ | Fedora 40 (ARM) | PASS | +----------------------------------------+--------------------+ | Fedora 40 (ARM Clang) | PASS | +----------------------------------------+--------------------+ | Fedora 41 (ARM) | PASS | +----------------------------------------+--------------------+ | Fedora 41 (ARM Clang) | PASS | +----------------------------------------+--------------------+ | Ubuntu 22.04 (ARM) | PASS | +----------------------------------------+--------------------+ | Ubuntu 24.04 (ARM) | PASS | +----------------------------------------+--------------------+ | CentOS Stream 9 (ARM) | PASS | +----------------------------------------+--------------------+ | CentOS Stream 10 (ARM) | PASS | +----------------------------------------+--------------------+ | Ubuntu 20.04 aarch32 GCC Cross Compile | PASS | +----------------------------------------+--------------------+ | Debian 12 (arm) | PASS | +----------------------------------------+--------------------+ | Ubuntu 20.04 ARM Clang Cross Compile | PASS | +----------------------------------------+--------------------+ | Ubuntu 20.04 (ARM) | PASS | +----------------------------------------+--------------------+ RHEL9 (ARM) Kernel: Depends on container host Compiler: gcc 11.5.0 20240719 (Red Hat 11.5.0-2) Ubuntu 20.04 ARM SVE Kernel: Depends on container host Compiler: gcc (Ubuntu 10.5.0-1ubuntu1~20.04) 10.5.0 Debian 12 with MUSDK Kernel: Depends on container host Compiler: gcc (Debian 12.2.0-14) 12.2.0 Ubuntu 20.04 ARM GCC Cross Compile Kernel: Depends on container host Compiler: aarch64-linux-gnu-gcc (Ubuntu 9.4.0-1ubuntu1~20.04.2) 9.4.0 Fedora 40 (ARM) Kernel: Depends on container host Compiler: gcc 14.2.1 20240912 (Red Hat 14.2.1-3) Fedora 40 (ARM Clang) Kernel: Depends on container host Compiler: clang 18.1.8 (Fedora 18.1.8-1.fc40) Fedora 41 (ARM) Kernel: Depends on container host Compiler: gcc 14.2.1 20240912 (Red Hat 14.2.1-3) Fedora 41 (ARM Clang) Kernel: Depends on container host Compiler: clang 19.1.5 (Fedora 19.1.5-1.fc41) Ubuntu 22.04 (ARM) Kernel: Depends on container host Compiler: gcc (Ubuntu 11.4.0-1ubuntu1~22.04) 11.4.0 Ubuntu 24.04 (ARM) Kernel: Depends on container host Compiler: gcc (Ubuntu 13.3.0-6ubuntu2~24.04) 13.3.0 CentOS Stream 9 (ARM) Kernel: Depends on container host Compiler: gcc 11.5.0 20240719 (Red Hat 11.5.0-2) CentOS Stream 10 (ARM) Kernel: Depends on container host Compiler: gcc 14.2.1 20241104 (Red Hat 14.2.1-6) Ubuntu 20.04 aarch32 GCC Cross Compile Kernel: Depends on container host Compiler: gcc 9.4.0 Debian 12 (arm) Kernel: Depends on container host Compiler: gcc (Debian 12.2.0-14) 12.2.0 Ubuntu 20.04 ARM Clang Cross Compile Kernel: Depends on container host Compiler: clang 10.0.0-4ubuntu1 Ubuntu 20.04 (ARM) Kernel: Depends on container host Compiler: gcc (Ubuntu 9.4.0-1ubuntu1~20.04.2) 9.4.0 To view detailed results, visit: https://lab.dpdk.org/results/dashboard/patchsets/33201/ UNH-IOL DPDK Community Lab To manage your email subscriptions, visit: https://lab.dpdk.org/results/dashboard/preferences/subscriptions/