From mboxrd@z Thu Jan 1 00:00:00 1970 Return-Path: Received: from mails.dpdk.org (mails.dpdk.org [217.70.189.124]) by inbox.dpdk.org (Postfix) with ESMTP id 7886046793 for ; Mon, 19 May 2025 20:40:33 +0200 (CEST) Received: from mails.dpdk.org (localhost [127.0.0.1]) by mails.dpdk.org (Postfix) with ESMTP id 7434F40651; Mon, 19 May 2025 20:40:33 +0200 (CEST) Received: from mail-io1-f100.google.com (mail-io1-f100.google.com [209.85.166.100]) by mails.dpdk.org (Postfix) with ESMTP id EC6FE40612 for ; Mon, 19 May 2025 20:40:31 +0200 (CEST) Received: by mail-io1-f100.google.com with SMTP id ca18e2360f4ac-85b3f92c8dfso171903839f.2 for ; Mon, 19 May 2025 11:40:31 -0700 (PDT) DKIM-Signature: v=1; a=rsa-sha256; c=relaxed/relaxed; d=iol.unh.edu; s=unh-iol; t=1747680031; x=1748284831; darn=dpdk.org; h=references:in-reply-to:cc:to:from:subject:message-id:date:from:to :cc:subject:date:message-id:reply-to; bh=ua+5PDeRinZWa/xAPtnng2oHZY5tK6h2P3d1jO3bOYw=; b=TXWcOuJxheTwU4qA68O82yf8AHcHW0s0w+MsAMyMiCi85z3Xz1k0/Y1mJwINuUycpH c9iEYnQrwwU3Cbrs95Va4UU4bjzdpG3k1gDM+MgoEFPW13MkoexbzaElDR/N31fO2kv7 CihdHgC/ALjOP6enchSznNOeuBRJAS+HuzbhU= X-Google-DKIM-Signature: v=1; a=rsa-sha256; c=relaxed/relaxed; d=1e100.net; s=20230601; t=1747680031; x=1748284831; h=references:in-reply-to:cc:to:from:subject:message-id:date :x-gm-message-state:from:to:cc:subject:date:message-id:reply-to; bh=ua+5PDeRinZWa/xAPtnng2oHZY5tK6h2P3d1jO3bOYw=; b=Ule5z/1nzbrjDsviArirLZNl1yZSV+Y1cvdFrhGtN8JkpO01qeRzP9MxZLZrYwePsE PDrLBpNvLyStw7tCuCKrSVNrkb3Mvn1iv0KBPNKG22jo9Cv6nkdw5XfkuRW2nUfpLNYn +IhenGLbiVvjPbS5gqi7hg4C2KgcM71hv2ulccxJw2J5UCqAhs7V05+zdE4mXAzcbqDQ ZdRgXv0W/juTFR50kQE0lYd70Sc7T4RJ8xiqcp598QuBgzHM6pOZZoVdxtis6CTDJgj2 fefFmBPlXykCVQt9GTJq6setl69Sfj/T7I8+1zq1aO1hkTjdj2wwaXEPWXIgSvBDr/sZ 3gOA== X-Gm-Message-State: AOJu0YyjCQk7x0YOcAS2pNg4RqB1VAcSiH6dDR1iY5hR9VVwlEZ7cJP3 GF82VeZjfFJbRM9oPqGTc/wGlJi9NejzhiZB8aNd2qC9lIO1uAA0bGMcODJtKvFcEsqqn2iDfu6 W0WybiV8aPyLNuJTJ0xwgp/1FkG6RToMf9f4nRbt50y/5 X-Gm-Gg: ASbGncsMkYvvFr9lga935T6uTdSNqnaNKw1RTy8ptJ+ZHJ0UjgbeQytjPcEj+S0ZEZM z2QROg++jTuP5KvmZRTK8mSm+rl2GAZ3Oyl5fPs1wSU9e5sb1fFyWYk6yrBrJ5CVBf18VU47Y1L dQZ5x4Bo4LSap/aSboCmY78+Nz3NeAs80a/sOhZygSbrIFk3p3k6z0EHR4bXkvhi+wWMXLPPPxe STV1WDK6ONuxFjGTsxi7ispl5sThRcM9am4N5UEDG433M8bP6Ns6f+7eac5RWanOUCumEwW/8Qf vn4k+Z/h0PUYG4aUJWhRg+mg4rLCW6sIFFwnIkyng0Nb8btGv5uIHwX4xzU= X-Google-Smtp-Source: AGHT+IFEO1Yduh4Zc0BlMjoxNE1+KaoVNhWDqJSBCTSjqJ/LZfFZ4NI6m25j1sjbYapL5ZhzgHHPTtT2g9l6 X-Received: by 2002:a05:6602:3e8a:b0:86a:870:67b with SMTP id ca18e2360f4ac-86a2319732bmr2111864039f.4.1747680031184; Mon, 19 May 2025 11:40:31 -0700 (PDT) Received: from postal.iol.unh.edu (postal.iol.unh.edu. [132.177.123.84]) by smtp-relay.gmail.com with ESMTPS id ca18e2360f4ac-86a237a1869sm36006439f.30.2025.05.19.11.40.31 (version=TLS1_2 cipher=ECDHE-ECDSA-AES128-GCM-SHA256 bits=128/128); Mon, 19 May 2025 11:40:31 -0700 (PDT) X-Relaying-Domain: iol.unh.edu Date: Mon, 19 May 2025 11:40:31 -0700 (PDT) Message-ID: <682b7b1f.050a0220.26576b.4791SMTPIN_ADDED_MISSING@mx.google.com> Received: from [172.17.0.2] (unknown [172.18.0.75]) by postal.iol.unh.edu (Postfix) with ESMTP id A25866052471; Mon, 19 May 2025 14:40:30 -0400 (EDT) Subject: |SUCCESS| pw153507-153509 [PATCH] [3/3] bitset: promote API stable From: dpdklab@iol.unh.edu To: Test Report Cc: dpdk-test-reports@iol.unh.edu In-Reply-To: <20250518080556.675092-3-mattias.ronnblom@ericsson.com> References: <20250518080556.675092-3-mattias.ronnblom@ericsson.com> Content-Type: text/plain X-BeenThere: test-report@dpdk.org X-Mailman-Version: 2.1.29 Precedence: list List-Id: automatic DPDK test reports List-Unsubscribe: , List-Archive: List-Post: List-Help: List-Subscribe: , Errors-To: test-report-bounces@dpdk.org Test-Label: iol-compile-amd64-testing Test-Status: SUCCESS http://dpdk.org/patch/153509 _Testing PASS_ Submitter: Mattias Ronnblom Date: Sunday, May 18 2025 08:05:56 DPDK git baseline: Repo:dpdk Branch: master CommitID:117e86c4b96ed761e9a7ab766261208fe81bf5ca 153507-153509 --> testing pass Upstream job id: Generic-DPDK-Compile-Meson#389463 Test environment and result as below: +-----------------------------------+--------------------+-------------------+------------------+-------------------------+-------------------+----------------------+ | Environment | dpdk_meson_compile | dpdk_compile_spdk | dpdk_compile_ovs | dpdk_llvm_clang_compile | dpdk_msvc_compile | dpdk_mingw64_compile | +===================================+====================+===================+==================+=========================+===================+======================+ | CentOS Stream 9 | PASS | PASS | SKIPPED | SKIPPED | SKIPPED | SKIPPED | +-----------------------------------+--------------------+-------------------+------------------+-------------------------+-------------------+----------------------+ | Debian 12 | PASS | PASS | SKIPPED | SKIPPED | SKIPPED | SKIPPED | +-----------------------------------+--------------------+-------------------+------------------+-------------------------+-------------------+----------------------+ | CentOS Stream 10 | PASS | SKIPPED | SKIPPED | SKIPPED | SKIPPED | SKIPPED | +-----------------------------------+--------------------+-------------------+------------------+-------------------------+-------------------+----------------------+ | Fedora 40 (Clang) | PASS | PASS | SKIPPED | SKIPPED | SKIPPED | SKIPPED | +-----------------------------------+--------------------+-------------------+------------------+-------------------------+-------------------+----------------------+ | Fedora 41 | PASS | PASS | PASS | SKIPPED | SKIPPED | SKIPPED | +-----------------------------------+--------------------+-------------------+------------------+-------------------------+-------------------+----------------------+ | Fedora 41 (Clang) | PASS | PASS | PASS | SKIPPED | SKIPPED | SKIPPED | +-----------------------------------+--------------------+-------------------+------------------+-------------------------+-------------------+----------------------+ | Ubuntu 22.04 | PASS | PASS | SKIPPED | SKIPPED | SKIPPED | SKIPPED | +-----------------------------------+--------------------+-------------------+------------------+-------------------------+-------------------+----------------------+ | RHEL9 | PASS | SKIPPED | SKIPPED | SKIPPED | SKIPPED | SKIPPED | +-----------------------------------+--------------------+-------------------+------------------+-------------------------+-------------------+----------------------+ | RHEL8 | PASS | SKIPPED | SKIPPED | SKIPPED | SKIPPED | SKIPPED | +-----------------------------------+--------------------+-------------------+------------------+-------------------------+-------------------+----------------------+ | Ubuntu 20.04 | PASS | SKIPPED | SKIPPED | SKIPPED | SKIPPED | SKIPPED | +-----------------------------------+--------------------+-------------------+------------------+-------------------------+-------------------+----------------------+ | openSUSE Leap 15 | PASS | SKIPPED | SKIPPED | SKIPPED | SKIPPED | SKIPPED | +-----------------------------------+--------------------+-------------------+------------------+-------------------------+-------------------+----------------------+ | Ubuntu 24.04 | PASS | PASS | PASS | SKIPPED | SKIPPED | SKIPPED | +-----------------------------------+--------------------+-------------------+------------------+-------------------------+-------------------+----------------------+ | Alpine | PASS | SKIPPED | SKIPPED | SKIPPED | SKIPPED | SKIPPED | +-----------------------------------+--------------------+-------------------+------------------+-------------------------+-------------------+----------------------+ | Ubuntu 24.04 32 Bit Cross Compile | PASS | SKIPPED | SKIPPED | SKIPPED | SKIPPED | SKIPPED | +-----------------------------------+--------------------+-------------------+------------------+-------------------------+-------------------+----------------------+ | FreeBSD 13.5 | PASS | SKIPPED | SKIPPED | SKIPPED | SKIPPED | SKIPPED | +-----------------------------------+--------------------+-------------------+------------------+-------------------------+-------------------+----------------------+ | FreeBSD 14.2 | PASS | SKIPPED | SKIPPED | SKIPPED | SKIPPED | SKIPPED | +-----------------------------------+--------------------+-------------------+------------------+-------------------------+-------------------+----------------------+ | Fedora 40 | PASS | PASS | SKIPPED | SKIPPED | SKIPPED | SKIPPED | +-----------------------------------+--------------------+-------------------+------------------+-------------------------+-------------------+----------------------+ | Windows Server 2022 | SKIPPED | SKIPPED | SKIPPED | PASS | PASS | PASS | +-----------------------------------+--------------------+-------------------+------------------+-------------------------+-------------------+----------------------+ CentOS Stream 9 Kernel: Depends on container host Compiler: gcc 11.5.0 20240719 (Red Hat 11.5.0-2) Debian 12 Kernel: Depends on container host Compiler: gcc (Debian 12.2.0-14) 12.2.0 CentOS Stream 10 Kernel: Depends on container host Compiler: gcc 14.2.1 20241104 (Red Hat 14.2.1-6) Fedora 40 (Clang) Kernel: Depends on container host Compiler: clang 18.1.8 (Fedora 18.1.8-1.fc40) Fedora 41 Kernel: Depends on container host Compiler: gcc 14.2.1 20240912 (Red Hat 14.2.1-3) Fedora 41 (Clang) Kernel: Depends on container host Compiler: clang 19.1.5 (Fedora 19.1.5-1.fc41) Ubuntu 22.04 Kernel: Depends on container host Compiler: gcc (Ubuntu 11.4.0-1ubuntu1~22.04) 11.4.0 RHEL9 Kernel: Depends on container host Compiler: gcc 11.5.0 20240719 (Red Hat 11.5.0-2) RHEL8 Kernel: Depends on container host Compiler: gcc 8.5.0 20210514 (Red Hat 8.5.0-22) Ubuntu 20.04 Kernel: Depends on container host Compiler: gcc (Ubuntu 9.4.0-1ubuntu1~20.04.2) 9.4.0 openSUSE Leap 15 Kernel: Depends on container host Compiler: gcc (SUSE Linux) 7.5.0 Ubuntu 24.04 Kernel: Depends on container host Compiler: gcc (Ubuntu 13.3.0-6ubuntu2~24.04) 13.3.0 Alpine Kernel: Depends on container host Compiler: gcc (Alpine 14.2.0) 14.2.0 Ubuntu 24.04 32 Bit Cross Compile Kernel: Depends on container host Compiler: gcc (Ubuntu 13.3.0-6ubuntu2~24.04) 13.3.0 FreeBSD 13.5 Kernel: 13.5-RELEASE Compiler: clang 19.1.7 FreeBSD 14.2 Kernel: 14.2-RELEASE Compiler: clang 18.1.6 Fedora 40 Kernel: Depends on container host Compiler: gcc 14.2.1 20240912 (Red Hat 14.2.1-3) Windows Server 2022 Kernel: 10.0.20348.2031 Compiler: clang 15.0.7, gcc 14.1.0 (MinGW), and MSVC VS 19.39.33521 To view detailed results, visit: https://lab.dpdk.org/results/dashboard/patchsets/33203/ UNH-IOL DPDK Community Lab To manage your email subscriptions, visit: https://lab.dpdk.org/results/dashboard/preferences/subscriptions/