From mboxrd@z Thu Jan 1 00:00:00 1970 Return-Path: Received: from mails.dpdk.org (mails.dpdk.org [217.70.189.124]) by inbox.dpdk.org (Postfix) with ESMTP id C7D0646793 for ; Mon, 19 May 2025 20:55:06 +0200 (CEST) Received: from mails.dpdk.org (localhost [127.0.0.1]) by mails.dpdk.org (Postfix) with ESMTP id C3DFD40651; Mon, 19 May 2025 20:55:06 +0200 (CEST) Received: from mail-pg1-f226.google.com (mail-pg1-f226.google.com [209.85.215.226]) by mails.dpdk.org (Postfix) with ESMTP id CC79E40612 for ; Mon, 19 May 2025 20:55:05 +0200 (CEST) Received: by mail-pg1-f226.google.com with SMTP id 41be03b00d2f7-b26ee6be1ecso2361458a12.0 for ; Mon, 19 May 2025 11:55:05 -0700 (PDT) DKIM-Signature: v=1; a=rsa-sha256; c=relaxed/relaxed; d=iol.unh.edu; s=unh-iol; t=1747680904; x=1748285704; darn=dpdk.org; h=references:in-reply-to:cc:to:from:subject:message-id:date:from:to :cc:subject:date:message-id:reply-to; bh=fRPstHx8ztazmVdCXe+ApqzJWSIGfAvZQcL28asQTnc=; b=SMIm4JaIGF1eVtTi8ECEsPdoW5ED1lbC8NatyyjoaH42uXR/gAH3rJg9jMd0E4mqxx LW1KPEjnpggrxK0O93MToVNLhcFS+b4vAmtzbfGBlBdnbYF14gGE4UcJC7JFDKIu+Um2 kIgEsFIpLE43nU3xe4xw/BRgAL+2mQbRGgg5w= X-Google-DKIM-Signature: v=1; a=rsa-sha256; c=relaxed/relaxed; d=1e100.net; s=20230601; t=1747680904; x=1748285704; h=references:in-reply-to:cc:to:from:subject:message-id:date :x-gm-message-state:from:to:cc:subject:date:message-id:reply-to; bh=fRPstHx8ztazmVdCXe+ApqzJWSIGfAvZQcL28asQTnc=; b=O7OjrsMVJm+W9VtV14eHRk8YGTRKGLeFHmrGq+lZR2BOQaJniTLVqFpzgVYCHLw3tV lVjjj2YP9MvUZ5wwNct4Eh4M0dP6M+w6V7MG2JOKUzUFU8ei3HiiUztP/zhWe92LCSxm cc2598GsLcpYuBJuuh4vX+fK0d4eP42LQJsedOUBGOV0NMkAC8jvnOasG6F4NkRNJRTP 7SynZWAi5bQyDCm7WWql7S6oSRcAR2l6r3FSVvQ6NsyYhjnfrFEPMynQXfUR8im+16WN SSuQf4h6mO+ggR/3o5hgMYHqG2dygdizwkl5yhPV3U+N/KnqzPrRc0AE+whGj7JnlJWD SlXw== X-Gm-Message-State: AOJu0Yxt4ocd4L7wfqWOf+3UqDHsZ6VBl/HTbbKtTElRNFaIJND7a1mZ 2xKE4tUx1dMGLzbeqz9N/NS5DoPQP/F8fPm8hAkS2KM7QOz4ZEtJXVfn4s+VwC3oesZJOi5mnuM wiXiRZ9cu7wnPnSh/o03G2n3/1FJlm74UXq3yN2yd84V1 X-Gm-Gg: ASbGnct8xMImGKwzDM86NVf2euJ8B+zg0cLy2kQM3RgGeTf3VbO6dZFtY5ehlqYYeD3 2rJxizbwZtTycJniWhTJ6KY7Z2hgFghl4BHm6U+CfBMso9/JGFdrQgtfFsreIgzurNtD0BvZWPv AMdTFZE7PyjuOWsgTz4k/hgEVjw/6qZS4mRPkL7653o/obwmInZBTsExswJnv5BdJfVENKp1oFN Zjc8rvQXjwCW3Mw23XcXyZJo5L6jfp5XzDbDRC8oAkjerPwoKJW7eGkxA4LBkrlOFkmFvqxahoo DBbb2guqiZVP/BEJbAX8Rhdk7lC0w2VozwCTsIwRdgXwIj0brm90BM0mSzk= X-Google-Smtp-Source: AGHT+IHRVuqC6zTh/lIA64OiICL/GUYzXfb7jRoGFGqvLKijyKwroAc1gdvpXpA/5v6x0xTuhdZyxq82Yl8S X-Received: by 2002:a17:902:ce8f:b0:223:fdac:2e4 with SMTP id d9443c01a7336-231de3515a6mr171728345ad.1.1747680904547; Mon, 19 May 2025 11:55:04 -0700 (PDT) Received: from postal.iol.unh.edu (postal.iol.unh.edu. [132.177.123.84]) by smtp-relay.gmail.com with ESMTPS id d9443c01a7336-231ea685169sm3663305ad.28.2025.05.19.11.55.04 (version=TLS1_2 cipher=ECDHE-ECDSA-AES128-GCM-SHA256 bits=128/128); Mon, 19 May 2025 11:55:04 -0700 (PDT) X-Relaying-Domain: iol.unh.edu Date: Mon, 19 May 2025 11:55:04 -0700 (PDT) Message-ID: <682b7e88.170a0220.165f38.438aSMTPIN_ADDED_MISSING@mx.google.com> Received: from [172.21.0.5] (unknown [172.18.0.240]) by postal.iol.unh.edu (Postfix) with ESMTP id 01A586052471; Mon, 19 May 2025 14:55:03 -0400 (EDT) Subject: |SUCCESS| pw153517-153518 [PATCH] [2/2] app/testpmd: clear stale int From: dpdklab@iol.unh.edu To: Test Report Cc: dpdk-test-reports@iol.unh.edu In-Reply-To: <20250519160711.4024414-2-skori@marvell.com> References: <20250519160711.4024414-2-skori@marvell.com> Content-Type: text/plain X-BeenThere: test-report@dpdk.org X-Mailman-Version: 2.1.29 Precedence: list List-Id: automatic DPDK test reports List-Unsubscribe: , List-Archive: List-Post: List-Help: List-Subscribe: , Errors-To: test-report-bounces@dpdk.org Test-Label: iol-unit-amd64-testing Test-Status: SUCCESS http://dpdk.org/patch/153518 _Testing PASS_ Submitter: Sunil Kumar Kori Date: Monday, May 19 2025 16:06:56 DPDK git baseline: Repo:dpdk Branch: master CommitID:ff05ee3e3f8fb4ce958a2ce6461e8141aea959c6 153517-153518 --> testing pass Upstream job id: Generic-Unit-Test-DPDK#339070 Test environment and result as below: +---------------------+----------------+ | Environment | dpdk_unit_test | +=====================+================+ | CentOS Stream 10 | PASS | +---------------------+----------------+ | Debian 12 | PASS | +---------------------+----------------+ | CentOS Stream 9 | PASS | +---------------------+----------------+ | Fedora 40 | PASS | +---------------------+----------------+ | RHEL9 | PASS | +---------------------+----------------+ | Fedora 41 | PASS | +---------------------+----------------+ | Ubuntu 20.04 | PASS | +---------------------+----------------+ | Ubuntu 24.04 | PASS | +---------------------+----------------+ | RHEL8 | PASS | +---------------------+----------------+ | Ubuntu 22.04 | PASS | +---------------------+----------------+ | Fedora 41 (Clang) | PASS | +---------------------+----------------+ | Fedora 40 (Clang) | PASS | +---------------------+----------------+ | Windows Server 2022 | PASS | +---------------------+----------------+ CentOS Stream 10 Kernel: Depends on container host Compiler: gcc 14.2.1 20241104 (Red Hat 14.2.1-6) Debian 12 Kernel: Depends on container host Compiler: gcc (Debian 12.2.0-14) 12.2.0 CentOS Stream 9 Kernel: Depends on container host Compiler: gcc 11.5.0 20240719 (Red Hat 11.5.0-2) Fedora 40 Kernel: Depends on container host Compiler: gcc 14.2.1 20240912 (Red Hat 14.2.1-3) RHEL9 Kernel: Depends on container host Compiler: gcc 11.5.0 20240719 (Red Hat 11.5.0-2) Fedora 41 Kernel: Depends on container host Compiler: gcc 14.2.1 20240912 (Red Hat 14.2.1-3) Ubuntu 20.04 Kernel: Depends on container host Compiler: gcc (Ubuntu 9.4.0-1ubuntu1~20.04.2) 9.4.0 Ubuntu 24.04 Kernel: Depends on container host Compiler: gcc (Ubuntu 13.3.0-6ubuntu2~24.04) 13.3.0 RHEL8 Kernel: Depends on container host Compiler: gcc 8.5.0 20210514 (Red Hat 8.5.0-22) Ubuntu 22.04 Kernel: Depends on container host Compiler: gcc (Ubuntu 11.4.0-1ubuntu1~22.04) 11.4.0 Fedora 41 (Clang) Kernel: Depends on container host Compiler: clang 19.1.5 (Fedora 19.1.5-1.fc41) Fedora 40 (Clang) Kernel: Depends on container host Compiler: clang 18.1.8 (Fedora 18.1.8-1.fc40) Windows Server 2022 Kernel: 10.0.20348.2031 Compiler: clang 15.0.7, gcc 14.1.0 (MinGW), and MSVC VS 19.39.33521 To view detailed results, visit: https://lab.dpdk.org/results/dashboard/patchsets/33206/ UNH-IOL DPDK Community Lab To manage your email subscriptions, visit: https://lab.dpdk.org/results/dashboard/preferences/subscriptions/