From mboxrd@z Thu Jan 1 00:00:00 1970 Return-Path: Received: from mails.dpdk.org (mails.dpdk.org [217.70.189.124]) by inbox.dpdk.org (Postfix) with ESMTP id 541B546794 for ; Mon, 19 May 2025 22:40:55 +0200 (CEST) Received: from mails.dpdk.org (localhost [127.0.0.1]) by mails.dpdk.org (Postfix) with ESMTP id 2797740651; Mon, 19 May 2025 22:40:55 +0200 (CEST) Received: from mail-oa1-f98.google.com (mail-oa1-f98.google.com [209.85.160.98]) by mails.dpdk.org (Postfix) with ESMTP id B92F34060B for ; Mon, 19 May 2025 22:40:53 +0200 (CEST) Received: by mail-oa1-f98.google.com with SMTP id 586e51a60fabf-2cc89c59cc0so2082491fac.0 for ; Mon, 19 May 2025 13:40:53 -0700 (PDT) DKIM-Signature: v=1; a=rsa-sha256; c=relaxed/relaxed; d=iol.unh.edu; s=unh-iol; t=1747687253; x=1748292053; darn=dpdk.org; h=references:in-reply-to:cc:to:from:subject:message-id:date:from:to :cc:subject:date:message-id:reply-to; bh=E6FGzuDExmnDIZie4FsT5p6p9tTWKrRwhdGayWi3ORk=; b=WP1hDJ5d4y5VSEzPgTtYYdZAJX/q8HTHikMGCGtV7Cu8XF9dwU7/9B5eNxMB5cG+y6 9C0ybNhwvLJ38FO8frazkTUXxD8KKWbWzRtUnVu3jUB9rlp7t+Wrb8F0C8z1vW4Eurya 4UEhLDWntgRmh3edmiiIrQr4Jyen0Gb1iJ2xA= X-Google-DKIM-Signature: v=1; a=rsa-sha256; c=relaxed/relaxed; d=1e100.net; s=20230601; t=1747687253; x=1748292053; h=references:in-reply-to:cc:to:from:subject:message-id:date :x-gm-message-state:from:to:cc:subject:date:message-id:reply-to; bh=E6FGzuDExmnDIZie4FsT5p6p9tTWKrRwhdGayWi3ORk=; b=UfX84bAipD/XnXVcH68/kbbulCkdJzCS0OVNTJ17NmOPwgSuupHeWaMXKzb9HKlyLk lzhPJ3V9DPE75ZiyjhbDmhukkpjtD0FK8YEbPOWOgCuYrDYIyaZTcGZLCdC08vQhspTp teGZ8Wb9KRNdiynfGLnnNAelounntqipErlz3DAKXFHV8XTTHt15QL3pftDXeQCToPcj 0GhrHxs4QHOQuEs2v2FBrlcelfB2WQQbW1M0ONWUq85eqteLQKxdQKYaovFUWaJo3PcX PTr4ksRHXRw8oMNziA+nKNUDc+wXLkbKGI3H679JIdi6wWYjSRlZJEgHaLTUVouElPyT FVJA== X-Gm-Message-State: AOJu0YwUi/cEibG0DLiKLWWnYNspflFPSCaAe0kMJ6NG4qeC5gzIYwA9 GSl0VcTgnDEJB9VmzQEOiM2wjwq/8fkxY5QZnx9jSMMZYf4FXtRTEUoeG4ghq0uUWY1QLSN2PON 70GbsiaRIJs/wSZfqhldL1iab8pBJ2qsbJMIgyPon8q9CB3V4dJ7WclRqCNVB X-Gm-Gg: ASbGncs6hot8J+RLA04WGbLeQtzlk9U079AkbIwvymO9oeqnoJIZ9eYK185sEleU61u rHc3TPPTca44tOEzPLLddvJd8mo1I1DiIiQAc58zqL17Lcw3+RjDpGqYRUROK99QmbB5TN7UUmy tgs9/t4QN+wKjw9Su2bqPyRFTVCGSGmXtsGxMZNGbrqwDb+iNSQpOKsMGI3aQXIvF4PF77FDfnx /D7CeiX4wHtJznqCzSmXBPNEc2KNM8B31nk8qYdOV60uh/1frlywEmsiYLWpmmWe24Fd5iTv64M bZM6v41wCOgLt48EPT3njIVvFkmSB0btoMM/ X-Google-Smtp-Source: AGHT+IF4DxtRVxEOvlDjYiyKQQ8GYxVYgIgQF9VT3faYmCVUJi/675Jw1O9YNntuZClYps1OJdhNdaFvqoaq X-Received: by 2002:a05:6871:530c:b0:29f:bdf0:f0f5 with SMTP id 586e51a60fabf-2e39bfd175fmr11465980fac.17.1747687252772; Mon, 19 May 2025 13:40:52 -0700 (PDT) Received: from postal.iol.unh.edu (postal.iol.unh.edu. [2606:4100:3880:1234::84]) by smtp-relay.gmail.com with ESMTPS id 586e51a60fabf-2e3c0604c2bsm446084fac.5.2025.05.19.13.40.52 (version=TLS1_2 cipher=ECDHE-ECDSA-AES128-GCM-SHA256 bits=128/128); Mon, 19 May 2025 13:40:52 -0700 (PDT) X-Relaying-Domain: iol.unh.edu Date: Mon, 19 May 2025 13:40:52 -0700 (PDT) Message-ID: <682b9754.050a0220.385b33.a688SMTPIN_ADDED_MISSING@mx.google.com> Received: from [172.21.0.5] (unknown [172.18.0.240]) by postal.iol.unh.edu (Postfix) with ESMTP id D36A56052471; Mon, 19 May 2025 16:40:51 -0400 (EDT) Subject: |SUCCESS| pw153519-153520 [PATCH] [v1,2/2] dts: add jump and priorit From: dpdklab@iol.unh.edu To: Test Report Cc: dpdk-test-reports@iol.unh.edu In-Reply-To: <20250519181957.228084-2-dmarx@iol.unh.edu> References: <20250519181957.228084-2-dmarx@iol.unh.edu> Content-Type: text/plain X-BeenThere: test-report@dpdk.org X-Mailman-Version: 2.1.29 Precedence: list List-Id: automatic DPDK test reports List-Unsubscribe: , List-Archive: List-Post: List-Help: List-Subscribe: , Errors-To: test-report-bounces@dpdk.org Test-Label: iol-unit-arm64-testing Test-Status: SUCCESS http://dpdk.org/patch/153520 _Testing PASS_ Submitter: Dean Marx Date: Monday, May 19 2025 18:19:57 DPDK git baseline: Repo:dpdk Branch: master CommitID:1aef42bc97a31906486c9d66b792208948af06f3 153519-153520 --> testing pass Upstream job id: Generic-Unit-Test-DPDK#339111 Test environment and result as below: +-----------------------------+----------------+--------------+------------------------------+---------------------------+ | Environment | dpdk_unit_test | lpm_autotest | cryptodev_sw_snow3g_autotest | cryptodev_sw_zuc_autotest | +=============================+================+==============+==============================+===========================+ | CentOS Stream 9 (ARM) | PASS | SKIPPED | SKIPPED | SKIPPED | +-----------------------------+----------------+--------------+------------------------------+---------------------------+ | CentOS Stream 10 (ARM) | PASS | SKIPPED | SKIPPED | SKIPPED | +-----------------------------+----------------+--------------+------------------------------+---------------------------+ | Fedora 40 (ARM Clang) | PASS | SKIPPED | SKIPPED | SKIPPED | +-----------------------------+----------------+--------------+------------------------------+---------------------------+ | Debian 12 (arm) | PASS | SKIPPED | PASS | PASS | +-----------------------------+----------------+--------------+------------------------------+---------------------------+ | Fedora 40 (ARM) | PASS | SKIPPED | SKIPPED | SKIPPED | +-----------------------------+----------------+--------------+------------------------------+---------------------------+ | Fedora 41 (ARM Clang) | PASS | SKIPPED | SKIPPED | SKIPPED | +-----------------------------+----------------+--------------+------------------------------+---------------------------+ | Fedora 41 (ARM) | PASS | SKIPPED | SKIPPED | SKIPPED | +-----------------------------+----------------+--------------+------------------------------+---------------------------+ | RHEL9 (ARM) | PASS | SKIPPED | SKIPPED | SKIPPED | +-----------------------------+----------------+--------------+------------------------------+---------------------------+ | Ubuntu 20.04 (ARM) | PASS | SKIPPED | SKIPPED | SKIPPED | +-----------------------------+----------------+--------------+------------------------------+---------------------------+ | Ubuntu 24.04 (ARM) | PASS | SKIPPED | SKIPPED | SKIPPED | +-----------------------------+----------------+--------------+------------------------------+---------------------------+ | Ubuntu 22.04 (ARM) | PASS | SKIPPED | SKIPPED | SKIPPED | +-----------------------------+----------------+--------------+------------------------------+---------------------------+ | 32-bit Ubuntu 22.04.4 (ARM) | PASS | SKIPPED | SKIPPED | SKIPPED | +-----------------------------+----------------+--------------+------------------------------+---------------------------+ | Ubuntu 20.04 ARM SVE | SKIPPED | PASS | SKIPPED | SKIPPED | +-----------------------------+----------------+--------------+------------------------------+---------------------------+ CentOS Stream 9 (ARM) Kernel: Depends on container host Compiler: gcc 11.5.0 20240719 (Red Hat 11.5.0-2) CentOS Stream 10 (ARM) Kernel: Depends on container host Compiler: gcc 14.2.1 20241104 (Red Hat 14.2.1-6) Fedora 40 (ARM Clang) Kernel: Depends on container host Compiler: clang 18.1.8 (Fedora 18.1.8-1.fc40) Debian 12 (arm) Kernel: Depends on container host Compiler: gcc (Debian 12.2.0-14) 12.2.0 Fedora 40 (ARM) Kernel: Depends on container host Compiler: gcc 14.2.1 20240912 (Red Hat 14.2.1-3) Fedora 41 (ARM Clang) Kernel: Depends on container host Compiler: clang 19.1.5 (Fedora 19.1.5-1.fc41) Fedora 41 (ARM) Kernel: Depends on container host Compiler: gcc 14.2.1 20240912 (Red Hat 14.2.1-3) RHEL9 (ARM) Kernel: Depends on container host Compiler: gcc 11.5.0 20240719 (Red Hat 11.5.0-2) Ubuntu 20.04 (ARM) Kernel: Depends on container host Compiler: gcc (Ubuntu 9.4.0-1ubuntu1~20.04.2) 9.4.0 Ubuntu 24.04 (ARM) Kernel: Depends on container host Compiler: gcc (Ubuntu 13.3.0-6ubuntu2~24.04) 13.3.0 Ubuntu 22.04 (ARM) Kernel: Depends on container host Compiler: gcc (Ubuntu 11.4.0-1ubuntu1~22.04) 11.4.0 32-bit Ubuntu 22.04.4 (ARM) Kernel: 5.15.83+ aarch64 Compiler: gcc (Ubuntu 11.4.0-1ubuntu1~22.04) 11.4.0 Ubuntu 20.04 ARM SVE Kernel: Depends on container host Compiler: gcc (Ubuntu 10.5.0-1ubuntu1~20.04) 10.5.0 To view detailed results, visit: https://lab.dpdk.org/results/dashboard/patchsets/33207/ UNH-IOL DPDK Community Lab To manage your email subscriptions, visit: https://lab.dpdk.org/results/dashboard/preferences/subscriptions/