From mboxrd@z Thu Jan 1 00:00:00 1970 Return-Path: Received: from mails.dpdk.org (mails.dpdk.org [217.70.189.124]) by inbox.dpdk.org (Postfix) with ESMTP id 6362E46794 for ; Mon, 19 May 2025 23:07:01 +0200 (CEST) Received: from mails.dpdk.org (localhost [127.0.0.1]) by mails.dpdk.org (Postfix) with ESMTP id 3C74640651; Mon, 19 May 2025 23:07:01 +0200 (CEST) Received: from mail-qt1-f225.google.com (mail-qt1-f225.google.com [209.85.160.225]) by mails.dpdk.org (Postfix) with ESMTP id 9948B4060B for ; Mon, 19 May 2025 23:07:00 +0200 (CEST) Received: by mail-qt1-f225.google.com with SMTP id d75a77b69052e-47692b9d059so69023351cf.3 for ; Mon, 19 May 2025 14:07:00 -0700 (PDT) DKIM-Signature: v=1; a=rsa-sha256; c=relaxed/relaxed; d=iol.unh.edu; s=unh-iol; t=1747688820; x=1748293620; darn=dpdk.org; h=references:in-reply-to:cc:to:from:subject:message-id:date:from:to :cc:subject:date:message-id:reply-to; bh=qgV5dTYHTHzIqR4Paq7vBVFkPg7uoKcJWEOTiA5himk=; b=a+9wWDc+TnJ0WqoYuwKzoZUQr1IG4KKbxN/m2mVfEtuCMTnpBddDphzV/tzpe2MNwP PHbPq2OJCuM74meRRDtvrm/ZUXItZPFOsqNDUpmsq0LLzjrR66zfJC6ktG7hvmD0XDA1 6BgUTiVP8HL4+gSvVBfVOj4ZzqiAbLFP+liWM= X-Google-DKIM-Signature: v=1; a=rsa-sha256; c=relaxed/relaxed; d=1e100.net; s=20230601; t=1747688820; x=1748293620; h=references:in-reply-to:cc:to:from:subject:message-id:date :x-gm-message-state:from:to:cc:subject:date:message-id:reply-to; bh=qgV5dTYHTHzIqR4Paq7vBVFkPg7uoKcJWEOTiA5himk=; b=M3lAmK0M3CwUpFBTW5tFZnYojwKA+QKYVlI/jJip7oTZheKnq4M8QnVVz19XryOFfL YFeguRY9iQmbiaNCTCRAlUvKTI+hJjA8nvSOzxfkIR5HS9wXrjPIkMIgXcOvLqIbpK4v way5B3vd5DkwPUz+p3UHuXC89fOLyVAXYEf7p7kzl8FrxgWrr2ZmXpX4REiMGrPtC162 CZ5g7Ff4EPBpAAxLr1yY8BMqlN50ye2PwzS4HMg/a6MCIv/GA+4iEJ6iUfccOZp5jaWT ERCrxqvopjU4BxLN/s+dOe/MYS8YTN8WnUzsT3YzHvKgAXc0GcZjJQt8e7g21cgb16wg +w6g== X-Gm-Message-State: AOJu0Yzdjj0kYLkXpbm4dg3RXWz3iven121A7mtVPqdNv5dJ3vYSZov5 UuRTWeHLHdlJQ2VVMs2g9v6seZfgEIDicC95TFLhKcJgdutOqf6nxskgP4D6JMcotptlkM5+Zcm sYxy0dt4pzQCa36JEUxBNWk17NqgUP2SP1YFQmB/AF0qFW+IeV/PHOx5/rjii X-Gm-Gg: ASbGncuNe2CliwktHVZuesTdXqu/JIZOx26J6H9tcYFo11V6u8lzkYXXCHS6CXjKCGa HhZvuQcyAW9BZBfcairl7cgzigtk4DMZG/xKnz1xlfPRjYVm4fkWRp2N7DzOtB+wuPpDPchqWIv GMymjnkv6rxnAS4SLAB9g+hjN1y7Or93AEhNFBPfJ6xHH/Eyqt5gITkdZ2U5uXIUFUywU30QfWK N7U3qT0RbWAtI4dKssEDNR1M0Q7Y/EKDsa8KE7rngCR2w701BFUoOOXe500mdieE1usVyNMUs5s qCmbJNTqHZll43aQGPfhT5hwlCSuyMT0UEzQ X-Google-Smtp-Source: AGHT+IHon1O7CnbJG0f5IUfQHa7Q5eWxS8qBHlMzoRJNfFP0UAW5TtR/3g5CYioKxoq/PPQ/TfQs4OO4Hgla X-Received: by 2002:a05:622a:6087:b0:477:4df:9a58 with SMTP id d75a77b69052e-494b079b997mr244617181cf.18.1747688819890; Mon, 19 May 2025 14:06:59 -0700 (PDT) Received: from postal.iol.unh.edu (postal.iol.unh.edu. [2606:4100:3880:1234::84]) by smtp-relay.gmail.com with ESMTPS id d75a77b69052e-494ae3ff867sm3617531cf.10.2025.05.19.14.06.59 (version=TLS1_2 cipher=ECDHE-ECDSA-AES128-GCM-SHA256 bits=128/128); Mon, 19 May 2025 14:06:59 -0700 (PDT) X-Relaying-Domain: iol.unh.edu Date: Mon, 19 May 2025 14:06:59 -0700 (PDT) Message-ID: <682b9d73.050a0220.b90fc.331bSMTPIN_ADDED_MISSING@mx.google.com> Received: from [172.17.0.4] (unknown [172.18.0.74]) by postal.iol.unh.edu (Postfix) with ESMTP id 3B3E16052471; Mon, 19 May 2025 17:06:59 -0400 (EDT) Subject: |SUCCESS| pw153517-153518 [PATCH] [2/2] app/testpmd: clear stale int From: dpdklab@iol.unh.edu To: Test Report Cc: dpdk-test-reports@iol.unh.edu In-Reply-To: <20250519160711.4024414-2-skori@marvell.com> References: <20250519160711.4024414-2-skori@marvell.com> Content-Type: text/plain X-BeenThere: test-report@dpdk.org X-Mailman-Version: 2.1.29 Precedence: list List-Id: automatic DPDK test reports List-Unsubscribe: , List-Archive: List-Post: List-Help: List-Subscribe: , Errors-To: test-report-bounces@dpdk.org Test-Label: iol-compile-arm64-testing Test-Status: SUCCESS http://dpdk.org/patch/153518 _Testing PASS_ Submitter: Sunil Kumar Kori Date: Monday, May 19 2025 16:06:56 DPDK git baseline: Repo:dpdk Branch: master CommitID:ff05ee3e3f8fb4ce958a2ce6461e8141aea959c6 153517-153518 --> testing pass Upstream job id: Generic-DPDK-Compile-Meson#389431 Test environment and result as below: +----------------------------------------+--------------------+ | Environment | dpdk_meson_compile | +========================================+====================+ | Ubuntu 20.04 ARM GCC Cross Compile | PASS | +----------------------------------------+--------------------+ | Debian 12 with MUSDK | PASS | +----------------------------------------+--------------------+ | Fedora 40 (ARM) | PASS | +----------------------------------------+--------------------+ | RHEL9 (ARM) | PASS | +----------------------------------------+--------------------+ | Ubuntu 20.04 ARM SVE | PASS | +----------------------------------------+--------------------+ | Fedora 41 (ARM) | PASS | +----------------------------------------+--------------------+ | Fedora 40 (ARM Clang) | PASS | +----------------------------------------+--------------------+ | Ubuntu 22.04 (ARM) | PASS | +----------------------------------------+--------------------+ | Ubuntu 20.04 aarch32 GCC Cross Compile | PASS | +----------------------------------------+--------------------+ | CentOS Stream 9 (ARM) | PASS | +----------------------------------------+--------------------+ | Ubuntu 20.04 (ARM) | PASS | +----------------------------------------+--------------------+ | Ubuntu 20.04 ARM Clang Cross Compile | PASS | +----------------------------------------+--------------------+ | CentOS Stream 10 (ARM) | PASS | +----------------------------------------+--------------------+ | Ubuntu 24.04 (ARM) | PASS | +----------------------------------------+--------------------+ | Fedora 41 (ARM Clang) | PASS | +----------------------------------------+--------------------+ Ubuntu 20.04 ARM GCC Cross Compile Kernel: Depends on container host Compiler: aarch64-linux-gnu-gcc (Ubuntu 9.4.0-1ubuntu1~20.04.2) 9.4.0 Debian 12 with MUSDK Kernel: Depends on container host Compiler: gcc (Debian 12.2.0-14) 12.2.0 Fedora 40 (ARM) Kernel: Depends on container host Compiler: gcc 14.2.1 20240912 (Red Hat 14.2.1-3) RHEL9 (ARM) Kernel: Depends on container host Compiler: gcc 11.5.0 20240719 (Red Hat 11.5.0-2) Ubuntu 20.04 ARM SVE Kernel: Depends on container host Compiler: gcc (Ubuntu 10.5.0-1ubuntu1~20.04) 10.5.0 Fedora 41 (ARM) Kernel: Depends on container host Compiler: gcc 14.2.1 20240912 (Red Hat 14.2.1-3) Fedora 40 (ARM Clang) Kernel: Depends on container host Compiler: clang 18.1.8 (Fedora 18.1.8-1.fc40) Ubuntu 22.04 (ARM) Kernel: Depends on container host Compiler: gcc (Ubuntu 11.4.0-1ubuntu1~22.04) 11.4.0 Ubuntu 20.04 aarch32 GCC Cross Compile Kernel: Depends on container host Compiler: gcc 9.4.0 CentOS Stream 9 (ARM) Kernel: Depends on container host Compiler: gcc 11.5.0 20240719 (Red Hat 11.5.0-2) Ubuntu 20.04 (ARM) Kernel: Depends on container host Compiler: gcc (Ubuntu 9.4.0-1ubuntu1~20.04.2) 9.4.0 Ubuntu 20.04 ARM Clang Cross Compile Kernel: Depends on container host Compiler: clang 10.0.0-4ubuntu1 CentOS Stream 10 (ARM) Kernel: Depends on container host Compiler: gcc 14.2.1 20241104 (Red Hat 14.2.1-6) Ubuntu 24.04 (ARM) Kernel: Depends on container host Compiler: gcc (Ubuntu 13.3.0-6ubuntu2~24.04) 13.3.0 Fedora 41 (ARM Clang) Kernel: Depends on container host Compiler: clang 19.1.5 (Fedora 19.1.5-1.fc41) To view detailed results, visit: https://lab.dpdk.org/results/dashboard/patchsets/33206/ UNH-IOL DPDK Community Lab To manage your email subscriptions, visit: https://lab.dpdk.org/results/dashboard/preferences/subscriptions/