From mboxrd@z Thu Jan 1 00:00:00 1970 Return-Path: Received: from mails.dpdk.org (mails.dpdk.org [217.70.189.124]) by inbox.dpdk.org (Postfix) with ESMTP id C658246794 for ; Mon, 19 May 2025 23:34:53 +0200 (CEST) Received: from mails.dpdk.org (localhost [127.0.0.1]) by mails.dpdk.org (Postfix) with ESMTP id C12134060B; Mon, 19 May 2025 23:34:53 +0200 (CEST) Received: from mail-pj1-f97.google.com (mail-pj1-f97.google.com [209.85.216.97]) by mails.dpdk.org (Postfix) with ESMTP id 17C7C4026C for ; Mon, 19 May 2025 23:34:52 +0200 (CEST) Received: by mail-pj1-f97.google.com with SMTP id 98e67ed59e1d1-30e93626065so2727419a91.1 for ; Mon, 19 May 2025 14:34:52 -0700 (PDT) DKIM-Signature: v=1; a=rsa-sha256; c=relaxed/relaxed; d=iol.unh.edu; s=unh-iol; t=1747690491; x=1748295291; darn=dpdk.org; h=references:in-reply-to:cc:to:from:subject:message-id:date:from:to :cc:subject:date:message-id:reply-to; bh=IX3B+DNHegKPvasZucRemMbwKq3we31InBugHz/rVFI=; b=Mz/dnp7n2OjWui0XXVppruJE+sWaRqjQKWPtPpV7q/mpYUgBhGU5/miXsf/4Ts4B0Z vn3ESgcd63oKJhDu6QdXmh5drcg6JrrKp6MiENDcg0zYDQhSh1WfgBIOi2OL/eGSrWWj LSwibma5BZDvhfRCGI5HSqPziEmqXcA6mBDUw= X-Google-DKIM-Signature: v=1; a=rsa-sha256; c=relaxed/relaxed; d=1e100.net; s=20230601; t=1747690491; x=1748295291; h=references:in-reply-to:cc:to:from:subject:message-id:date :x-gm-message-state:from:to:cc:subject:date:message-id:reply-to; bh=IX3B+DNHegKPvasZucRemMbwKq3we31InBugHz/rVFI=; b=lXwhwGWFsq3mE6Ex3DSPl57jE/SELSLy4LdfruOLTzodfgc8wk18eSE5R1iKY1CZKz yCRzsoj/I1opH1chmjplAMvVJhX6F6lmRmwzSmFnLTw96iK3aT+X96qLE0v8HST8oK58 3FHqVnbaqTw0mSqzfPS0uqizwDrrnZAYaU7dhXVuqjiBKWzQFJoqZE5ddSZtyOF8cSoo xULybWLtPegicT5keuUTYUQ0qpPadUdlXtVqqWWDvde/KUsmpypYkrPmFS7jIgGiYe3J S3KD2a90NqXlN1LCBHlExkZ6h6MinRBRgYQzaiRjobi/SwEwxwdzxUB2eJPUwPGJ39ih YViQ== X-Gm-Message-State: AOJu0Yz53shU9GVDGV3LjeVGH/qcj5nWMQE6V116cOdiazA534WzQf3q NUT4je8rSwTPOXS1JLAXHnqm/3A6Y0qWBmakU2uOd7HMlVQtgPZkGdetzbU1ZlhncDrtof2In5Q 1N/qR6fQaewqkYRyTZvEQ2AO3ETI589LzdC2xbW3N6ZWW74z/HDBHOyal15Pm X-Gm-Gg: ASbGncuMnWRXWZQU9YI1+n3xk0mp24z0CU1KFZag5MvPW7+zQYEtQ/B0zlgVBcE82FI J93ors2rYoQNDkDnWfS6OhlhhJj0jxleVmpZjbMYnKE05mBxyIFstIJzPz05tSwzDFex9nX6gP4 qcgDAN724Qbq1l2TNWpPjuSPFBUdMd4lCmc61RIjf7Nv2ypEMSfAIq0Z9Qt+hC0ngOZhzE88JIc UXRli76uLq/uQ7IU5hasAQPHfKSzTLOaZZOOx2mfkJ/qYicTZuB+EKbDzWDwvgmpPu4Z15kbG15 cZHf+LL5g7Tesh6Rezs97JzdeS/VQrEP/pyS X-Google-Smtp-Source: AGHT+IGTvSeViC7A7agQ9DI7gQe1KRT71n3KgpEU2OMDGRlGnUM2hEMcdFQKlZfyr0JIBKG+SLWuhSOMxXH4 X-Received: by 2002:a17:90b:264e:b0:305:2d27:7cb0 with SMTP id 98e67ed59e1d1-30e831b842amr19437488a91.21.1747690491165; Mon, 19 May 2025 14:34:51 -0700 (PDT) Received: from postal.iol.unh.edu (postal.iol.unh.edu. [2606:4100:3880:1234::84]) by smtp-relay.gmail.com with ESMTPS id 98e67ed59e1d1-30f365eca1fsm21665a91.6.2025.05.19.14.34.51 (version=TLS1_2 cipher=ECDHE-ECDSA-AES128-GCM-SHA256 bits=128/128); Mon, 19 May 2025 14:34:51 -0700 (PDT) X-Relaying-Domain: iol.unh.edu Date: Mon, 19 May 2025 14:34:51 -0700 (PDT) Message-ID: <682ba3fb.170a0220.30ca6f.123aSMTPIN_ADDED_MISSING@mx.google.com> Received: from [172.17.0.2] (unknown [172.18.0.76]) by postal.iol.unh.edu (Postfix) with ESMTP id 5781F6052471; Mon, 19 May 2025 17:34:50 -0400 (EDT) Subject: |SUCCESS| pw153519-153520 [PATCH] [v1,2/2] dts: add jump and priorit From: dpdklab@iol.unh.edu To: Test Report Cc: dpdk-test-reports@iol.unh.edu In-Reply-To: <20250519181957.228084-2-dmarx@iol.unh.edu> References: <20250519181957.228084-2-dmarx@iol.unh.edu> Content-Type: text/plain X-BeenThere: test-report@dpdk.org X-Mailman-Version: 2.1.29 Precedence: list List-Id: automatic DPDK test reports List-Unsubscribe: , List-Archive: List-Post: List-Help: List-Subscribe: , Errors-To: test-report-bounces@dpdk.org Test-Label: iol-compile-amd64-testing Test-Status: SUCCESS http://dpdk.org/patch/153520 _Testing PASS_ Submitter: Dean Marx Date: Monday, May 19 2025 18:19:57 DPDK git baseline: Repo:dpdk Branch: master CommitID:1aef42bc97a31906486c9d66b792208948af06f3 153519-153520 --> testing pass Upstream job id: Generic-DPDK-Compile-Meson#389485 Test environment and result as below: +-----------------------------------+--------------------+-------------------+------------------+-------------------------+-------------------+----------------------+ | Environment | dpdk_meson_compile | dpdk_compile_spdk | dpdk_compile_ovs | dpdk_llvm_clang_compile | dpdk_msvc_compile | dpdk_mingw64_compile | +===================================+====================+===================+==================+=========================+===================+======================+ | CentOS Stream 9 | PASS | PASS | SKIPPED | SKIPPED | SKIPPED | SKIPPED | +-----------------------------------+--------------------+-------------------+------------------+-------------------------+-------------------+----------------------+ | CentOS Stream 10 | PASS | SKIPPED | SKIPPED | SKIPPED | SKIPPED | SKIPPED | +-----------------------------------+--------------------+-------------------+------------------+-------------------------+-------------------+----------------------+ | Debian 12 | PASS | PASS | SKIPPED | SKIPPED | SKIPPED | SKIPPED | +-----------------------------------+--------------------+-------------------+------------------+-------------------------+-------------------+----------------------+ | Fedora 40 (Clang) | PASS | PASS | SKIPPED | SKIPPED | SKIPPED | SKIPPED | +-----------------------------------+--------------------+-------------------+------------------+-------------------------+-------------------+----------------------+ | Fedora 40 | PASS | PASS | SKIPPED | SKIPPED | SKIPPED | SKIPPED | +-----------------------------------+--------------------+-------------------+------------------+-------------------------+-------------------+----------------------+ | Fedora 41 (Clang) | PASS | PASS | PASS | SKIPPED | SKIPPED | SKIPPED | +-----------------------------------+--------------------+-------------------+------------------+-------------------------+-------------------+----------------------+ | Fedora 41 | PASS | PASS | PASS | SKIPPED | SKIPPED | SKIPPED | +-----------------------------------+--------------------+-------------------+------------------+-------------------------+-------------------+----------------------+ | openSUSE Leap 15 | PASS | SKIPPED | SKIPPED | SKIPPED | SKIPPED | SKIPPED | +-----------------------------------+--------------------+-------------------+------------------+-------------------------+-------------------+----------------------+ | RHEL9 | PASS | SKIPPED | SKIPPED | SKIPPED | SKIPPED | SKIPPED | +-----------------------------------+--------------------+-------------------+------------------+-------------------------+-------------------+----------------------+ | RHEL8 | PASS | SKIPPED | SKIPPED | SKIPPED | SKIPPED | SKIPPED | +-----------------------------------+--------------------+-------------------+------------------+-------------------------+-------------------+----------------------+ | Ubuntu 24.04 | PASS | PASS | PASS | SKIPPED | SKIPPED | SKIPPED | +-----------------------------------+--------------------+-------------------+------------------+-------------------------+-------------------+----------------------+ | Ubuntu 22.04 | PASS | PASS | SKIPPED | SKIPPED | SKIPPED | SKIPPED | +-----------------------------------+--------------------+-------------------+------------------+-------------------------+-------------------+----------------------+ | Alpine | PASS | SKIPPED | SKIPPED | SKIPPED | SKIPPED | SKIPPED | +-----------------------------------+--------------------+-------------------+------------------+-------------------------+-------------------+----------------------+ | Ubuntu 20.04 | PASS | SKIPPED | SKIPPED | SKIPPED | SKIPPED | SKIPPED | +-----------------------------------+--------------------+-------------------+------------------+-------------------------+-------------------+----------------------+ | Ubuntu 24.04 32 Bit Cross Compile | PASS | SKIPPED | SKIPPED | SKIPPED | SKIPPED | SKIPPED | +-----------------------------------+--------------------+-------------------+------------------+-------------------------+-------------------+----------------------+ | FreeBSD 13.5 | PASS | SKIPPED | SKIPPED | SKIPPED | SKIPPED | SKIPPED | +-----------------------------------+--------------------+-------------------+------------------+-------------------------+-------------------+----------------------+ | FreeBSD 14.2 | PASS | SKIPPED | SKIPPED | SKIPPED | SKIPPED | SKIPPED | +-----------------------------------+--------------------+-------------------+------------------+-------------------------+-------------------+----------------------+ | Windows Server 2022 | SKIPPED | SKIPPED | SKIPPED | PASS | PASS | PASS | +-----------------------------------+--------------------+-------------------+------------------+-------------------------+-------------------+----------------------+ CentOS Stream 9 Kernel: Depends on container host Compiler: gcc 11.5.0 20240719 (Red Hat 11.5.0-2) CentOS Stream 10 Kernel: Depends on container host Compiler: gcc 14.2.1 20241104 (Red Hat 14.2.1-6) Debian 12 Kernel: Depends on container host Compiler: gcc (Debian 12.2.0-14) 12.2.0 Fedora 40 (Clang) Kernel: Depends on container host Compiler: clang 18.1.8 (Fedora 18.1.8-1.fc40) Fedora 40 Kernel: Depends on container host Compiler: gcc 14.2.1 20240912 (Red Hat 14.2.1-3) Fedora 41 (Clang) Kernel: Depends on container host Compiler: clang 19.1.5 (Fedora 19.1.5-1.fc41) Fedora 41 Kernel: Depends on container host Compiler: gcc 14.2.1 20240912 (Red Hat 14.2.1-3) openSUSE Leap 15 Kernel: Depends on container host Compiler: gcc (SUSE Linux) 7.5.0 RHEL9 Kernel: Depends on container host Compiler: gcc 11.5.0 20240719 (Red Hat 11.5.0-2) RHEL8 Kernel: Depends on container host Compiler: gcc 8.5.0 20210514 (Red Hat 8.5.0-22) Ubuntu 24.04 Kernel: Depends on container host Compiler: gcc (Ubuntu 13.3.0-6ubuntu2~24.04) 13.3.0 Ubuntu 22.04 Kernel: Depends on container host Compiler: gcc (Ubuntu 11.4.0-1ubuntu1~22.04) 11.4.0 Alpine Kernel: Depends on container host Compiler: gcc (Alpine 14.2.0) 14.2.0 Ubuntu 20.04 Kernel: Depends on container host Compiler: gcc (Ubuntu 9.4.0-1ubuntu1~20.04.2) 9.4.0 Ubuntu 24.04 32 Bit Cross Compile Kernel: Depends on container host Compiler: gcc (Ubuntu 13.3.0-6ubuntu2~24.04) 13.3.0 FreeBSD 13.5 Kernel: 13.5-RELEASE Compiler: clang 19.1.7 FreeBSD 14.2 Kernel: 14.2-RELEASE Compiler: clang 18.1.6 Windows Server 2022 Kernel: 10.0.20348.2031 Compiler: clang 15.0.7, gcc 14.1.0 (MinGW), and MSVC VS 19.39.33521 To view detailed results, visit: https://lab.dpdk.org/results/dashboard/patchsets/33207/ UNH-IOL DPDK Community Lab To manage your email subscriptions, visit: https://lab.dpdk.org/results/dashboard/preferences/subscriptions/