From mboxrd@z Thu Jan 1 00:00:00 1970 Return-Path: Received: from mails.dpdk.org (mails.dpdk.org [217.70.189.124]) by inbox.dpdk.org (Postfix) with ESMTP id 7971246795 for ; Tue, 20 May 2025 03:54:17 +0200 (CEST) Received: from mails.dpdk.org (localhost [127.0.0.1]) by mails.dpdk.org (Postfix) with ESMTP id 6D94E402CA; Tue, 20 May 2025 03:54:17 +0200 (CEST) Received: from mail-pf1-f227.google.com (mail-pf1-f227.google.com [209.85.210.227]) by mails.dpdk.org (Postfix) with ESMTP id EF42C402AE for ; Tue, 20 May 2025 03:54:15 +0200 (CEST) Received: by mail-pf1-f227.google.com with SMTP id d2e1a72fcca58-742c96af71dso2657586b3a.0 for ; Mon, 19 May 2025 18:54:15 -0700 (PDT) DKIM-Signature: v=1; a=rsa-sha256; c=relaxed/relaxed; d=iol.unh.edu; s=unh-iol; t=1747706055; x=1748310855; darn=dpdk.org; h=cc:to:from:subject:message-id:date:from:to:cc:subject:date :message-id:reply-to; bh=4g/WGOy/gCgnENx80IOEFlSzrpTvIVSbiovY+iygC0s=; b=NmWtaoQVL2fdq2h7jD9fR0KCrsPYa0FyEJvhEO6YFudL7a8mV2ulGGDMkxDBt0qp8x D4gn+IyGGL7vdg44UmSkuQaiLX59/KhmANEWK3GIvqj/sE0l1PxXOWjvR4pnTSkqfLG6 Mo6ZHTHilL/RzSXlKKcxNYiT7v3Z97e0Y+g0w= X-Google-DKIM-Signature: v=1; a=rsa-sha256; c=relaxed/relaxed; d=1e100.net; s=20230601; t=1747706055; x=1748310855; h=cc:to:from:subject:message-id:date:x-gm-message-state:from:to:cc :subject:date:message-id:reply-to; bh=4g/WGOy/gCgnENx80IOEFlSzrpTvIVSbiovY+iygC0s=; b=KMQd60ogAA3Cbxosfe/PTcIuzyU9EhW2Taf2KLsg7QiZqC6p42w8w5y7Xzz+5JG6E1 QHJgU+twyOHlUgNjGJ0943FWEbpcRgirH7K/rt8EHgp4C9ql4mdozuqYC5YTGZG1lsb8 Wqehs6NVDyqeJ6sO6+N8ChN44ZW55dzgdVzEUA8Bd4PlMd+cfOiQ7rEWfAEpmlHi55IC h4Xj3N0Hp29hDNYvMOsiAwWO08qSbZrjk721si0piGPpM2xwoRIhOb7vtGZgcMSMBco5 HcaSJF1fuGiRQUMQfiU98c1ORzG9k6qwfpneW/GDQTeUyCB3DFnjAmkvzwlehB8VJOLJ S1cg== X-Gm-Message-State: AOJu0YyfWiP2MBNHqRO22tWkEvHIjfw/nrh/oA8lBiUU0CrbaoEF7WrF rL8ji3oDs7iHGOrQ0hm1ZWBDhWbwlVxs78tvC2Xmf9RcSOzX8lO00vIq1jzITPHzboyvOjUqA7V s+qX/uk7XYl9pGuU8w493uhD2hLAjq5vPL7Team1l99jc X-Gm-Gg: ASbGncurE5zVt1wXykiuEEz23Teruw7NNw+G1p7hYvn1qYZnqeGmkebB7qfFS4ICQS0 LWTWctVBp4aTN+6q24wT9jlbvqn+jJIqi0CidCJuGW+sjBJkzy9ZXtRTxgt3Jboviev0QsYfRKc oauBTWrjWPx96+x4J9wvLnk9hh7HY20pmcMBI7OAC3iZUWvVIsp10CW70v07OD1/rxejDihc8kA PhYnpljXwX8qVv38jpKoiGAZzpNTUMi/KYW794HHgYERjg3esU7A2eO4QAVPvY+D7UAuQ8MiuM+ ZQsksBuIzVEckpXAJXklDKZuUUaYLBW4k7g8UmCQVBt8GHEqJR2KzJIBkWo= X-Google-Smtp-Source: AGHT+IGjrX4Bx8k2GWZG3TdWp2dv6dCI9z+FB6tANGLBKWcGKDN96K5K9uGvAvFSjVzDbs3CZ/37XlImLv1O X-Received: by 2002:a05:6a20:6f8a:b0:218:c01:ddce with SMTP id adf61e73a8af0-2180c01de06mr21706620637.40.1747706055019; Mon, 19 May 2025 18:54:15 -0700 (PDT) Received: from postal.iol.unh.edu (postal.iol.unh.edu. [132.177.123.84]) by smtp-relay.gmail.com with ESMTPS id 98e67ed59e1d1-30f36382be9sm54168a91.4.2025.05.19.18.54.14 (version=TLS1_2 cipher=ECDHE-ECDSA-AES128-GCM-SHA256 bits=128/128); Mon, 19 May 2025 18:54:15 -0700 (PDT) X-Relaying-Domain: iol.unh.edu Date: Mon, 19 May 2025 18:54:15 -0700 (PDT) Message-ID: <682be0c7.170a0220.160a00.2d4aSMTPIN_ADDED_MISSING@mx.google.com> Received: from [172.21.0.6] (unknown [172.18.0.240]) by postal.iol.unh.edu (Postfix) with ESMTP id 3C70F6052471; Mon, 19 May 2025 21:54:14 -0400 (EDT) Subject: |SUCCESS| [GIT MASTER] 117e86c4b96ed761e9a7ab766261208fe81bf5ca From: dpdklab@iol.unh.edu To: Test Report Cc: dpdk-test-reports@iol.unh.edu Content-Type: text/plain X-BeenThere: test-report@dpdk.org X-Mailman-Version: 2.1.29 Precedence: list List-Id: automatic DPDK test reports List-Unsubscribe: , List-Archive: List-Post: List-Help: List-Subscribe: , Errors-To: test-report-bounces@dpdk.org _Testing PASS_ Branch: dpdk 117e86c4b96ed761e9a7ab766261208fe81bf5ca --> testing pass Upstream job id: Generic-Unit-Test-DPDK#339122 Test environment and result as below: +-----------------------------+----------------+------------------------------+---------------------------+--------------+ | Environment | dpdk_unit_test | cryptodev_sw_snow3g_autotest | cryptodev_sw_zuc_autotest | lpm_autotest | +=============================+================+==============================+===========================+==============+ | Debian 12 (arm) | PASS | PASS | PASS | SKIPPED | +-----------------------------+----------------+------------------------------+---------------------------+--------------+ | Fedora 41 (ARM) | PASS | SKIPPED | SKIPPED | SKIPPED | +-----------------------------+----------------+------------------------------+---------------------------+--------------+ | CentOS Stream 9 (ARM) | PASS | SKIPPED | SKIPPED | SKIPPED | +-----------------------------+----------------+------------------------------+---------------------------+--------------+ | CentOS Stream 10 (ARM) | PASS | SKIPPED | SKIPPED | SKIPPED | +-----------------------------+----------------+------------------------------+---------------------------+--------------+ | Fedora 40 (ARM Clang) | PASS | SKIPPED | SKIPPED | SKIPPED | +-----------------------------+----------------+------------------------------+---------------------------+--------------+ | Ubuntu 24.04 (ARM) | PASS | SKIPPED | SKIPPED | SKIPPED | +-----------------------------+----------------+------------------------------+---------------------------+--------------+ | Fedora 40 (ARM) | PASS | SKIPPED | SKIPPED | SKIPPED | +-----------------------------+----------------+------------------------------+---------------------------+--------------+ | Fedora 41 (ARM Clang) | PASS | SKIPPED | SKIPPED | SKIPPED | +-----------------------------+----------------+------------------------------+---------------------------+--------------+ | Ubuntu 22.04 (ARM) | PASS | SKIPPED | SKIPPED | SKIPPED | +-----------------------------+----------------+------------------------------+---------------------------+--------------+ | RHEL9 (ARM) | PASS | SKIPPED | SKIPPED | SKIPPED | +-----------------------------+----------------+------------------------------+---------------------------+--------------+ | Ubuntu 20.04 (ARM) | PASS | SKIPPED | SKIPPED | SKIPPED | +-----------------------------+----------------+------------------------------+---------------------------+--------------+ | 32-bit Ubuntu 22.04.4 (ARM) | PASS | SKIPPED | SKIPPED | SKIPPED | +-----------------------------+----------------+------------------------------+---------------------------+--------------+ | Ubuntu 20.04 ARM SVE | SKIPPED | SKIPPED | SKIPPED | PASS | +-----------------------------+----------------+------------------------------+---------------------------+--------------+ Debian 12 (arm) Kernel: Depends on container host Compiler: gcc (Debian 12.2.0-14) 12.2.0 Fedora 41 (ARM) Kernel: Depends on container host Compiler: gcc 14.2.1 20240912 (Red Hat 14.2.1-3) CentOS Stream 9 (ARM) Kernel: Depends on container host Compiler: gcc 11.5.0 20240719 (Red Hat 11.5.0-2) CentOS Stream 10 (ARM) Kernel: Depends on container host Compiler: gcc 14.2.1 20241104 (Red Hat 14.2.1-6) Fedora 40 (ARM Clang) Kernel: Depends on container host Compiler: clang 18.1.8 (Fedora 18.1.8-1.fc40) Ubuntu 24.04 (ARM) Kernel: Depends on container host Compiler: gcc (Ubuntu 13.3.0-6ubuntu2~24.04) 13.3.0 Fedora 40 (ARM) Kernel: Depends on container host Compiler: gcc 14.2.1 20240912 (Red Hat 14.2.1-3) Fedora 41 (ARM Clang) Kernel: Depends on container host Compiler: clang 19.1.5 (Fedora 19.1.5-1.fc41) Ubuntu 22.04 (ARM) Kernel: Depends on container host Compiler: gcc (Ubuntu 11.4.0-1ubuntu1~22.04) 11.4.0 RHEL9 (ARM) Kernel: Depends on container host Compiler: gcc 11.5.0 20240719 (Red Hat 11.5.0-2) Ubuntu 20.04 (ARM) Kernel: Depends on container host Compiler: gcc (Ubuntu 9.4.0-1ubuntu1~20.04.2) 9.4.0 32-bit Ubuntu 22.04.4 (ARM) Kernel: 5.15.83+ aarch64 Compiler: gcc (Ubuntu 11.4.0-1ubuntu1~22.04) 11.4.0 Ubuntu 20.04 ARM SVE Kernel: Depends on container host Compiler: gcc (Ubuntu 10.5.0-1ubuntu1~20.04) 10.5.0 To view detailed results, visit: https://lab.dpdk.org/results/dashboard/tarballs/33583/ UNH-IOL DPDK Community Lab To manage your email subscriptions, visit: https://lab.dpdk.org/results/dashboard/preferences/subscriptions/