From mboxrd@z Thu Jan 1 00:00:00 1970 Return-Path: Received: from mails.dpdk.org (mails.dpdk.org [217.70.189.124]) by inbox.dpdk.org (Postfix) with ESMTP id 89C9146795 for ; Tue, 20 May 2025 03:54:26 +0200 (CEST) Received: from mails.dpdk.org (localhost [127.0.0.1]) by mails.dpdk.org (Postfix) with ESMTP id 84AA0402CA; Tue, 20 May 2025 03:54:26 +0200 (CEST) Received: from mail-io1-f97.google.com (mail-io1-f97.google.com [209.85.166.97]) by mails.dpdk.org (Postfix) with ESMTP id E590B402AE for ; Tue, 20 May 2025 03:54:24 +0200 (CEST) Received: by mail-io1-f97.google.com with SMTP id ca18e2360f4ac-861525e9b0aso385433139f.3 for ; Mon, 19 May 2025 18:54:24 -0700 (PDT) DKIM-Signature: v=1; a=rsa-sha256; c=relaxed/relaxed; d=iol.unh.edu; s=unh-iol; t=1747706064; x=1748310864; darn=dpdk.org; h=cc:to:from:subject:message-id:date:from:to:cc:subject:date :message-id:reply-to; bh=8efaumqqa5dBE549tFzs6FcGhrYf9HXt460NfWNMYDQ=; b=VXmzqhxESFJndM/CclyU1aPaQO07V/pZ9M/7rmdeteV4vxTjuCBZ2ui+/Ssqsj9HZ+ fTpoFDsHgl1Zvogtn2tN2lEKwRgOnvJqCE34FRETSDmZf/jorHmw93AuS1CI65DrZX5v 76PkRtmA4JBXMmJk8E1+DWjE3fDzv/qPEZh7g= X-Google-DKIM-Signature: v=1; a=rsa-sha256; c=relaxed/relaxed; d=1e100.net; s=20230601; t=1747706064; x=1748310864; h=cc:to:from:subject:message-id:date:x-gm-message-state:from:to:cc :subject:date:message-id:reply-to; bh=8efaumqqa5dBE549tFzs6FcGhrYf9HXt460NfWNMYDQ=; b=fubW95E4omohFNM+GWXb1YiTPeM8eBvm/QB8KlsWGRxLd3pom/kToGGQuGATZZBQ3M sv+ev8YT+Wqj7Cs4JEraCRa7F64AqD3L3d8Wesl8EPF/tHSb0+QCzshFNFLR/D6TP0jL kDPRCcqHQQO9Cbqd0VlhFsAk3H5h9msffcnVB2voEPyvULIsintXkO8Sb4bexYj9cHu5 WUQeVmQvwLidHn5XBOonbAv8Mi9p78Cct0RDoybN8J5GrdD9qw9cYeiDUnZQ+JyGpk+R ZSXSeiENzLCH5Yil8Hm/sgeKPsOGHl/M86BdcAEys2cVlc29F6LUrubBhx0nrAPaSnO0 m6Gw== X-Gm-Message-State: AOJu0YzZuWe7PRYYN4t9hDkCeUowVb/CkzLLQcr2avThYBZ7JQpVGpr4 YMThACGiTqxQO3EDh3xgQk0g8xcJZjCFcGqENmbcTQGfAIw7sv3uYhHIHHnQzeScOZcIUQbIfs5 pD8kdlN+Ue5CXlhZOm6wTUKtA8OsXeu7+jvMr3cHPvihd3Fa045dSg+mUhcx6 X-Gm-Gg: ASbGncsXMGJN0Qn/NnO4ai7MGSZv+Qmgarz4HVgo4A2zCBGrFTwXHol1BSelsksinPa hVOY0y6XsWkxxIK1+sArfyma6NCqGQYwp5/DIr0x049VaxddL8UBS1Kr8NX14/GZHWd8prs88Zf r2g1jnfoGS96vzFtqI4yhvhim03xumuQWHEYn4AyAWQjTnXqtnoVKmBhQg5PxNNwT0BbghrHPEd Sd93NqMCyGQKWPgWLTOcvmt7be4+fUMRld54t/imVp7Josto7iKsZENF4vq0O6YG83XYu7TKgmw deuqyYpUF20BWGp1KquLcFq6ON7byyX2QYPI X-Google-Smtp-Source: AGHT+IE1tJy4jN0GaSFsEsxh3j2vHoUXTB+ZfRMTVZcSUQs5Ju7JA50oJ/Dqz9fzPn1GePgy2z5arpp5OPXn X-Received: by 2002:a05:6602:3799:b0:867:943:c184 with SMTP id ca18e2360f4ac-86a2319c8e1mr2204391639f.5.1747706064240; Mon, 19 May 2025 18:54:24 -0700 (PDT) Received: from postal.iol.unh.edu (postal.iol.unh.edu. [2606:4100:3880:1234::84]) by smtp-relay.gmail.com with ESMTPS id ca18e2360f4ac-86a26d74087sm35972039f.18.2025.05.19.18.54.24 (version=TLS1_2 cipher=ECDHE-ECDSA-AES128-GCM-SHA256 bits=128/128); Mon, 19 May 2025 18:54:24 -0700 (PDT) X-Relaying-Domain: iol.unh.edu Date: Mon, 19 May 2025 18:54:24 -0700 (PDT) Message-ID: <682be0d0.050a0220.af46b.3033SMTPIN_ADDED_MISSING@mx.google.com> Received: from [172.21.0.5] (unknown [172.18.0.240]) by postal.iol.unh.edu (Postfix) with ESMTP id 7CB2E6052471; Mon, 19 May 2025 21:54:23 -0400 (EDT) Subject: |SUCCESS| [GIT MASTER] 117e86c4b96ed761e9a7ab766261208fe81bf5ca From: dpdklab@iol.unh.edu To: Test Report Cc: dpdk-test-reports@iol.unh.edu Content-Type: text/plain X-BeenThere: test-report@dpdk.org X-Mailman-Version: 2.1.29 Precedence: list List-Id: automatic DPDK test reports List-Unsubscribe: , List-Archive: List-Post: List-Help: List-Subscribe: , Errors-To: test-report-bounces@dpdk.org _Testing PASS_ Branch: dpdk 117e86c4b96ed761e9a7ab766261208fe81bf5ca --> testing pass Upstream job id: Generic-DPDK-Compile-ABI#126969 Test environment and result as below: +-------------------+----------+ | Environment | abi_test | +===================+==========+ | CentOS Stream 9 | PASS | +-------------------+----------+ | RHEL8 | PASS | +-------------------+----------+ | Debian 12 | PASS | +-------------------+----------+ | Fedora 40 (Clang) | PASS | +-------------------+----------+ | openSUSE Leap 15 | PASS | +-------------------+----------+ | Ubuntu 22.04 | PASS | +-------------------+----------+ | Fedora 41 | PASS | +-------------------+----------+ | RHEL9 | PASS | +-------------------+----------+ | Fedora 41 (Clang) | PASS | +-------------------+----------+ | Fedora 40 | PASS | +-------------------+----------+ | CentOS Stream 10 | PASS | +-------------------+----------+ | Ubuntu 24.04 | PASS | +-------------------+----------+ | Arch Linux | PASS | +-------------------+----------+ CentOS Stream 9 Kernel: Depends on container host Compiler: gcc 11.5.0 20240719 (Red Hat 11.5.0-2) RHEL8 Kernel: Depends on container host Compiler: gcc 8.5.0 20210514 (Red Hat 8.5.0-22) Debian 12 Kernel: Depends on container host Compiler: gcc (Debian 12.2.0-14) 12.2.0 Fedora 40 (Clang) Kernel: Depends on container host Compiler: clang 18.1.8 (Fedora 18.1.8-1.fc40) openSUSE Leap 15 Kernel: Depends on container host Compiler: gcc (SUSE Linux) 7.5.0 Ubuntu 22.04 Kernel: Depends on container host Compiler: gcc (Ubuntu 11.4.0-1ubuntu1~22.04) 11.4.0 Fedora 41 Kernel: Depends on container host Compiler: gcc 14.2.1 20240912 (Red Hat 14.2.1-3) RHEL9 Kernel: Depends on container host Compiler: gcc 11.5.0 20240719 (Red Hat 11.5.0-2) Fedora 41 (Clang) Kernel: Depends on container host Compiler: clang 19.1.5 (Fedora 19.1.5-1.fc41) Fedora 40 Kernel: Depends on container host Compiler: gcc 14.2.1 20240912 (Red Hat 14.2.1-3) CentOS Stream 10 Kernel: Depends on container host Compiler: gcc 14.2.1 20241104 (Red Hat 14.2.1-6) Ubuntu 24.04 Kernel: Depends on container host Compiler: gcc (Ubuntu 13.3.0-6ubuntu2~24.04) 13.3.0 Arch Linux Kernel: Depends on container host Compiler: gcc 14.2.1 20240910 To view detailed results, visit: https://lab.dpdk.org/results/dashboard/tarballs/33583/ UNH-IOL DPDK Community Lab To manage your email subscriptions, visit: https://lab.dpdk.org/results/dashboard/preferences/subscriptions/