From mboxrd@z Thu Jan 1 00:00:00 1970 Return-Path: Received: from mails.dpdk.org (mails.dpdk.org [217.70.189.124]) by inbox.dpdk.org (Postfix) with ESMTP id E3FE446795 for ; Tue, 20 May 2025 03:56:47 +0200 (CEST) Received: from mails.dpdk.org (localhost [127.0.0.1]) by mails.dpdk.org (Postfix) with ESMTP id C1065402CA; Tue, 20 May 2025 03:56:47 +0200 (CEST) Received: from mail-pl1-f228.google.com (mail-pl1-f228.google.com [209.85.214.228]) by mails.dpdk.org (Postfix) with ESMTP id 3ECE2402AE for ; Tue, 20 May 2025 03:56:46 +0200 (CEST) Received: by mail-pl1-f228.google.com with SMTP id d9443c01a7336-231f6af929eso35320615ad.2 for ; Mon, 19 May 2025 18:56:46 -0700 (PDT) DKIM-Signature: v=1; a=rsa-sha256; c=relaxed/relaxed; d=iol.unh.edu; s=unh-iol; t=1747706205; x=1748311005; darn=dpdk.org; h=cc:to:from:subject:message-id:date:from:to:cc:subject:date :message-id:reply-to; bh=Z+pxgwBrlb2VrTxzpoBHDkZbJXU93dA+Xu6dJBF5Qh4=; b=aaLLtC7cUKIW4fdS+GsaYiDOiFrckBntBLcFynRXzYk6sBjSPxF5L13x0wSxkPn0kL 8QGFNvbzEinuUw3WjAKMM43UD8D5gwBj1/NoOYrqaoO/AnfcXPaWSf50Cczs8KtjosOr G2eHlr8Q3+bPcgNpR4FZNBNN2HLmYITyDmUds= X-Google-DKIM-Signature: v=1; a=rsa-sha256; c=relaxed/relaxed; d=1e100.net; s=20230601; t=1747706205; x=1748311005; h=cc:to:from:subject:message-id:date:x-gm-message-state:from:to:cc :subject:date:message-id:reply-to; bh=Z+pxgwBrlb2VrTxzpoBHDkZbJXU93dA+Xu6dJBF5Qh4=; b=nFEer6RFL7x+bkll9gAaq4PNGw78O1hI1+OYYLM/CI2xTOn+diezTHyOjuBoaZlRWA Ao894M7QfaKZAtvGTjqDYQBFD486papbn68lOrSiX6rdsoSibYUTCqDH2qUlG9ALMB/f adTqWoUg8yrXtnaARK8IGE1a/BUpuaZXwyfEHtoCCVIqptLAAIi6ggKyNIw8bRXvJ3XL BG3r/pTkYF8uVjtFE6XOa47qIdbK5DMlv0YNWkpKgrKfgJbr+b4IqFcV+9XiWAVUYQo7 Vbtr/F+U6R0X+sgLqmjXFj4Cf6nCj6IjSDwArxIXDGZcY2m6Dwu2xvNnIFS+Cr6rAK0q x60w== X-Gm-Message-State: AOJu0YwdTVkwEW45Iehj1GBa9Fzv5WHW6TJ6UT+Xi1BFf0XKpObZCNz1 H77PkwWojVMIo+gze05YgqscBLhIp7clojMFe2vVr2Wt/s+RTaDSLk+pKtGYnFEIkW3fv+IFM+q B6irVPzaeQLRlHG+eLDLYljjOtvEJmc2DBm8PkSnOaIZJE1/N8nn4QsVB9LtJ X-Gm-Gg: ASbGncuECsmudvePtMyqWBRcyrYyxjXdS8wAap8/WWoWOtudl00adRVSbQvEYji3Uv4 R2ecd9e7J9qIrKB8uET67iYGS+qGperDlou7rxBY5ZgXqiQoQ+FPptiZFDVH5AOLyYyj2j270jo Hjq0uCb/G3zn1OMVNBYDQLvr68P9xYk6vmZsbpqQbXl6u4V+P81860hf1w9Y8GrTH+M+C6oz4X9 y4VfXcz3Gojsl5o6Gleuuem32PnSSx8bHKu5gTjIKlhlwGtPVNRhaJjbr5wB2CAqp+uITzmEAFJ Zk6AuTgJZYQ7f4WhPgzlgW5mIwtmZ7Y9rPHL X-Google-Smtp-Source: AGHT+IE0bt2uOzvF+LbTwtP19WYKZPrIDegMmXKbXE4b25xm7cZrcxwbz//+/wAC/nA/stDLJ012A7LkLUAt X-Received: by 2002:a17:903:2ec3:b0:231:d0dc:f2d4 with SMTP id d9443c01a7336-231d438b4efmr198551115ad.2.1747706205321; Mon, 19 May 2025 18:56:45 -0700 (PDT) Received: from postal.iol.unh.edu (postal.iol.unh.edu. [2606:4100:3880:1234::84]) by smtp-relay.gmail.com with ESMTPS id d9443c01a7336-231ed3a255fsm4068305ad.98.2025.05.19.18.56.45 (version=TLS1_2 cipher=ECDHE-ECDSA-AES128-GCM-SHA256 bits=128/128); Mon, 19 May 2025 18:56:45 -0700 (PDT) X-Relaying-Domain: iol.unh.edu Date: Mon, 19 May 2025 18:56:45 -0700 (PDT) Message-ID: <682be15d.170a0220.3adb74.5424SMTPIN_ADDED_MISSING@mx.google.com> Received: from [172.17.0.4] (unknown [172.18.0.74]) by postal.iol.unh.edu (Postfix) with ESMTP id 8397C6052471; Mon, 19 May 2025 21:56:44 -0400 (EDT) Subject: |SUCCESS| [GIT MASTER] 117e86c4b96ed761e9a7ab766261208fe81bf5ca From: dpdklab@iol.unh.edu To: Test Report Cc: dpdk-test-reports@iol.unh.edu Content-Type: text/plain X-BeenThere: test-report@dpdk.org X-Mailman-Version: 2.1.29 Precedence: list List-Id: automatic DPDK test reports List-Unsubscribe: , List-Archive: List-Post: List-Help: List-Subscribe: , Errors-To: test-report-bounces@dpdk.org _Testing PASS_ Branch: dpdk 117e86c4b96ed761e9a7ab766261208fe81bf5ca --> testing pass Upstream job id: Generic-Unit-Test-DPDK#339139 Test environment and result as below: +---------------------+----------------+ | Environment | dpdk_unit_test | +=====================+================+ | CentOS Stream 9 | PASS | +---------------------+----------------+ | CentOS Stream 10 | PASS | +---------------------+----------------+ | Debian 12 | PASS | +---------------------+----------------+ | Arch Linux | PASS | +---------------------+----------------+ | Fedora 41 | PASS | +---------------------+----------------+ | Fedora 40 | PASS | +---------------------+----------------+ | RHEL8 | PASS | +---------------------+----------------+ | Fedora 41 (Clang) | PASS | +---------------------+----------------+ | RHEL9 | PASS | +---------------------+----------------+ | Ubuntu 24.04 | PASS | +---------------------+----------------+ | Fedora 40 (Clang) | PASS | +---------------------+----------------+ | Ubuntu 22.04 | PASS | +---------------------+----------------+ | Ubuntu 20.04 | PASS | +---------------------+----------------+ | Windows Server 2022 | PASS | +---------------------+----------------+ CentOS Stream 9 Kernel: Depends on container host Compiler: gcc 11.5.0 20240719 (Red Hat 11.5.0-2) CentOS Stream 10 Kernel: Depends on container host Compiler: gcc 14.2.1 20241104 (Red Hat 14.2.1-6) Debian 12 Kernel: Depends on container host Compiler: gcc (Debian 12.2.0-14) 12.2.0 Arch Linux Kernel: Depends on container host Compiler: gcc 14.2.1 20240910 Fedora 41 Kernel: Depends on container host Compiler: gcc 14.2.1 20240912 (Red Hat 14.2.1-3) Fedora 40 Kernel: Depends on container host Compiler: gcc 14.2.1 20240912 (Red Hat 14.2.1-3) RHEL8 Kernel: Depends on container host Compiler: gcc 8.5.0 20210514 (Red Hat 8.5.0-22) Fedora 41 (Clang) Kernel: Depends on container host Compiler: clang 19.1.5 (Fedora 19.1.5-1.fc41) RHEL9 Kernel: Depends on container host Compiler: gcc 11.5.0 20240719 (Red Hat 11.5.0-2) Ubuntu 24.04 Kernel: Depends on container host Compiler: gcc (Ubuntu 13.3.0-6ubuntu2~24.04) 13.3.0 Fedora 40 (Clang) Kernel: Depends on container host Compiler: clang 18.1.8 (Fedora 18.1.8-1.fc40) Ubuntu 22.04 Kernel: Depends on container host Compiler: gcc (Ubuntu 11.4.0-1ubuntu1~22.04) 11.4.0 Ubuntu 20.04 Kernel: Depends on container host Compiler: gcc (Ubuntu 9.4.0-1ubuntu1~20.04.2) 9.4.0 Windows Server 2022 Kernel: 10.0.20348.2031 Compiler: clang 15.0.7, gcc 14.1.0 (MinGW), and MSVC VS 19.39.33521 To view detailed results, visit: https://lab.dpdk.org/results/dashboard/tarballs/33583/ UNH-IOL DPDK Community Lab To manage your email subscriptions, visit: https://lab.dpdk.org/results/dashboard/preferences/subscriptions/