From mboxrd@z Thu Jan 1 00:00:00 1970 Return-Path: Received: from mails.dpdk.org (mails.dpdk.org [217.70.189.124]) by inbox.dpdk.org (Postfix) with ESMTP id 8E09646796 for ; Tue, 20 May 2025 05:33:28 +0200 (CEST) Received: from mails.dpdk.org (localhost [127.0.0.1]) by mails.dpdk.org (Postfix) with ESMTP id 6BCC4402CA; Tue, 20 May 2025 05:33:28 +0200 (CEST) Received: from mail-yw1-f226.google.com (mail-yw1-f226.google.com [209.85.128.226]) by mails.dpdk.org (Postfix) with ESMTP id 511F7402AE for ; Tue, 20 May 2025 05:33:27 +0200 (CEST) Received: by mail-yw1-f226.google.com with SMTP id 00721157ae682-70825de932bso63163997b3.0 for ; Mon, 19 May 2025 20:33:27 -0700 (PDT) DKIM-Signature: v=1; a=rsa-sha256; c=relaxed/relaxed; d=iol.unh.edu; s=unh-iol; t=1747712006; x=1748316806; darn=dpdk.org; h=references:in-reply-to:cc:to:from:subject:message-id:date:from:to :cc:subject:date:message-id:reply-to; bh=EW61WBJ7CPSbaPA1zhbSdU/oeX/aeS3Acs1pVRjmGUs=; b=NVWI1+xfXKPuKdYbnlZKf6MHg8jXcvGxKHcWj6GedTZu5edf/Qntei3bEqUsjoz4kT jnaWL2ZnYxkta7AVgyRsg0cHsJikIYXJaEvIMxAR1tn528zqiop/MNTFvllWS2eq+a3U z0z6JxLrhS30g76Spl8iYUwVn5v/fWIb5mD4Y= X-Google-DKIM-Signature: v=1; a=rsa-sha256; c=relaxed/relaxed; d=1e100.net; s=20230601; t=1747712006; x=1748316806; h=references:in-reply-to:cc:to:from:subject:message-id:date :x-gm-message-state:from:to:cc:subject:date:message-id:reply-to; bh=EW61WBJ7CPSbaPA1zhbSdU/oeX/aeS3Acs1pVRjmGUs=; b=J1H7M875OG2rww/xUoMZ8sXMNqDbrUCdXd8AQWabzRvPSS69l6DUDA6zGq+XmHoAaE 5U/pTsWGTsbnTxQ+0hdJP93n+j9R9Zmt/ukuCHgJUgbe4YlG3LhiAMOsJXjZI8UKuhZK riFwix6W/3WoLrFhCmB/d8f8GOyGe0pyTRU3+iHijgBRQXlZv9RRdSNt1fosCYpUnHMl McwyB09cSdvBoqszCIexOJxk5egNIrj3j3fhMgMr21JCvFQYoeVZx00fOTmHaI6EsrOG TTSEGT5lw4Sipn42AhP/aB4cu2bBtri2kDITJZYaoO8kDTf78/zPjitokAw9BQiG6Wqm C2aw== X-Gm-Message-State: AOJu0YzPESNEYLB/fUj7qRoh8Rel2k4Vwg7QqwnZU5Hlq61gCt+D5bGr l58j36oUl3IxVEj5UXdmasr0vNyceoaYQWSkTX3PDtRGXE5+OJygiBxUc3BA6A//1A2+Jf7OXe7 xJ3G5K8eblWUtgH8ngHwgicyzukv29w/oizbAZN2uRB97JoEQ9nL+AO0t7E3x X-Gm-Gg: ASbGnctg/sInuvyKKFMzNu/MqzOgCE8iE1Jf1c92gIAqW6i5xRF3b258RXer/fVx2Vp DZ11fC/U8hiOuiUTZS2cYcY9JJmP3h9IEBBZvttWsvQhIiBPqBtuwVN7nTkFb/caOdjKjHeVRLy 6dR9mesgpoZP2LQsRDGsUu/rFmJEUebca/ER8c+oKgBwBnqK55yDbF/PlAKc46h0FT0P2uMBYyA pfZaGZIebGrRBQ4b6pieCEv2umT/YYKcNPTANurPzruVk/MVHDjJPlF3MOhwIbE6yezRjgFDiUk 7HPd4a2YICCnqxftihF4ZnOHE6HExVKTkpbU X-Google-Smtp-Source: AGHT+IGblVUBqULDlvkqmhHC4rt4S4i+fxBd0YsbZc1exNA98gpiNvXTCaDeBmNwHWOovh/jDEP01HUXl/tU X-Received: by 2002:a05:690c:4b8f:b0:6ff:2777:92b7 with SMTP id 00721157ae682-70ca89425d0mr202920427b3.9.1747712006633; Mon, 19 May 2025 20:33:26 -0700 (PDT) Received: from postal.iol.unh.edu (postal.iol.unh.edu. [2606:4100:3880:1234::84]) by smtp-relay.gmail.com with ESMTPS id 00721157ae682-70ca84bf314sm1449397b3.53.2025.05.19.20.33.26 (version=TLS1_2 cipher=ECDHE-ECDSA-AES128-GCM-SHA256 bits=128/128); Mon, 19 May 2025 20:33:26 -0700 (PDT) X-Relaying-Domain: iol.unh.edu Date: Mon, 19 May 2025 20:33:26 -0700 (PDT) Message-ID: <682bf806.050a0220.22ab33.77f6SMTPIN_ADDED_MISSING@mx.google.com> Received: from [172.17.0.4] (unknown [172.18.0.74]) by postal.iol.unh.edu (Postfix) with ESMTP id 43DF86052471; Mon, 19 May 2025 23:33:26 -0400 (EDT) Subject: |SUCCESS| pw153521-153525 [PATCH] [25.11,v2,5/5] eventdev: refactor From: dpdklab@iol.unh.edu To: Test Report Cc: dpdk-test-reports@iol.unh.edu In-Reply-To: <20250519185604.5584-6-pbhagavatula@marvell.com> References: <20250519185604.5584-6-pbhagavatula@marvell.com> Content-Type: text/plain X-BeenThere: test-report@dpdk.org X-Mailman-Version: 2.1.29 Precedence: list List-Id: automatic DPDK test reports List-Unsubscribe: , List-Archive: List-Post: List-Help: List-Subscribe: , Errors-To: test-report-bounces@dpdk.org Test-Label: iol-unit-amd64-testing Test-Status: SUCCESS http://dpdk.org/patch/153525 _Testing PASS_ Submitter: Pavan Nikhilesh Bhagavatula Date: Monday, May 19 2025 18:56:04 DPDK git baseline: Repo:dpdk Branch: master CommitID:117e86c4b96ed761e9a7ab766261208fe81bf5ca 153521-153525 --> testing pass Upstream job id: Generic-Unit-Test-DPDK#339165 Test environment and result as below: +---------------------+----------------+ | Environment | dpdk_unit_test | +=====================+================+ | CentOS Stream 9 | PASS | +---------------------+----------------+ | Debian 12 | PASS | +---------------------+----------------+ | Fedora 40 | PASS | +---------------------+----------------+ | CentOS Stream 10 | PASS | +---------------------+----------------+ | Fedora 40 (Clang) | PASS | +---------------------+----------------+ | Fedora 41 | PASS | +---------------------+----------------+ | RHEL8 | PASS | +---------------------+----------------+ | RHEL9 | PASS | +---------------------+----------------+ | Fedora 41 (Clang) | PASS | +---------------------+----------------+ | Ubuntu 20.04 | PASS | +---------------------+----------------+ | Ubuntu 22.04 | PASS | +---------------------+----------------+ | Ubuntu 24.04 | PASS | +---------------------+----------------+ | Windows Server 2022 | PASS | +---------------------+----------------+ CentOS Stream 9 Kernel: Depends on container host Compiler: gcc 11.5.0 20240719 (Red Hat 11.5.0-2) Debian 12 Kernel: Depends on container host Compiler: gcc (Debian 12.2.0-14) 12.2.0 Fedora 40 Kernel: Depends on container host Compiler: gcc 14.2.1 20240912 (Red Hat 14.2.1-3) CentOS Stream 10 Kernel: Depends on container host Compiler: gcc 14.2.1 20241104 (Red Hat 14.2.1-6) Fedora 40 (Clang) Kernel: Depends on container host Compiler: clang 18.1.8 (Fedora 18.1.8-1.fc40) Fedora 41 Kernel: Depends on container host Compiler: gcc 14.2.1 20240912 (Red Hat 14.2.1-3) RHEL8 Kernel: Depends on container host Compiler: gcc 8.5.0 20210514 (Red Hat 8.5.0-22) RHEL9 Kernel: Depends on container host Compiler: gcc 11.5.0 20240719 (Red Hat 11.5.0-2) Fedora 41 (Clang) Kernel: Depends on container host Compiler: clang 19.1.5 (Fedora 19.1.5-1.fc41) Ubuntu 20.04 Kernel: Depends on container host Compiler: gcc (Ubuntu 9.4.0-1ubuntu1~20.04.2) 9.4.0 Ubuntu 22.04 Kernel: Depends on container host Compiler: gcc (Ubuntu 11.4.0-1ubuntu1~22.04) 11.4.0 Ubuntu 24.04 Kernel: Depends on container host Compiler: gcc (Ubuntu 13.3.0-6ubuntu2~24.04) 13.3.0 Windows Server 2022 Kernel: 10.0.20348.2031 Compiler: clang 15.0.7, gcc 14.1.0 (MinGW), and MSVC VS 19.39.33521 To view detailed results, visit: https://lab.dpdk.org/results/dashboard/patchsets/33208/ UNH-IOL DPDK Community Lab To manage your email subscriptions, visit: https://lab.dpdk.org/results/dashboard/preferences/subscriptions/