From mboxrd@z Thu Jan 1 00:00:00 1970 Return-Path: Received: from mails.dpdk.org (mails.dpdk.org [217.70.189.124]) by inbox.dpdk.org (Postfix) with ESMTP id 98A0B46796 for ; Tue, 20 May 2025 05:34:16 +0200 (CEST) Received: from mails.dpdk.org (localhost [127.0.0.1]) by mails.dpdk.org (Postfix) with ESMTP id 931C2402CA; Tue, 20 May 2025 05:34:16 +0200 (CEST) Received: from mail-io1-f100.google.com (mail-io1-f100.google.com [209.85.166.100]) by mails.dpdk.org (Postfix) with ESMTP id 22B8A402AE for ; Tue, 20 May 2025 05:34:15 +0200 (CEST) Received: by mail-io1-f100.google.com with SMTP id ca18e2360f4ac-85d9a87660fso611583839f.1 for ; Mon, 19 May 2025 20:34:15 -0700 (PDT) DKIM-Signature: v=1; a=rsa-sha256; c=relaxed/relaxed; d=iol.unh.edu; s=unh-iol; t=1747712054; x=1748316854; darn=dpdk.org; h=references:in-reply-to:cc:to:from:subject:message-id:date:from:to :cc:subject:date:message-id:reply-to; bh=HHUPVCzL4BGEgy81yKvi0TOIpgFo4OQDPvMFeZ9Ij0E=; b=G5sIDZwNQ82GWgELIsH0ma9wY9Q8kMwWDIfVtUJTwCamsBH6Y+hqblpfFj4IDevCEx by0d1omfe66ywGkKa08Qb87Onp1c/0knMp2DEr1M0zSmi8t56VTx3u82cHXccjtkTE43 KO1iivhhWudwRaqr/+IsKrNAF3qNxmCr0Gfe4= X-Google-DKIM-Signature: v=1; a=rsa-sha256; c=relaxed/relaxed; d=1e100.net; s=20230601; t=1747712054; x=1748316854; h=references:in-reply-to:cc:to:from:subject:message-id:date :x-gm-message-state:from:to:cc:subject:date:message-id:reply-to; bh=HHUPVCzL4BGEgy81yKvi0TOIpgFo4OQDPvMFeZ9Ij0E=; b=YDOnrYP0vgvqNZ3eyiawhGoo+ToEGcCk4RHaERu69iUFJ3UKTyvprtw/DwlmNPcpqH bbFG3aTePt/4llfrCw7E0cGYBvFi27Hfp9VqmHVfEh0w/S0lBuCug+fT3/bmiqOs94Lv jS+nxi0rWY2+UoTyjfzaVYGKRwAS/f2tZ1cgHXHy/tRlqrgFJvi7kEYaF7OETHQ4yuEJ UT7Pk7bcwGHGFtd602F+dmjG1qB2HIY0Gkg09PyorZSXFGlD5PpS/80Z+DbMlI8gzg50 F1gF7tutEttEmNbn41Ex0nv/j0KXa1HZhqFan/bobM2x/1VItEWmcxuglHYg/vxwRU7U PgJg== X-Gm-Message-State: AOJu0YyNMq996w6H12a2jUHUXRobQcfmNZUrAICl+NuvqBDpoO2MlNMY Zhbxl4refN7AuWvMwcCfLTqPhh+nDLzT/nQbqVQ+osrAARx8wSvNgEuC7kiCHH5ZsMpn9zUPcnI /40S/6j4rovE5dZAv3GKy2HX3gfm48IqGS/rvwrv7M4j/ X-Gm-Gg: ASbGncusAwJVhG7Jb5CbLpGOJriEDnVFCvL0DQfWBqvy8gm6JXG87WocT1bb2Qoa/sA 5tareWRtR1UREuM7wBP+awMQy6pD4/tdAFW/4rOdoh4Ovqby8uIpYrRiDhkM562nIXcaVVEQ96g 6Kis6iuzQhD7LiMVkO6mHNYmdio+neT5KZ6t507qZTUDESrrqyyjnYyW0BFydG/SL84J06C6Ps8 AGZK+ETlCp4pGOe3mB6MwBZW72jsKi7/bcDLl2w8wq5H39Wx6T+hDQUt0T3BJVV1qkQbZMHV6yw 66XpWgCaUVZ6iQLT+ExdRjsOcaNB7v2slrEAswTbHRB+fdt3hO8ywl/moSE= X-Google-Smtp-Source: AGHT+IEyF37yI/6Iw3QfdHCFDKcHRNUyurEcPlnlrIRMCoAAZFI/A8QUzo+l1/D98/W9wTRicj2GrYNTYH20 X-Received: by 2002:a05:6e02:330c:b0:3db:839d:7b36 with SMTP id e9e14a558f8ab-3db857bc504mr157628275ab.21.1747712054465; Mon, 19 May 2025 20:34:14 -0700 (PDT) Received: from postal.iol.unh.edu (postal.iol.unh.edu. [132.177.123.84]) by smtp-relay.gmail.com with ESMTPS id e9e14a558f8ab-3dc662287eesm2123625ab.44.2025.05.19.20.34.14 (version=TLS1_2 cipher=ECDHE-ECDSA-AES128-GCM-SHA256 bits=128/128); Mon, 19 May 2025 20:34:14 -0700 (PDT) X-Relaying-Domain: iol.unh.edu Date: Mon, 19 May 2025 20:34:14 -0700 (PDT) Message-ID: <682bf836.920a0220.a9659.a4a4SMTPIN_ADDED_MISSING@mx.google.com> Received: from [172.17.0.4] (unknown [172.18.0.74]) by postal.iol.unh.edu (Postfix) with ESMTP id EE5B26052471; Mon, 19 May 2025 23:34:13 -0400 (EDT) Subject: |SUCCESS| pw153521-153525 [PATCH] [25.11,v2,5/5] eventdev: refactor From: dpdklab@iol.unh.edu To: Test Report Cc: dpdk-test-reports@iol.unh.edu In-Reply-To: <20250519185604.5584-6-pbhagavatula@marvell.com> References: <20250519185604.5584-6-pbhagavatula@marvell.com> Content-Type: text/plain X-BeenThere: test-report@dpdk.org X-Mailman-Version: 2.1.29 Precedence: list List-Id: automatic DPDK test reports List-Unsubscribe: , List-Archive: List-Post: List-Help: List-Subscribe: , Errors-To: test-report-bounces@dpdk.org Test-Label: iol-unit-arm64-testing Test-Status: SUCCESS http://dpdk.org/patch/153525 _Testing PASS_ Submitter: Pavan Nikhilesh Bhagavatula Date: Monday, May 19 2025 18:56:04 DPDK git baseline: Repo:dpdk Branch: master CommitID:117e86c4b96ed761e9a7ab766261208fe81bf5ca 153521-153525 --> testing pass Upstream job id: Generic-Unit-Test-DPDK#339153 Test environment and result as below: +-----------------------------+--------------+---------------------------+------------------------------+----------------+ | Environment | lpm_autotest | cryptodev_sw_zuc_autotest | cryptodev_sw_snow3g_autotest | dpdk_unit_test | +=============================+==============+===========================+==============================+================+ | Ubuntu 20.04 ARM SVE | PASS | SKIPPED | SKIPPED | SKIPPED | +-----------------------------+--------------+---------------------------+------------------------------+----------------+ | Debian 12 (arm) | SKIPPED | PASS | PASS | PASS | +-----------------------------+--------------+---------------------------+------------------------------+----------------+ | Fedora 41 (ARM Clang) | SKIPPED | SKIPPED | SKIPPED | PASS | +-----------------------------+--------------+---------------------------+------------------------------+----------------+ | CentOS Stream 9 (ARM) | SKIPPED | SKIPPED | SKIPPED | PASS | +-----------------------------+--------------+---------------------------+------------------------------+----------------+ | RHEL9 (ARM) | SKIPPED | SKIPPED | SKIPPED | PASS | +-----------------------------+--------------+---------------------------+------------------------------+----------------+ | Fedora 40 (ARM) | SKIPPED | SKIPPED | SKIPPED | PASS | +-----------------------------+--------------+---------------------------+------------------------------+----------------+ | Fedora 40 (ARM Clang) | SKIPPED | SKIPPED | SKIPPED | PASS | +-----------------------------+--------------+---------------------------+------------------------------+----------------+ | CentOS Stream 10 (ARM) | SKIPPED | SKIPPED | SKIPPED | PASS | +-----------------------------+--------------+---------------------------+------------------------------+----------------+ | Fedora 41 (ARM) | SKIPPED | SKIPPED | SKIPPED | PASS | +-----------------------------+--------------+---------------------------+------------------------------+----------------+ | Ubuntu 20.04 (ARM) | SKIPPED | SKIPPED | SKIPPED | PASS | +-----------------------------+--------------+---------------------------+------------------------------+----------------+ | Ubuntu 24.04 (ARM) | SKIPPED | SKIPPED | SKIPPED | PASS | +-----------------------------+--------------+---------------------------+------------------------------+----------------+ | Ubuntu 22.04 (ARM) | SKIPPED | SKIPPED | SKIPPED | PASS | +-----------------------------+--------------+---------------------------+------------------------------+----------------+ | 32-bit Ubuntu 22.04.4 (ARM) | SKIPPED | SKIPPED | SKIPPED | PASS | +-----------------------------+--------------+---------------------------+------------------------------+----------------+ Ubuntu 20.04 ARM SVE Kernel: Depends on container host Compiler: gcc (Ubuntu 10.5.0-1ubuntu1~20.04) 10.5.0 Debian 12 (arm) Kernel: Depends on container host Compiler: gcc (Debian 12.2.0-14) 12.2.0 Fedora 41 (ARM Clang) Kernel: Depends on container host Compiler: clang 19.1.5 (Fedora 19.1.5-1.fc41) CentOS Stream 9 (ARM) Kernel: Depends on container host Compiler: gcc 11.5.0 20240719 (Red Hat 11.5.0-2) RHEL9 (ARM) Kernel: Depends on container host Compiler: gcc 11.5.0 20240719 (Red Hat 11.5.0-2) Fedora 40 (ARM) Kernel: Depends on container host Compiler: gcc 14.2.1 20240912 (Red Hat 14.2.1-3) Fedora 40 (ARM Clang) Kernel: Depends on container host Compiler: clang 18.1.8 (Fedora 18.1.8-1.fc40) CentOS Stream 10 (ARM) Kernel: Depends on container host Compiler: gcc 14.2.1 20241104 (Red Hat 14.2.1-6) Fedora 41 (ARM) Kernel: Depends on container host Compiler: gcc 14.2.1 20240912 (Red Hat 14.2.1-3) Ubuntu 20.04 (ARM) Kernel: Depends on container host Compiler: gcc (Ubuntu 9.4.0-1ubuntu1~20.04.2) 9.4.0 Ubuntu 24.04 (ARM) Kernel: Depends on container host Compiler: gcc (Ubuntu 13.3.0-6ubuntu2~24.04) 13.3.0 Ubuntu 22.04 (ARM) Kernel: Depends on container host Compiler: gcc (Ubuntu 11.4.0-1ubuntu1~22.04) 11.4.0 32-bit Ubuntu 22.04.4 (ARM) Kernel: 5.15.83+ aarch64 Compiler: gcc (Ubuntu 11.4.0-1ubuntu1~22.04) 11.4.0 To view detailed results, visit: https://lab.dpdk.org/results/dashboard/patchsets/33208/ UNH-IOL DPDK Community Lab To manage your email subscriptions, visit: https://lab.dpdk.org/results/dashboard/preferences/subscriptions/