From mboxrd@z Thu Jan 1 00:00:00 1970 Return-Path: Received: from mails.dpdk.org (mails.dpdk.org [217.70.189.124]) by inbox.dpdk.org (Postfix) with ESMTP id 9DE3846796 for ; Tue, 20 May 2025 05:44:18 +0200 (CEST) Received: from mails.dpdk.org (localhost [127.0.0.1]) by mails.dpdk.org (Postfix) with ESMTP id 79316402CA; Tue, 20 May 2025 05:44:18 +0200 (CEST) Received: from mail-qv1-f100.google.com (mail-qv1-f100.google.com [209.85.219.100]) by mails.dpdk.org (Postfix) with ESMTP id 2D187402AE for ; Tue, 20 May 2025 05:44:17 +0200 (CEST) Received: by mail-qv1-f100.google.com with SMTP id 6a1803df08f44-6f8aa9e6ffdso53719896d6.3 for ; Mon, 19 May 2025 20:44:17 -0700 (PDT) DKIM-Signature: v=1; a=rsa-sha256; c=relaxed/relaxed; d=iol.unh.edu; s=unh-iol; t=1747712656; x=1748317456; darn=dpdk.org; h=cc:to:from:subject:message-id:date:from:to:cc:subject:date :message-id:reply-to; bh=M9pTWWKKCYormeEkgUJTi8+yHif2bvplbDAdBYntrDs=; b=d33XEJ2XAiOBzzeJGZn3XeIgl8AveAJp2E2eBX+td9b+zNYR54xfBAMTzuSWxWVOku 5vv0Am2H0ITWWndnKRLSSuZxihDYnOwWhJHJWYPIXCMN9pC2zkHluM1f9bNGK41RwN40 hd0sqjbSLExm8GmvAC4E8hx5fWyCNXpdHQNPs= X-Google-DKIM-Signature: v=1; a=rsa-sha256; c=relaxed/relaxed; d=1e100.net; s=20230601; t=1747712656; x=1748317456; h=cc:to:from:subject:message-id:date:x-gm-message-state:from:to:cc :subject:date:message-id:reply-to; bh=M9pTWWKKCYormeEkgUJTi8+yHif2bvplbDAdBYntrDs=; b=cecopmRQnp9u/aQe69KCWGEh8+1TmxqHK2HbI5EeUIF+Dnuo6GhCYWzZVUgMk0DnTA 8WbElcP0B044lVo9BZ75Bct2dlFP1bo77I5wklBEiDdtWkw7isp/c0UDyRX0xo7Vbgce bJrNGcw1GMv034wPYtiXCHuR437a/MqfOEHqqgrJVF5fnCoNG72j2ZSq/FdsETWmAzji a9D1ckEkRWeFdrjtqdlzDR0mkSBtqk51kznDGF8rbcQHPzclV55jqIFsnLFPB/1/EwkU aISJ6OzmjnMO04ducKSBIBLRvphSMLvP6M9Ij/UM+2vG28YgLlZ9YxpUVP1y5Gca7zob QtUg== X-Gm-Message-State: AOJu0YwksUwGb0FRdmoZCvrFlKp7MsJDaIYf9uF6X34QU2D+JW0rjzwQ NGN5DKgHHV1wtVhnugLaukZKKSCf1ItW+6y8Mkpo5ulELQx4Fn0Qm2O6r0p71xCMpnco36J/jb+ rNykG79wNJOmIcp+8bOJQ+9wIFDl8RBmLJ+OUhGzV8F0X X-Gm-Gg: ASbGncuGxvSHKy/cBu8CZYBzVgAX9lYFFCGyxTA+F5MY1CcSCL4sZaS4A3o0h/rqM+8 kxcEvDjvFm3vL7Haa3JYAC+MCigpnARHoeMjuUrOMEljJGtIuAk4yZwXYWvhlXlr5gkgEWMW+91 HDlmqVYN4iNk8BLV8rWDqbmJ++15daf2jZoRA00LKpyNUXIVefTuzOYh57QDBWv3SOr83y3mb6Y PWspDsJBoBAcqORSuHcLNPR7eqjliWkPpizycu4siWLg/bbbwGlWAviZskXV0EPn/en3sCpraEa Fxmq5tjZaxHIlKhywy2q2Ok/+Nx9OkN1L7X6DITU6sNCzlt0SOKD8+ZYBrw= X-Google-Smtp-Source: AGHT+IFFbdMqzUrOSeanKFuWdsoNnPFHLBe4y5ke1OesJwzmxUXdaUeulRYCQz/BVo2woB8beaDJ06vei/bU X-Received: by 2002:ad4:5f8e:0:b0:6e8:97f6:3229 with SMTP id 6a1803df08f44-6f8b08667a4mr270749986d6.16.1747712656303; Mon, 19 May 2025 20:44:16 -0700 (PDT) Received: from postal.iol.unh.edu (postal.iol.unh.edu. [132.177.123.84]) by smtp-relay.gmail.com with ESMTPS id 6a1803df08f44-6f8b08c79d0sm2868116d6.36.2025.05.19.20.44.16 (version=TLS1_2 cipher=ECDHE-ECDSA-AES128-GCM-SHA256 bits=128/128); Mon, 19 May 2025 20:44:16 -0700 (PDT) X-Relaying-Domain: iol.unh.edu Date: Mon, 19 May 2025 20:44:16 -0700 (PDT) Message-ID: <682bfa90.050a0220.300c64.03e5SMTPIN_ADDED_MISSING@mx.google.com> Received: from [172.17.0.2] (unknown [172.18.0.76]) by postal.iol.unh.edu (Postfix) with ESMTP id C4E146052471; Mon, 19 May 2025 23:44:15 -0400 (EDT) Subject: |SUCCESS| [GIT MASTER] 117e86c4b96ed761e9a7ab766261208fe81bf5ca From: dpdklab@iol.unh.edu To: Test Report Cc: dpdk-test-reports@iol.unh.edu Content-Type: text/plain X-BeenThere: test-report@dpdk.org X-Mailman-Version: 2.1.29 Precedence: list List-Id: automatic DPDK test reports List-Unsubscribe: , List-Archive: List-Post: List-Help: List-Subscribe: , Errors-To: test-report-bounces@dpdk.org _Testing PASS_ Branch: dpdk 117e86c4b96ed761e9a7ab766261208fe81bf5ca --> testing pass Upstream job id: Generic-DPDK-Compile-Meson#389511 Test environment and result as below: +----------------------------------------+--------------------+ | Environment | dpdk_meson_compile | +========================================+====================+ | RHEL9 (ARM) | PASS | +----------------------------------------+--------------------+ | Ubuntu 20.04 ARM GCC Cross Compile | PASS | +----------------------------------------+--------------------+ | Fedora 40 (ARM) | PASS | +----------------------------------------+--------------------+ | Ubuntu 20.04 ARM SVE | PASS | +----------------------------------------+--------------------+ | Debian 12 with MUSDK | PASS | +----------------------------------------+--------------------+ | Fedora 40 (ARM Clang) | PASS | +----------------------------------------+--------------------+ | Fedora 41 (ARM Clang) | PASS | +----------------------------------------+--------------------+ | Ubuntu 22.04 (ARM) | PASS | +----------------------------------------+--------------------+ | CentOS Stream 9 (ARM) | PASS | +----------------------------------------+--------------------+ | Ubuntu 24.04 (ARM) | PASS | +----------------------------------------+--------------------+ | Debian 12 (arm) | PASS | +----------------------------------------+--------------------+ | Ubuntu 20.04 (ARM) | PASS | +----------------------------------------+--------------------+ | CentOS Stream 10 (ARM) | PASS | +----------------------------------------+--------------------+ | Ubuntu 20.04 ARM Clang Cross Compile | PASS | +----------------------------------------+--------------------+ | Ubuntu 20.04 aarch32 GCC Cross Compile | PASS | +----------------------------------------+--------------------+ | Fedora 41 (ARM) | PASS | +----------------------------------------+--------------------+ RHEL9 (ARM) Kernel: Depends on container host Compiler: gcc 11.5.0 20240719 (Red Hat 11.5.0-2) Ubuntu 20.04 ARM GCC Cross Compile Kernel: Depends on container host Compiler: aarch64-linux-gnu-gcc (Ubuntu 9.4.0-1ubuntu1~20.04.2) 9.4.0 Fedora 40 (ARM) Kernel: Depends on container host Compiler: gcc 14.2.1 20240912 (Red Hat 14.2.1-3) Ubuntu 20.04 ARM SVE Kernel: Depends on container host Compiler: gcc (Ubuntu 10.5.0-1ubuntu1~20.04) 10.5.0 Debian 12 with MUSDK Kernel: Depends on container host Compiler: gcc (Debian 12.2.0-14) 12.2.0 Fedora 40 (ARM Clang) Kernel: Depends on container host Compiler: clang 18.1.8 (Fedora 18.1.8-1.fc40) Fedora 41 (ARM Clang) Kernel: Depends on container host Compiler: clang 19.1.5 (Fedora 19.1.5-1.fc41) Ubuntu 22.04 (ARM) Kernel: Depends on container host Compiler: gcc (Ubuntu 11.4.0-1ubuntu1~22.04) 11.4.0 CentOS Stream 9 (ARM) Kernel: Depends on container host Compiler: gcc 11.5.0 20240719 (Red Hat 11.5.0-2) Ubuntu 24.04 (ARM) Kernel: Depends on container host Compiler: gcc (Ubuntu 13.3.0-6ubuntu2~24.04) 13.3.0 Debian 12 (arm) Kernel: Depends on container host Compiler: gcc (Debian 12.2.0-14) 12.2.0 Ubuntu 20.04 (ARM) Kernel: Depends on container host Compiler: gcc (Ubuntu 9.4.0-1ubuntu1~20.04.2) 9.4.0 CentOS Stream 10 (ARM) Kernel: Depends on container host Compiler: gcc 14.2.1 20241104 (Red Hat 14.2.1-6) Ubuntu 20.04 ARM Clang Cross Compile Kernel: Depends on container host Compiler: clang 10.0.0-4ubuntu1 Ubuntu 20.04 aarch32 GCC Cross Compile Kernel: Depends on container host Compiler: gcc 9.4.0 Fedora 41 (ARM) Kernel: Depends on container host Compiler: gcc 14.2.1 20240912 (Red Hat 14.2.1-3) To view detailed results, visit: https://lab.dpdk.org/results/dashboard/tarballs/33583/ UNH-IOL DPDK Community Lab To manage your email subscriptions, visit: https://lab.dpdk.org/results/dashboard/preferences/subscriptions/