From mboxrd@z Thu Jan 1 00:00:00 1970 Return-Path: Received: from mails.dpdk.org (mails.dpdk.org [217.70.189.124]) by inbox.dpdk.org (Postfix) with ESMTP id 6608C46797 for ; Tue, 20 May 2025 06:57:45 +0200 (CEST) Received: from mails.dpdk.org (localhost [127.0.0.1]) by mails.dpdk.org (Postfix) with ESMTP id 3E970402CA; Tue, 20 May 2025 06:57:45 +0200 (CEST) Received: from mail-il1-f226.google.com (mail-il1-f226.google.com [209.85.166.226]) by mails.dpdk.org (Postfix) with ESMTP id 8D7C0402AE for ; Tue, 20 May 2025 06:57:43 +0200 (CEST) Received: by mail-il1-f226.google.com with SMTP id e9e14a558f8ab-3dc6a8bc915so5900835ab.1 for ; Mon, 19 May 2025 21:57:43 -0700 (PDT) DKIM-Signature: v=1; a=rsa-sha256; c=relaxed/relaxed; d=iol.unh.edu; s=unh-iol; t=1747717063; x=1748321863; darn=dpdk.org; h=cc:to:from:subject:message-id:date:from:to:cc:subject:date :message-id:reply-to; bh=aRdgGmNzFl4gmyVF1liGAnC8irWcwzk14rRhj8q0Z9A=; b=dgY5PBJnCqrL2F//woKjMdcgnwFJszftieea0dFpzT9+JREHbQHwoInYJ8pzBY2IVj 3Lp5aXj8yA3L/a065RQEEDpk6AYT8luCKGW7TLsxl0MgJ2PgBp1FViY1Qkv7dTcwDxQa JZzs+lR6ZiaPYvUUlYupeudWvkcdx/zzpPsNU= X-Google-DKIM-Signature: v=1; a=rsa-sha256; c=relaxed/relaxed; d=1e100.net; s=20230601; t=1747717063; x=1748321863; h=cc:to:from:subject:message-id:date:x-gm-message-state:from:to:cc :subject:date:message-id:reply-to; bh=aRdgGmNzFl4gmyVF1liGAnC8irWcwzk14rRhj8q0Z9A=; b=YdROMePdPIPVkCQPwyRoMu+xS6E/qhlQ09WkjOdtC9Xu3NR0bSEI55qykPtRpJZEBK irSwg06cpdQO4WJtY+I34bzY/vAVJxD3mSJ9uwD6lzh5A1eP52TMSS2F7UxJzWWD0bJC lquoGLY/5mZDvpbzWLzDfH+XH4hL4GEvuNX4O4IUA/dDcxsn4d0KZyBrJN9TE/9HhG3/ nhNtXm5ST93zXOPt5+LcsImFgE100gGjqT4pJC5gyCBg49J2j9afeEK8h71BkNHfFgHy Z2lwj5fxhgNOioGfVjTJHO7ROcEzTtvqa8HoAIwROKKOUNDCe+IFEuAKYoLG7wvjxKlF sIlw== X-Gm-Message-State: AOJu0Yw+xT2/sim1jNwZQz/JmQ2Gg0U06j+IyOugB/iN8YNfhLymmB9b cA/lIQOmT6jPoCvAKe/hCfZDryLVgtlZBTjt2hldnC47UGVZrJXcwF6oBumw4GYRnQAkrYXr2eG 9rkG3FHaNLH3anyr56D0AdsQ+zT+EDWCkCL0/lzNERYthQJhvLkQr X-Gm-Gg: ASbGncsFCdQLb4DLVY5ethFghIWH/A7+vCP1mB3dj2+KNLi1zZ+l5xvQ/F+95Qexrvr f0oFmyN+sx5Z8dYVCNxw/NKY9fVI2gLELRDv+SHz1Dcx1mTFplCqHZWWmEa6qvobsCiYnIuk47N DJri/ci+rmd5SYPzbpX2o00z0OVmBNlekU8VXdMqnQY+M5dpDvcWWQ1nAyBNOSltRrufPodZ+WF yI+bj4Arr/gM42UnIP38AeDAh2T7wcQtnz3oAJbYz3ArIzqFG6V6+nT2/jxgcTjttNh189YTwhQ X3gTlnBaRY+KX+k2P9bYEpPYKB2vvVoE8z2+ X-Google-Smtp-Source: AGHT+IHT765aoAss2m26K9x7WAXd1/FvFpgTUpy3j9zZz6PjF/yJZywr8CLVjH8lp6R7rSHSb2VffSaTuvcD X-Received: by 2002:a05:6602:1406:b0:867:15a5:d16 with SMTP id ca18e2360f4ac-86a17552130mr1921784439f.8.1747717062731; Mon, 19 May 2025 21:57:42 -0700 (PDT) Received: from postal.iol.unh.edu (postal.iol.unh.edu. [2606:4100:3880:1234::84]) by smtp-relay.gmail.com with ESMTPS id 8926c6da1cb9f-4fbcc386b5esm445746173.14.2025.05.19.21.57.42 (version=TLS1_2 cipher=ECDHE-ECDSA-AES128-GCM-SHA256 bits=128/128); Mon, 19 May 2025 21:57:42 -0700 (PDT) X-Relaying-Domain: iol.unh.edu Date: Mon, 19 May 2025 21:57:42 -0700 (PDT) Message-ID: <682c0bc6.050a0220.106e94.6969SMTPIN_ADDED_MISSING@mx.google.com> Received: from [172.21.0.5] (unknown [172.18.0.240]) by postal.iol.unh.edu (Postfix) with ESMTP id 38E566052471; Tue, 20 May 2025 00:57:42 -0400 (EDT) Subject: |SUCCESS| [GIT MASTER] 83a7a648344674c0269fcaeb71d8d16468421a0e From: dpdklab@iol.unh.edu To: Test Report Cc: dpdk-test-reports@iol.unh.edu, Xueming Li , Christian Ehrhardt , Kevin Traynor , Luca Boccassi Content-Type: text/plain X-BeenThere: test-report@dpdk.org X-Mailman-Version: 2.1.29 Precedence: list List-Id: automatic DPDK test reports List-Unsubscribe: , List-Archive: List-Post: List-Help: List-Subscribe: , Errors-To: test-report-bounces@dpdk.org _Testing PASS_ Branch: tags/v23.11 83a7a648344674c0269fcaeb71d8d16468421a0e --> testing pass Upstream job id: Generic-DPDK-Compile-ABI#126997 Test environment and result as below: +-------------------+----------+ | Environment | abi_test | +===================+==========+ | CentOS Stream 9 | PASS | +-------------------+----------+ | Debian 12 | PASS | +-------------------+----------+ | CentOS Stream 10 | PASS | +-------------------+----------+ | Fedora 40 (Clang) | PASS | +-------------------+----------+ | Fedora 40 | PASS | +-------------------+----------+ | Fedora 41 (Clang) | PASS | +-------------------+----------+ | Fedora 41 | PASS | +-------------------+----------+ | openSUSE Leap 15 | PASS | +-------------------+----------+ | RHEL8 | PASS | +-------------------+----------+ | RHEL9 | PASS | +-------------------+----------+ | Ubuntu 22.04 | PASS | +-------------------+----------+ | Ubuntu 24.04 | PASS | +-------------------+----------+ CentOS Stream 9 Kernel: Depends on container host Compiler: gcc 11.5.0 20240719 (Red Hat 11.5.0-2) Debian 12 Kernel: Depends on container host Compiler: gcc (Debian 12.2.0-14) 12.2.0 CentOS Stream 10 Kernel: Depends on container host Compiler: gcc 14.2.1 20241104 (Red Hat 14.2.1-6) Fedora 40 (Clang) Kernel: Depends on container host Compiler: clang 18.1.8 (Fedora 18.1.8-1.fc40) Fedora 40 Kernel: Depends on container host Compiler: gcc 14.2.1 20240912 (Red Hat 14.2.1-3) Fedora 41 (Clang) Kernel: Depends on container host Compiler: clang 19.1.5 (Fedora 19.1.5-1.fc41) Fedora 41 Kernel: Depends on container host Compiler: gcc 14.2.1 20240912 (Red Hat 14.2.1-3) openSUSE Leap 15 Kernel: Depends on container host Compiler: gcc (SUSE Linux) 7.5.0 RHEL8 Kernel: Depends on container host Compiler: gcc 8.5.0 20210514 (Red Hat 8.5.0-22) RHEL9 Kernel: Depends on container host Compiler: gcc 11.5.0 20240719 (Red Hat 11.5.0-2) Ubuntu 22.04 Kernel: Depends on container host Compiler: gcc (Ubuntu 11.4.0-1ubuntu1~22.04) 11.4.0 Ubuntu 24.04 Kernel: Depends on container host Compiler: gcc (Ubuntu 13.3.0-6ubuntu2~24.04) 13.3.0 To view detailed results, visit: https://lab.dpdk.org/results/dashboard/tarballs/33586/ UNH-IOL DPDK Community Lab To manage your email subscriptions, visit: https://lab.dpdk.org/results/dashboard/preferences/subscriptions/