From mboxrd@z Thu Jan 1 00:00:00 1970 Return-Path: Received: from mails.dpdk.org (mails.dpdk.org [217.70.189.124]) by inbox.dpdk.org (Postfix) with ESMTP id 6677A46797 for ; Tue, 20 May 2025 06:58:18 +0200 (CEST) Received: from mails.dpdk.org (localhost [127.0.0.1]) by mails.dpdk.org (Postfix) with ESMTP id 60B67402CA; Tue, 20 May 2025 06:58:18 +0200 (CEST) Received: from mail-qt1-f226.google.com (mail-qt1-f226.google.com [209.85.160.226]) by mails.dpdk.org (Postfix) with ESMTP id B2579402AE for ; Tue, 20 May 2025 06:58:16 +0200 (CEST) Received: by mail-qt1-f226.google.com with SMTP id d75a77b69052e-476977848c4so56309091cf.1 for ; Mon, 19 May 2025 21:58:16 -0700 (PDT) DKIM-Signature: v=1; a=rsa-sha256; c=relaxed/relaxed; d=iol.unh.edu; s=unh-iol; t=1747717096; x=1748321896; darn=dpdk.org; h=cc:to:from:subject:message-id:date:from:to:cc:subject:date :message-id:reply-to; bh=MSSc27MxE66Xu5RHHVJz86i+Of7v6AYOvNhpdMUndws=; b=e4vf+HCW/T9scMCCz3aJ6yLGm3EQdyjZCuQDHiWBkjfOsKGYs1Jp6Tu6XGD9idg0qm xgOMkbn1DraSSrhKRaWREy6Cfpt37oTz2Gexne7+fMdfDCM5ombt0i97OSO1QoZZi+xW B4TPQ7r0933eJTMOIHC0zt7LBAaKG0sRwtqjI= X-Google-DKIM-Signature: v=1; a=rsa-sha256; c=relaxed/relaxed; d=1e100.net; s=20230601; t=1747717096; x=1748321896; h=cc:to:from:subject:message-id:date:x-gm-message-state:from:to:cc :subject:date:message-id:reply-to; bh=MSSc27MxE66Xu5RHHVJz86i+Of7v6AYOvNhpdMUndws=; b=K3Rx8x0pKI4bprubj9ATnhxSSWAn6A7NDpIeiTw37PnFkb9DuwlTflrcwwntp05NF7 uWl7ucK7DNSUXby5golQIxw+0t/ZAdKx5FZEmQmXRQJWf2jTjGUhvgSDTSO5SFltYQO3 4HgB3TMQboMjveTIX5tUaqa9rxkB7pjNsosMRYpQhGxSAaEbHqEv2RvseIo/FGmvan0Q qQoiCxdA8Ld1+IQeI/1PONgfSj6bLcczIbP8SAJ/TI1s3XCr7lo8hWF+hmkPfF6bhEht 7EI8IxYC5EE1+WvmicW2J8cJw8wut0S8+TM8aRyBeVcCPKE3IpuPB39eHbTWACOwVQF0 J7wQ== X-Gm-Message-State: AOJu0Yyr4fHYCfsoGkcU47CNQhBwum727DN52VNTyK1Hr65+NPHCHpTg PTv7OToTjeRrrWJErTm/4rFIgFiSVvcyCWym0xRjv5UsfXAhz2h/LBpvr6tB5Je/f16XyZJsFlu cTPzb8bAkwZCIiGIWlBFM9+3Ui2nKVUvZqw3tzYo0Kam2IjA8G4l9 X-Gm-Gg: ASbGncuDCJDc4hK0c0Pr6YfpFXAUgDzc0Vp2QyVA7kK3LeTyVW8ZxoiXNwmV6raZIYz 8HqtcOnNQ2kyP0VNdwuZ+khoh4ZVN4Ucwz/DmNfcS/0jP+XJR9Yki1iojqL2uFwtVbhC7a3ATT1 vVCMZwAgb00PfnEjrz6fLT9pTyC5xWwBRb6Jc4/PKG8qGSiXogSnyz88sOf7zIevR5CsNNplxk9 e0KSVhunBBogRyET+KnfAGQgTAxMY0kk876Arkixu6Dgkvn4eR9TD4gOjdx9lKlUfhHBAkhYexs bNjFA/3VaTYeN5NHmeuvX5ONUdH4RGfH5Cu1 X-Google-Smtp-Source: AGHT+IGPlMMxg0evuqzobX9V+qCibR+iO3XaOTNcxWgkiXDa5deElqsV5MvLxJrkdJ6FzJ4aR6386vSQ5YKn X-Received: by 2002:a05:622a:488e:b0:476:9180:6c27 with SMTP id d75a77b69052e-494ae388631mr338808971cf.13.1747717095961; Mon, 19 May 2025 21:58:15 -0700 (PDT) Received: from postal.iol.unh.edu (postal.iol.unh.edu. [2606:4100:3880:1234::84]) by smtp-relay.gmail.com with ESMTPS id d75a77b69052e-494ae507a4csm3988031cf.22.2025.05.19.21.58.15 (version=TLS1_2 cipher=ECDHE-ECDSA-AES128-GCM-SHA256 bits=128/128); Mon, 19 May 2025 21:58:15 -0700 (PDT) X-Relaying-Domain: iol.unh.edu Date: Mon, 19 May 2025 21:58:15 -0700 (PDT) Message-ID: <682c0be7.c80a0220.3c6b48.4cacSMTPIN_ADDED_MISSING@mx.google.com> Received: from [172.21.0.6] (unknown [172.18.0.240]) by postal.iol.unh.edu (Postfix) with ESMTP id A9EDA6052471; Tue, 20 May 2025 00:58:15 -0400 (EDT) Subject: |SUCCESS| [GIT MASTER] 83a7a648344674c0269fcaeb71d8d16468421a0e From: dpdklab@iol.unh.edu To: Test Report Cc: dpdk-test-reports@iol.unh.edu, Xueming Li , Christian Ehrhardt , Kevin Traynor , Luca Boccassi Content-Type: text/plain X-BeenThere: test-report@dpdk.org X-Mailman-Version: 2.1.29 Precedence: list List-Id: automatic DPDK test reports List-Unsubscribe: , List-Archive: List-Post: List-Help: List-Subscribe: , Errors-To: test-report-bounces@dpdk.org _Testing PASS_ Branch: tags/v23.11 83a7a648344674c0269fcaeb71d8d16468421a0e --> testing pass Upstream job id: Generic-DPDK-Compile-ABI#126994 Test environment and result as below: +-------------------+----------+ | Environment | abi_test | +===================+==========+ | CentOS Stream 9 | PASS | +-------------------+----------+ | Debian 12 | PASS | +-------------------+----------+ | CentOS Stream 10 | PASS | +-------------------+----------+ | Fedora 40 (Clang) | PASS | +-------------------+----------+ | Fedora 40 | PASS | +-------------------+----------+ | Fedora 41 (Clang) | PASS | +-------------------+----------+ | Fedora 41 | PASS | +-------------------+----------+ | openSUSE Leap 15 | PASS | +-------------------+----------+ | RHEL8 | PASS | +-------------------+----------+ | RHEL9 | PASS | +-------------------+----------+ | Ubuntu 22.04 | PASS | +-------------------+----------+ | Ubuntu 24.04 | PASS | +-------------------+----------+ CentOS Stream 9 Kernel: Depends on container host Compiler: gcc 11.5.0 20240719 (Red Hat 11.5.0-2) Debian 12 Kernel: Depends on container host Compiler: gcc (Debian 12.2.0-14) 12.2.0 CentOS Stream 10 Kernel: Depends on container host Compiler: gcc 14.2.1 20241104 (Red Hat 14.2.1-6) Fedora 40 (Clang) Kernel: Depends on container host Compiler: clang 18.1.8 (Fedora 18.1.8-1.fc40) Fedora 40 Kernel: Depends on container host Compiler: gcc 14.2.1 20240912 (Red Hat 14.2.1-3) Fedora 41 (Clang) Kernel: Depends on container host Compiler: clang 19.1.5 (Fedora 19.1.5-1.fc41) Fedora 41 Kernel: Depends on container host Compiler: gcc 14.2.1 20240912 (Red Hat 14.2.1-3) openSUSE Leap 15 Kernel: Depends on container host Compiler: gcc (SUSE Linux) 7.5.0 RHEL8 Kernel: Depends on container host Compiler: gcc 8.5.0 20210514 (Red Hat 8.5.0-22) RHEL9 Kernel: Depends on container host Compiler: gcc 11.5.0 20240719 (Red Hat 11.5.0-2) Ubuntu 22.04 Kernel: Depends on container host Compiler: gcc (Ubuntu 11.4.0-1ubuntu1~22.04) 11.4.0 Ubuntu 24.04 Kernel: Depends on container host Compiler: gcc (Ubuntu 13.3.0-6ubuntu2~24.04) 13.3.0 To view detailed results, visit: https://lab.dpdk.org/results/dashboard/tarballs/33586/ UNH-IOL DPDK Community Lab To manage your email subscriptions, visit: https://lab.dpdk.org/results/dashboard/preferences/subscriptions/