From mboxrd@z Thu Jan 1 00:00:00 1970 Return-Path: Received: from mails.dpdk.org (mails.dpdk.org [217.70.189.124]) by inbox.dpdk.org (Postfix) with ESMTP id 8574F46797 for ; Tue, 20 May 2025 07:53:25 +0200 (CEST) Received: from mails.dpdk.org (localhost [127.0.0.1]) by mails.dpdk.org (Postfix) with ESMTP id 819DE40648; Tue, 20 May 2025 07:53:25 +0200 (CEST) Received: from mail-io1-f99.google.com (mail-io1-f99.google.com [209.85.166.99]) by mails.dpdk.org (Postfix) with ESMTP id 6947C402CA for ; Tue, 20 May 2025 07:53:24 +0200 (CEST) Received: by mail-io1-f99.google.com with SMTP id ca18e2360f4ac-85b3f92c8dfso187913539f.2 for ; Mon, 19 May 2025 22:53:24 -0700 (PDT) DKIM-Signature: v=1; a=rsa-sha256; c=relaxed/relaxed; d=iol.unh.edu; s=unh-iol; t=1747720403; x=1748325203; darn=dpdk.org; h=references:in-reply-to:cc:to:from:subject:message-id:date:from:to :cc:subject:date:message-id:reply-to; bh=uGTzJ6rsHsLtTukdAm8TwTldaErgMMvFGkSTzUtbCNg=; b=Az7ME1y54Z6hjHuGITz6nPNTimD3aKh180ZdwutLfZRs1Kmz16dwUZMwgd7/y8e1SL aHpO3Dd5d6DG2/fxN2uEQVcR/kYhaFqI8AifZZwSszdVuw2LCZYmImqb4tcLWb1w8pmN 8F8dNBCDjGEHFOlZokh0LtIHtjp3v9GSvroxg= X-Google-DKIM-Signature: v=1; a=rsa-sha256; c=relaxed/relaxed; d=1e100.net; s=20230601; t=1747720403; x=1748325203; h=references:in-reply-to:cc:to:from:subject:message-id:date :x-gm-message-state:from:to:cc:subject:date:message-id:reply-to; bh=uGTzJ6rsHsLtTukdAm8TwTldaErgMMvFGkSTzUtbCNg=; b=Y5/xLsGB1hyadXPDLQ6M8t5q6KY1RiCAVuNHUUcfN786RfoltaUFXPHTGVj2YobrOY fs1MNsvXHMs0vkYbwD+c9wX1w2vXkp/aA+d/Zf+H2xGpk0D5orHT5+uOCdktvd1ZDLsb Yo0zDBF6+HwaXZqYtVEcOPx20ZCs0bSwTLRipnlZjMmTGaP476RuFRVau919ivCoeYL7 1YR/6O92vYc2JslGVvwNvUVi0QAJ7edSPjKYjtC5WaKc48UC5ftqrpftX4W6YVxC8i3t R0zWjIEa+GzPrcMr5gCahRI0IlnAukK7GUTDImJrBFmoQjlKSWkCRlJpgS/1aZoj32/X +Eew== X-Gm-Message-State: AOJu0Yx6kA8VyJgIkES3JVNFykWHVyj2lVbqVVWr47D5IOJv7gA4USCX JznjloGGJIUxVlPlHbpiofH07mEnYLo+A4TsUAMOwSlmb134RL+72XUV5A3rVgkR/wqci7DgffH qSMDMpcSwxPjBBmtvx0v6uFHLuLHkYyQVsf6gPbv4BJNO X-Gm-Gg: ASbGncsZTg8DQf5iEdZtwsUEnoRs6ikTqDe8J9zvtmsOuAZ/yTtESfBPc0FVpF0eD1m OyUf6/1Gy0o+zKw8N0axS+UeTtzGxw5bHwSULSwnN4bTV5+PNlWkVvzecw7SZpWajBY81Kg6F6j 4ee244W3CTvJFeQsbTjq0k4/uOHjL1cR5h18DDofJD6RPCdhIiJOuXbShsdSo/Q+vzIVx8+1GUG TGjEKR/EJTeBu9wrggCUEdg741BVliPi83/vx56yyUO299kGY3bQyY6XO21t24yiNTiIgE3oUb1 zeKJI/xIJ3dqWNounrrtjH5QctZoWiCx96W0pNZcjl9gex7tugDSviplfkg= X-Google-Smtp-Source: AGHT+IFRu1xT1AU+kncQdZlpvNhMTlBLHqhpUK97fPmHAxN088oqAqwIlquoQqWezaiQlzH0UmHqThd+pOY5 X-Received: by 2002:a05:6602:4192:b0:85b:577b:37c9 with SMTP id ca18e2360f4ac-86a23257b48mr2000235039f.12.1747720403670; Mon, 19 May 2025 22:53:23 -0700 (PDT) Received: from postal.iol.unh.edu (postal.iol.unh.edu. [132.177.123.84]) by smtp-relay.gmail.com with ESMTPS id ca18e2360f4ac-86a235e90dasm42199439f.2.2025.05.19.22.53.23 (version=TLS1_2 cipher=ECDHE-ECDSA-AES128-GCM-SHA256 bits=128/128); Mon, 19 May 2025 22:53:23 -0700 (PDT) X-Relaying-Domain: iol.unh.edu Date: Mon, 19 May 2025 22:53:23 -0700 (PDT) Message-ID: <682c18d3.050a0220.fe452.6c51SMTPIN_ADDED_MISSING@mx.google.com> Received: from [172.21.0.5] (unknown [172.18.0.240]) by postal.iol.unh.edu (Postfix) with ESMTP id 00A8D6052471; Tue, 20 May 2025 01:53:22 -0400 (EDT) Subject: |SUCCESS| pw153521-153525 [PATCH] [25.11,v2,5/5] eventdev: refactor From: dpdklab@iol.unh.edu To: Test Report Cc: dpdk-test-reports@iol.unh.edu In-Reply-To: <20250519185604.5584-6-pbhagavatula@marvell.com> References: <20250519185604.5584-6-pbhagavatula@marvell.com> Content-Type: text/plain X-BeenThere: test-report@dpdk.org X-Mailman-Version: 2.1.29 Precedence: list List-Id: automatic DPDK test reports List-Unsubscribe: , List-Archive: List-Post: List-Help: List-Subscribe: , Errors-To: test-report-bounces@dpdk.org Test-Label: iol-compile-arm64-testing Test-Status: SUCCESS http://dpdk.org/patch/153525 _Testing PASS_ Submitter: Pavan Nikhilesh Bhagavatula Date: Monday, May 19 2025 18:56:04 DPDK git baseline: Repo:dpdk Branch: master CommitID:117e86c4b96ed761e9a7ab766261208fe81bf5ca 153521-153525 --> testing pass Upstream job id: Generic-DPDK-Compile-Meson#389549 Test environment and result as below: +----------------------------------------+--------------------+ | Environment | dpdk_meson_compile | +========================================+====================+ | Fedora 40 (ARM Clang) | PASS | +----------------------------------------+--------------------+ | Fedora 40 (ARM) | PASS | +----------------------------------------+--------------------+ | Debian 12 with MUSDK | PASS | +----------------------------------------+--------------------+ | Ubuntu 20.04 ARM SVE | PASS | +----------------------------------------+--------------------+ | Ubuntu 20.04 ARM GCC Cross Compile | PASS | +----------------------------------------+--------------------+ | RHEL9 (ARM) | PASS | +----------------------------------------+--------------------+ | Fedora 41 (ARM) | PASS | +----------------------------------------+--------------------+ | Fedora 41 (ARM Clang) | PASS | +----------------------------------------+--------------------+ | Debian 12 (arm) | PASS | +----------------------------------------+--------------------+ | Ubuntu 20.04 aarch32 GCC Cross Compile | PASS | +----------------------------------------+--------------------+ | Ubuntu 20.04 ARM Clang Cross Compile | PASS | +----------------------------------------+--------------------+ | Ubuntu 22.04 (ARM) | PASS | +----------------------------------------+--------------------+ | CentOS Stream 9 (ARM) | PASS | +----------------------------------------+--------------------+ | Ubuntu 24.04 (ARM) | PASS | +----------------------------------------+--------------------+ | Ubuntu 20.04 (ARM) | PASS | +----------------------------------------+--------------------+ | CentOS Stream 10 (ARM) | PASS | +----------------------------------------+--------------------+ Fedora 40 (ARM Clang) Kernel: Depends on container host Compiler: clang 18.1.8 (Fedora 18.1.8-1.fc40) Fedora 40 (ARM) Kernel: Depends on container host Compiler: gcc 14.2.1 20240912 (Red Hat 14.2.1-3) Debian 12 with MUSDK Kernel: Depends on container host Compiler: gcc (Debian 12.2.0-14) 12.2.0 Ubuntu 20.04 ARM SVE Kernel: Depends on container host Compiler: gcc (Ubuntu 10.5.0-1ubuntu1~20.04) 10.5.0 Ubuntu 20.04 ARM GCC Cross Compile Kernel: Depends on container host Compiler: aarch64-linux-gnu-gcc (Ubuntu 9.4.0-1ubuntu1~20.04.2) 9.4.0 RHEL9 (ARM) Kernel: Depends on container host Compiler: gcc 11.5.0 20240719 (Red Hat 11.5.0-2) Fedora 41 (ARM) Kernel: Depends on container host Compiler: gcc 14.2.1 20240912 (Red Hat 14.2.1-3) Fedora 41 (ARM Clang) Kernel: Depends on container host Compiler: clang 19.1.5 (Fedora 19.1.5-1.fc41) Debian 12 (arm) Kernel: Depends on container host Compiler: gcc (Debian 12.2.0-14) 12.2.0 Ubuntu 20.04 aarch32 GCC Cross Compile Kernel: Depends on container host Compiler: gcc 9.4.0 Ubuntu 20.04 ARM Clang Cross Compile Kernel: Depends on container host Compiler: clang 10.0.0-4ubuntu1 Ubuntu 22.04 (ARM) Kernel: Depends on container host Compiler: gcc (Ubuntu 11.4.0-1ubuntu1~22.04) 11.4.0 CentOS Stream 9 (ARM) Kernel: Depends on container host Compiler: gcc 11.5.0 20240719 (Red Hat 11.5.0-2) Ubuntu 24.04 (ARM) Kernel: Depends on container host Compiler: gcc (Ubuntu 13.3.0-6ubuntu2~24.04) 13.3.0 Ubuntu 20.04 (ARM) Kernel: Depends on container host Compiler: gcc (Ubuntu 9.4.0-1ubuntu1~20.04.2) 9.4.0 CentOS Stream 10 (ARM) Kernel: Depends on container host Compiler: gcc 14.2.1 20241104 (Red Hat 14.2.1-6) To view detailed results, visit: https://lab.dpdk.org/results/dashboard/patchsets/33208/ UNH-IOL DPDK Community Lab To manage your email subscriptions, visit: https://lab.dpdk.org/results/dashboard/preferences/subscriptions/