From mboxrd@z Thu Jan 1 00:00:00 1970 Return-Path: Received: from mails.dpdk.org (mails.dpdk.org [217.70.189.124]) by inbox.dpdk.org (Postfix) with ESMTP id 80EE946799 for ; Tue, 20 May 2025 08:46:49 +0200 (CEST) Received: from mails.dpdk.org (localhost [127.0.0.1]) by mails.dpdk.org (Postfix) with ESMTP id 5F408402CA; Tue, 20 May 2025 08:46:49 +0200 (CEST) Received: from mail-il1-f225.google.com (mail-il1-f225.google.com [209.85.166.225]) by mails.dpdk.org (Postfix) with ESMTP id 15D2F402AE for ; Tue, 20 May 2025 08:46:48 +0200 (CEST) Received: by mail-il1-f225.google.com with SMTP id e9e14a558f8ab-3da73df6c4eso45439795ab.0 for ; Mon, 19 May 2025 23:46:47 -0700 (PDT) DKIM-Signature: v=1; a=rsa-sha256; c=relaxed/relaxed; d=iol.unh.edu; s=unh-iol; t=1747723607; x=1748328407; darn=dpdk.org; h=cc:to:from:subject:message-id:date:from:to:cc:subject:date :message-id:reply-to; bh=hS+HMhcAkd8niGjJMa8JLQuRG4xRdI4Xxj233UvFvMs=; b=KYnHx44Q0W7zqwWH25mwmFW2Krabn4bEa8gOyIwkTnWDAG7A4JA7mw3bCWg1UHz6Dn BctC2f8SdbTBWEkn9g2IJHeNYjrc5HGpW9F5j1flwGSs9Lc/qtHAruNKAknvodu6dxOm zPzkOKwPHPJEn99PsTr6MA679FoYpXNy/ugYQ= X-Google-DKIM-Signature: v=1; a=rsa-sha256; c=relaxed/relaxed; d=1e100.net; s=20230601; t=1747723607; x=1748328407; h=cc:to:from:subject:message-id:date:x-gm-message-state:from:to:cc :subject:date:message-id:reply-to; bh=hS+HMhcAkd8niGjJMa8JLQuRG4xRdI4Xxj233UvFvMs=; b=EPSAXitfNbA+xHxkEgO64AqvCn/fzHsWOLuGfnL2pv6u49wxrpqtseeUwIoLHcZ7qd 45WS54Zmc3+U8M4EuLH+2nzzv4/IscJ07bidnJzMHiuOVVJMfmDO7hz0CaoTSoHwUZnU SIZ8rowJEXX//NFMWzN6hDaWUXdyLMkoLL+OB2Y2+IOOFOiXQRLFYgbz4AKU5r2E9zq2 pTZC4ORozqjBjXI6QAcpAT6IXZ5Ey+9P8LKjGy3CwrfGTObBsb2JkxnL628yipVoCU8M a5sIO3xYhJynJoPJVgjUsYa9pkhum98wzx+/DZyqEg/vDbGMyb4P5hIj0amxmJMFCSfE aNUg== X-Gm-Message-State: AOJu0YxdmPSWWtBlUTvNxrBRpcz7xGlQyD8QE9G55iomh80Y2VMsTU23 5pvj1WNn/kjlv/OHpF+4rLNPLu2r4uocWv0bSSt8bHa6xj/mJpv272ON+7QVfM3U5D3THnw7n6x I+nO1unXzw8u9Uk4Q5kloWCEPk/7kPS2UlW7yzLycYESkwYVfIBEr X-Gm-Gg: ASbGncugids76FuZYFViNc5C4liFGcKtGAFfiEwoYklGSCdWeWjtRRskfz3kAx6uxvm Geck6MkJSgY5aOOGgrcwF4m+2dFQpMY+iAXOCFPYcqEovCN1cb7LsxEsYMNZ6GWBA3nHfaUk7WV VeQQpLGB6JXorI3isehuvVDahvsWV+WWU4jzrzV1IA1P3wAp8ZtAl7z1r9+7M6aM5n8RaM9/RQS bSiAUmGZteXRep6X5vd6Z/6pltYwcXCJwMSk0B47bIv7s42JCGeT2jxuW3yLde5sqwKNBwn/N1w Kwlx1skdZJwGTx3mpgT1doorb/+2plXrmYgP X-Google-Smtp-Source: AGHT+IFmpAR9vQ/Q9HPgxckcoC5MoMf07RE2fiuX/apdAkUDATEUgHWAWvkmMZdqgscEO/GuGqHvCEwY+/dI X-Received: by 2002:a05:6e02:3e05:b0:3dc:7f17:72cd with SMTP id e9e14a558f8ab-3dc7f17782amr281035ab.19.1747723607260; Mon, 19 May 2025 23:46:47 -0700 (PDT) Received: from postal.iol.unh.edu (postal.iol.unh.edu. [2606:4100:3880:1234::84]) by smtp-relay.gmail.com with ESMTPS id 8926c6da1cb9f-4fbcc3882bdsm446688173.13.2025.05.19.23.46.47 (version=TLS1_2 cipher=ECDHE-ECDSA-AES128-GCM-SHA256 bits=128/128); Mon, 19 May 2025 23:46:47 -0700 (PDT) X-Relaying-Domain: iol.unh.edu Date: Mon, 19 May 2025 23:46:47 -0700 (PDT) Message-ID: <682c2557.050a0220.2ec799.7281SMTPIN_ADDED_MISSING@mx.google.com> Received: from [172.21.0.6] (unknown [172.18.0.240]) by postal.iol.unh.edu (Postfix) with ESMTP id BF24E6052471; Tue, 20 May 2025 02:46:46 -0400 (EDT) Subject: |SUCCESS| [GIT MASTER] 83a7a648344674c0269fcaeb71d8d16468421a0e From: dpdklab@iol.unh.edu To: Test Report Cc: dpdk-test-reports@iol.unh.edu, Xueming Li , Christian Ehrhardt , Kevin Traynor , Luca Boccassi Content-Type: text/plain X-BeenThere: test-report@dpdk.org X-Mailman-Version: 2.1.29 Precedence: list List-Id: automatic DPDK test reports List-Unsubscribe: , List-Archive: List-Post: List-Help: List-Subscribe: , Errors-To: test-report-bounces@dpdk.org _Testing PASS_ Branch: tags/v23.11 83a7a648344674c0269fcaeb71d8d16468421a0e --> testing pass Upstream job id: Generic-Unit-Test-DPDK#339191 Test environment and result as below: +---------------------+----------------+ | Environment | dpdk_unit_test | +=====================+================+ | CentOS Stream 9 | PASS | +---------------------+----------------+ | Debian 12 | PASS | +---------------------+----------------+ | CentOS Stream 10 | PASS | +---------------------+----------------+ | Fedora 41 (Clang) | PASS | +---------------------+----------------+ | Fedora 41 | PASS | +---------------------+----------------+ | Fedora 40 | PASS | +---------------------+----------------+ | Fedora 40 (Clang) | PASS | +---------------------+----------------+ | Ubuntu 20.04 | PASS | +---------------------+----------------+ | RHEL8 | PASS | +---------------------+----------------+ | Ubuntu 22.04 | PASS | +---------------------+----------------+ | Ubuntu 24.04 | PASS | +---------------------+----------------+ | RHEL9 | PASS | +---------------------+----------------+ | Windows Server 2022 | PASS | +---------------------+----------------+ CentOS Stream 9 Kernel: Depends on container host Compiler: gcc 11.5.0 20240719 (Red Hat 11.5.0-2) Debian 12 Kernel: Depends on container host Compiler: gcc (Debian 12.2.0-14) 12.2.0 CentOS Stream 10 Kernel: Depends on container host Compiler: gcc 14.2.1 20241104 (Red Hat 14.2.1-6) Fedora 41 (Clang) Kernel: Depends on container host Compiler: clang 19.1.5 (Fedora 19.1.5-1.fc41) Fedora 41 Kernel: Depends on container host Compiler: gcc 14.2.1 20240912 (Red Hat 14.2.1-3) Fedora 40 Kernel: Depends on container host Compiler: gcc 14.2.1 20240912 (Red Hat 14.2.1-3) Fedora 40 (Clang) Kernel: Depends on container host Compiler: clang 18.1.8 (Fedora 18.1.8-1.fc40) Ubuntu 20.04 Kernel: Depends on container host Compiler: gcc (Ubuntu 9.4.0-1ubuntu1~20.04.2) 9.4.0 RHEL8 Kernel: Depends on container host Compiler: gcc 8.5.0 20210514 (Red Hat 8.5.0-22) Ubuntu 22.04 Kernel: Depends on container host Compiler: gcc (Ubuntu 11.4.0-1ubuntu1~22.04) 11.4.0 Ubuntu 24.04 Kernel: Depends on container host Compiler: gcc (Ubuntu 13.3.0-6ubuntu2~24.04) 13.3.0 RHEL9 Kernel: Depends on container host Compiler: gcc 11.5.0 20240719 (Red Hat 11.5.0-2) Windows Server 2022 Kernel: 10.0.20348.2031 Compiler: clang 15.0.7, gcc 14.1.0 (MinGW), and MSVC VS 19.39.33521 To view detailed results, visit: https://lab.dpdk.org/results/dashboard/tarballs/33586/ UNH-IOL DPDK Community Lab To manage your email subscriptions, visit: https://lab.dpdk.org/results/dashboard/preferences/subscriptions/