From mboxrd@z Thu Jan 1 00:00:00 1970 Return-Path: Received: from mails.dpdk.org (mails.dpdk.org [217.70.189.124]) by inbox.dpdk.org (Postfix) with ESMTP id EE3A546799 for ; Tue, 20 May 2025 09:02:08 +0200 (CEST) Received: from mails.dpdk.org (localhost [127.0.0.1]) by mails.dpdk.org (Postfix) with ESMTP id EB614402CA; Tue, 20 May 2025 09:02:08 +0200 (CEST) Received: from mail-qk1-f227.google.com (mail-qk1-f227.google.com [209.85.222.227]) by mails.dpdk.org (Postfix) with ESMTP id 29746402AE for ; Tue, 20 May 2025 09:02:08 +0200 (CEST) Received: by mail-qk1-f227.google.com with SMTP id af79cd13be357-7c597760323so600037185a.3 for ; Tue, 20 May 2025 00:02:08 -0700 (PDT) DKIM-Signature: v=1; a=rsa-sha256; c=relaxed/relaxed; d=iol.unh.edu; s=unh-iol; t=1747724527; x=1748329327; darn=dpdk.org; h=references:in-reply-to:cc:to:from:subject:message-id:date:from:to :cc:subject:date:message-id:reply-to; bh=s837rywFn4SNcPFcT4uOZuDf2uRI8EoBt3psYvthfs8=; b=fBJErlErCvzJUrEI3cWv/IN8++EBCVy/GftiLF5b7E60488x/tJDayfNEjQdMW9kQk vxM8mrEuw9CfY9Xb/0LYx+sVAOFZmLjqr7iTts5pBFSIojatzlm4ZPirbKXrY5+2XVll bLBWYHNX/Y93HuL1WsGLN3Ecvi01FsUtvFvFA= X-Google-DKIM-Signature: v=1; a=rsa-sha256; c=relaxed/relaxed; d=1e100.net; s=20230601; t=1747724527; x=1748329327; h=references:in-reply-to:cc:to:from:subject:message-id:date :x-gm-message-state:from:to:cc:subject:date:message-id:reply-to; bh=s837rywFn4SNcPFcT4uOZuDf2uRI8EoBt3psYvthfs8=; b=GkTdAKdF+06yG6ZWJJK05PxFYksXvDD66uQ5X+S0DMQwrnnBwage7+bYl69Zy6DDxF ohU/LEMVyLq6YQ5HHxGDTjPLFibH+9XtawRUCH1I/UyuWLa9nfv1tVFOJ6Ds2zmY427I wx4MnfC9zv63od8KpCi6ert5xiAIvEPwzmZjxyRpKz0FRTuX6jnjjhaAKya95JP3/qqT 7h7YKStFIcPR2QLhXXXbwkKU7riVIozpe0janBFf7k8Rx/zrBVUxFSN0whmNVyQrFUOi tjNcekTV2Yxqb2FmKMrNfX4qStNL5PDHLVJqMNOoVSAUP7z0auMo5Ccpafz0fJp9P7qz DxuA== X-Gm-Message-State: AOJu0YwF5cS6mP1Y0txZtoeA3yiohj+g0VvgadnCEZlXwS6OCpuEa+Yd FC0LaGBM9dUuqq0t+5gNmH+RNhuxe2MGUJe3J9SglMqKGzUKZo5kcVdzs6MbJm4NUjug1SME23c nU9lGDS42aTxTyDcJ64nGRsb6jTO3la8mUrNEFGSEZJG6 X-Gm-Gg: ASbGncug94bed5D6KNAfVQGF17PmWC79DAZ1hkaaqpG2emoMe1lSb9MafTmsbD7kbgz +9paNLpG774BQ9EwcP+AgIRd3gYnqvg1AuioqsRW7uCWzXK/SSWauqhUK3PIchTgbOrP9gBiIzf Ogd8tfje3aIMwhOwnPkT3w7tzoQ/f74fzfj/w1XRZ1fUY6rs2i5fLjvKdaci+IdpE95AnbWYjF/ R5aMzuMongpYPnR8s1OEZ+urkwpU7RCp5h7g4Kab8EfOsBC5KQCrM9Feo7J51woWmoiXt26swxS xjEZtnS6gn62j3q/zq50kVD7KdYzJDPyqIZNwvKvnepm7arC6ntDzKeGqwg= X-Google-Smtp-Source: AGHT+IGr98fkf2h+QRWbadC3vHF+mkhnK3+2fhPpCaeRBAO2S7YyDzGupqgBL1HjalM5hf0fPIFSWPI1sTE4 X-Received: by 2002:a05:622a:1490:b0:494:b251:d216 with SMTP id d75a77b69052e-494b251d4b1mr227526761cf.18.1747724527381; Tue, 20 May 2025 00:02:07 -0700 (PDT) Received: from postal.iol.unh.edu (postal.iol.unh.edu. [132.177.123.84]) by smtp-relay.gmail.com with ESMTPS id d75a77b69052e-494ae3ff4c9sm4330301cf.7.2025.05.20.00.02.07 (version=TLS1_2 cipher=ECDHE-ECDSA-AES128-GCM-SHA256 bits=128/128); Tue, 20 May 2025 00:02:07 -0700 (PDT) X-Relaying-Domain: iol.unh.edu Date: Tue, 20 May 2025 00:02:07 -0700 (PDT) Message-ID: <682c28ef.c80a0220.356805.806cSMTPIN_ADDED_MISSING@mx.google.com> Received: from [172.21.0.6] (unknown [172.18.0.240]) by postal.iol.unh.edu (Postfix) with ESMTP id DF16F6052471; Tue, 20 May 2025 03:02:06 -0400 (EDT) Subject: |SUCCESS| pw153528-153536 [PATCH] [9/9] crypto/dpaa2_sec: add suppor From: dpdklab@iol.unh.edu To: Test Report Cc: dpdk-test-reports@iol.unh.edu In-Reply-To: <20250520055133.506071-9-g.singh@nxp.com> References: <20250520055133.506071-9-g.singh@nxp.com> Content-Type: text/plain X-BeenThere: test-report@dpdk.org X-Mailman-Version: 2.1.29 Precedence: list List-Id: automatic DPDK test reports List-Unsubscribe: , List-Archive: List-Post: List-Help: List-Subscribe: , Errors-To: test-report-bounces@dpdk.org Test-Label: iol-compile-amd64-testing Test-Status: SUCCESS http://dpdk.org/patch/153536 _Testing PASS_ Submitter: Gagandeep Singh Date: Tuesday, May 20 2025 05:51:33 DPDK git baseline: Repo:dpdk Branch: master CommitID:117e86c4b96ed761e9a7ab766261208fe81bf5ca 153528-153536 --> testing pass Upstream job id: Windows-Compile-DPDK-Native#28509 Test environment and result as below: +---------------------+-------------------------+-------------------+--------------------+----------------------+ | Environment | dpdk_llvm_clang_compile | dpdk_msvc_compile | dpdk_meson_compile | dpdk_mingw64_compile | +=====================+=========================+===================+====================+======================+ | Windows Server 2022 | PASS | PASS | SKIPPED | PASS | +---------------------+-------------------------+-------------------+--------------------+----------------------+ | FreeBSD 13.5 | SKIPPED | SKIPPED | PASS | SKIPPED | +---------------------+-------------------------+-------------------+--------------------+----------------------+ | FreeBSD 14.2 | SKIPPED | SKIPPED | PASS | SKIPPED | +---------------------+-------------------------+-------------------+--------------------+----------------------+ | Ubuntu 20.04 | SKIPPED | SKIPPED | PASS | SKIPPED | +---------------------+-------------------------+-------------------+--------------------+----------------------+ Windows Server 2022 Kernel: 10.0.20348.2031 Compiler: clang 15.0.7, gcc 14.1.0 (MinGW), and MSVC VS 19.39.33521 FreeBSD 13.5 Kernel: 13.5-RELEASE Compiler: clang 19.1.7 FreeBSD 14.2 Kernel: 14.2-RELEASE Compiler: clang 18.1.6 Ubuntu 20.04 Kernel: 4.19.325-0419325-generic Compiler: gcc (Ubuntu 9.4.0-1ubuntu1~20.04.2) 9.4.0 To view detailed results, visit: https://lab.dpdk.org/results/dashboard/patchsets/33211/ UNH-IOL DPDK Community Lab To manage your email subscriptions, visit: https://lab.dpdk.org/results/dashboard/preferences/subscriptions/