From mboxrd@z Thu Jan 1 00:00:00 1970 Return-Path: Received: from mails.dpdk.org (mails.dpdk.org [217.70.189.124]) by inbox.dpdk.org (Postfix) with ESMTP id 32CEE46799 for ; Tue, 20 May 2025 09:43:02 +0200 (CEST) Received: from mails.dpdk.org (localhost [127.0.0.1]) by mails.dpdk.org (Postfix) with ESMTP id 2E5A9402CA; Tue, 20 May 2025 09:43:02 +0200 (CEST) Received: from mail-yb1-f226.google.com (mail-yb1-f226.google.com [209.85.219.226]) by mails.dpdk.org (Postfix) with ESMTP id 58505402AE for ; Tue, 20 May 2025 09:43:00 +0200 (CEST) Received: by mail-yb1-f226.google.com with SMTP id 3f1490d57ef6-e7b962a156cso1985987276.0 for ; Tue, 20 May 2025 00:43:00 -0700 (PDT) DKIM-Signature: v=1; a=rsa-sha256; c=relaxed/relaxed; d=iol.unh.edu; s=unh-iol; t=1747726979; x=1748331779; darn=dpdk.org; h=references:in-reply-to:cc:to:from:subject:message-id:date:from:to :cc:subject:date:message-id:reply-to; bh=EH3R/xH3n82WiW+E7Q4P2BIkVTQscs21+/2pYSc9g7s=; b=IaV7SKrXyGI+NCBSWTWbbN7vlTLSltJHJr/97F5NmKwYhKjqgr43AWyB9yN/ll84Ek voLftYHRsk+qtTUZiWcgQ4VZnPe9dK/qXA5Du127kp0T1JBNP5BuCET2sTbjYsR3+S6K 0A0AsTWiICMH1Ch1m8cjijzyMGGqeFt0YiszU= X-Google-DKIM-Signature: v=1; a=rsa-sha256; c=relaxed/relaxed; d=1e100.net; s=20230601; t=1747726979; x=1748331779; h=references:in-reply-to:cc:to:from:subject:message-id:date :x-gm-message-state:from:to:cc:subject:date:message-id:reply-to; bh=EH3R/xH3n82WiW+E7Q4P2BIkVTQscs21+/2pYSc9g7s=; b=Hth6ZCd8M84Ku0E1yGlEOyV3VURkGE0F55RmsTtdFGB1PkRfjNLqMsJ3U0EqkmY5Qp xng/6hwcO9Hz2zwYqDvFow4wwGRmfqMw046oExLPaZC8WqPXK6fplZB9p/Dyr7LCzJXu 7uBvESI7evMggX3cVuvlddeLUOo4wEpt8Ebb5FaOWO0NTxZ3tA6TpxQe2LuvdCN+Qcg3 +Do/Zo3DG6f0WNIARHVYn57hMnu4hJo3haO7D5K3VOK0X3WiOLwsdnTngj9DZ/9ZMo1I bvurgqszNvm+/2JCwzHRB5GPT7YRGlSVB46P75MkZ4M4eaqqjHg33l89phZIwAaq9Vz8 IIog== X-Gm-Message-State: AOJu0YxEy5ebYpUlqwXNB0TwNSzU1eFELutpaJOiYYgwAdTO99KdTY+O iyk+8NVvqE7xqgaJxsGYAvbeJ3idMXnLsxXnOMP9SxHZ8HR/nnVYr6f2ZaW87xAc7RWTOlEEFph O4iJLMTSm603LDT0JUvSi0drGsF/C9F/5z0/66fU0jJZPs0heVTSP8Xpjc7w2 X-Gm-Gg: ASbGncsU3OwI25bGCO7pL4ivysYOVZob7q6w9GwZSE2xhLwEI3ve/ibDBZL2F00Oso+ v/gtZKHgMtg9QHYJGRaw1mlEI7Wlw9Oi+u+eDNo8bi1kzCS+OQKqSuTOhZrMpeighI3O1NpSpE5 PGtQiys7I022hS5Rg2chTCZih2kVGPrmgLJSLU5W+PyJna7r8al0c9nyClI2jf6tDGXJ0U5ult3 5Ozsmq+ymSvcoU2/uDuRaMEEIWlr8cl5YEKnQynjWDfUgxpZY4SOvgaw3uFxqCQQQklWG1PcgjJ yZ6Agr7ujAWEH2RINcgJ4ZHX8Pvx91eENVGo X-Google-Smtp-Source: AGHT+IFCGmzXlwonCfz8gUd3Vsah/fNysOxkQYyBc1Zw8FMUeEbQelGi13XHc0iGVLMamgyFQXqkMorf9bdz X-Received: by 2002:a05:6902:1b82:b0:e7b:a178:4169 with SMTP id 3f1490d57ef6-e7ba1784891mr10100647276.44.1747726979679; Tue, 20 May 2025 00:42:59 -0700 (PDT) Received: from postal.iol.unh.edu (postal.iol.unh.edu. [2606:4100:3880:1234::84]) by smtp-relay.gmail.com with ESMTPS id 3f1490d57ef6-e7b6ad1045bsm430050276.17.2025.05.20.00.42.59 (version=TLS1_2 cipher=ECDHE-ECDSA-AES128-GCM-SHA256 bits=128/128); Tue, 20 May 2025 00:42:59 -0700 (PDT) X-Relaying-Domain: iol.unh.edu Date: Tue, 20 May 2025 00:42:59 -0700 (PDT) Message-ID: <682c3283.250a0220.10aa9b.85d5SMTPIN_ADDED_MISSING@mx.google.com> Received: from [172.21.0.5] (unknown [172.18.0.240]) by postal.iol.unh.edu (Postfix) with ESMTP id 5B27A6052471; Tue, 20 May 2025 03:42:59 -0400 (EDT) Subject: |SUCCESS| pw153527 [PATCH] net/intel: fix ixgbe get macsec stats From: dpdklab@iol.unh.edu To: Test Report Cc: dpdk-test-reports@iol.unh.edu In-Reply-To: <20250520011316.561890-1-kaiwenx.deng@intel.com> References: <20250520011316.561890-1-kaiwenx.deng@intel.com> Content-Type: text/plain X-BeenThere: test-report@dpdk.org X-Mailman-Version: 2.1.29 Precedence: list List-Id: automatic DPDK test reports List-Unsubscribe: , List-Archive: List-Post: List-Help: List-Subscribe: , Errors-To: test-report-bounces@dpdk.org Test-Label: iol-compile-amd64-testing Test-Status: SUCCESS http://dpdk.org/patch/153527 _Testing PASS_ Submitter: Kaiwen Deng Date: Tuesday, May 20 2025 01:13:16 DPDK git baseline: Repo:dpdk Branch: master CommitID:51e889518fc861f1af5acbbc133a75203225655c 153527 --> testing pass Upstream job id: Windows-Compile-DPDK-Native#28510 Test environment and result as below: +---------------------+--------------------+-------------------+-------------------------+ | Environment | dpdk_meson_compile | dpdk_msvc_compile | dpdk_llvm_clang_compile | +=====================+====================+===================+=========================+ | Ubuntu 20.04 | PASS | SKIPPED | SKIPPED | +---------------------+--------------------+-------------------+-------------------------+ | FreeBSD 13.5 | PASS | SKIPPED | SKIPPED | +---------------------+--------------------+-------------------+-------------------------+ | FreeBSD 14.2 | PASS | SKIPPED | SKIPPED | +---------------------+--------------------+-------------------+-------------------------+ | Windows Server 2022 | SKIPPED | PASS | PASS | +---------------------+--------------------+-------------------+-------------------------+ Ubuntu 20.04 Kernel: 4.19.325-0419325-generic Compiler: gcc (Ubuntu 9.4.0-1ubuntu1~20.04.2) 9.4.0 FreeBSD 13.5 Kernel: 13.5-RELEASE Compiler: clang 19.1.7 FreeBSD 14.2 Kernel: 14.2-RELEASE Compiler: clang 18.1.6 Windows Server 2022 Kernel: 10.0.20348.2031 Compiler: clang 15.0.7, gcc 14.1.0 (MinGW), and MSVC VS 19.39.33521 To view detailed results, visit: https://lab.dpdk.org/results/dashboard/patchsets/33210/ UNH-IOL DPDK Community Lab To manage your email subscriptions, visit: https://lab.dpdk.org/results/dashboard/preferences/subscriptions/