From mboxrd@z Thu Jan 1 00:00:00 1970 Return-Path: Received: from mails.dpdk.org (mails.dpdk.org [217.70.189.124]) by inbox.dpdk.org (Postfix) with ESMTP id AB59B4679C for ; Tue, 20 May 2025 10:51:49 +0200 (CEST) Received: from mails.dpdk.org (localhost [127.0.0.1]) by mails.dpdk.org (Postfix) with ESMTP id 8AF86402CA; Tue, 20 May 2025 10:51:49 +0200 (CEST) Received: from mail-qk1-f225.google.com (mail-qk1-f225.google.com [209.85.222.225]) by mails.dpdk.org (Postfix) with ESMTP id 9A2A4402AE for ; Tue, 20 May 2025 10:51:48 +0200 (CEST) Received: by mail-qk1-f225.google.com with SMTP id af79cd13be357-7c597760323so608920185a.3 for ; Tue, 20 May 2025 01:51:48 -0700 (PDT) DKIM-Signature: v=1; a=rsa-sha256; c=relaxed/relaxed; d=iol.unh.edu; s=unh-iol; t=1747731108; x=1748335908; darn=dpdk.org; h=cc:to:from:subject:message-id:date:from:to:cc:subject:date :message-id:reply-to; bh=+m9cR3KkLsfLU54oBsu7ToUKBshLC3Uo0MaJhCZxIXU=; b=Ts/icSyR/j+h8y0/l7d6Mw+sgb9gGjGiUInkyIRhbawIvDbrRf79LYRLnt35kP3ub0 mI+KshP6lP1AbbdykCf5WDWeNCpx90HUK/kytFA/mvtBX50tBw17PydEYQVihR1t6r1a XkxMncew92uVeBiBMTVKtD2EmYdr86LxczvIE= X-Google-DKIM-Signature: v=1; a=rsa-sha256; c=relaxed/relaxed; d=1e100.net; s=20230601; t=1747731108; x=1748335908; h=cc:to:from:subject:message-id:date:x-gm-message-state:from:to:cc :subject:date:message-id:reply-to; bh=+m9cR3KkLsfLU54oBsu7ToUKBshLC3Uo0MaJhCZxIXU=; b=j8yLzfPjztvxEIZ9U6nt7/LnFcVHuWVxHhOqaj0OSNpxeQfzYUHYwvtbSPEa2CCpXI LU109RlMrFO6FhPECgyiYcwdX/myO14uPnS02VawMqRXxE9/tI2BbdRgvMjl6YimLMUM DlJpDtWkmjanwb26g+tRDlXXQjew+dlwXNvQAAa6rIMDfMznLP+7cf8VvA8FXXOc6Uw0 goJ/EHQJ+QnOtop+5Ay4ddk1L4ekW8EPE2uuOz64yjvqaDosrwHq3vOLKRyROKYhWjpH ZO+2Q63lkwrzfyJBfwbxLZiF9yWblhMG7lyzEyey34tYLLlwtsgh3L/Q6TZXedE2JDaY uLlA== X-Gm-Message-State: AOJu0YwGP74IsNJLfNIfYdQNyfvla7jBoPTAfFoGbjHb4Kc42yWFpznR vu2kvIUAI/dFCEX5Yx6CmhPts59/Fmgq4Jv/NETg+qo/MnI79iKBgX78y7IzPPR+P2FVO2i7+yH Ykmo+oCqL4LMGMeoxm9bIhzGLc38JZidkugri X-Gm-Gg: ASbGncscfHeZAnbuOathnsU2LwEiwvzguXHWrTDI0KFRwqsTksZ7B31WdIG+8Kpd0IS 2arYwLNhQjfa1frlq1W7Vj9JD90qKyC70hc9Olf94H1KjnG7tJBNYv1Q3mHBE1WxCYREZQbiSJa J6LOi4jecbTy39Lgl4NrMxF1RCW4AVvyrhMQnv2bAuDGR5FhQes0m/+Rn02eUHUzCAwEeaHO4cc GtC7K/AEbXDN9flL0/OvoAcnSz4+Pa/xD5mJNA2q07X8FyXYkCNgfKBx1WRm2kwzbtXhfrQ3fQr hHPomK/m1EsXdIGeLWpR8k0Wf5QWH7yv5TSdYFBsRINrCTvFZn6dd4+Gmy4= X-Google-Smtp-Source: AGHT+IERgIp1fiyCtCrf8jalr3kKOL2+1e/5I9v+O3sOAk2S0Yh+C8117NteoOTnZ0IZ/NjKkT38dxbSLq/R X-Received: by 2002:a05:6214:cc2:b0:6f8:a6fe:24ed with SMTP id 6a1803df08f44-6f8b082861fmr252382506d6.10.1747731107779; Tue, 20 May 2025 01:51:47 -0700 (PDT) Received: from postal.iol.unh.edu (postal.iol.unh.edu. [132.177.123.84]) by smtp-relay.gmail.com with ESMTPS id 6a1803df08f44-6f8b08c82f3sm3140706d6.37.2025.05.20.01.51.47 (version=TLS1_2 cipher=ECDHE-ECDSA-AES128-GCM-SHA256 bits=128/128); Tue, 20 May 2025 01:51:47 -0700 (PDT) X-Relaying-Domain: iol.unh.edu Date: Tue, 20 May 2025 01:51:47 -0700 (PDT) Message-ID: <682c42a3.050a0220.301494.0080SMTPIN_ADDED_MISSING@mx.google.com> Received: from [172.21.0.6] (unknown [172.18.0.240]) by postal.iol.unh.edu (Postfix) with ESMTP id 80CF66052471; Tue, 20 May 2025 04:51:47 -0400 (EDT) Subject: |SUCCESS| [GIT MASTER] 4401486b5e30d43a134f80f9802f60b5f43e74a8 From: dpdklab@iol.unh.edu To: Test Report Cc: dpdk-test-reports@iol.unh.edu, Xueming Li , Christian Ehrhardt , Kevin Traynor , Luca Boccassi Content-Type: text/plain X-BeenThere: test-report@dpdk.org X-Mailman-Version: 2.1.29 Precedence: list List-Id: automatic DPDK test reports List-Unsubscribe: , List-Archive: List-Post: List-Help: List-Subscribe: , Errors-To: test-report-bounces@dpdk.org _Testing PASS_ Branch: tags/v22.11 4401486b5e30d43a134f80f9802f60b5f43e74a8 --> testing pass Upstream job id: Generic-Unit-Test-DPDK#339231 Test environment and result as below: +-----------------------------+---------------------------+--------------+------------------------------+----------------+ | Environment | cryptodev_sw_zuc_autotest | lpm_autotest | cryptodev_sw_snow3g_autotest | dpdk_unit_test | +=============================+===========================+==============+==============================+================+ | Debian 12 (arm) | PASS | SKIPPED | PASS | SKIPPED | +-----------------------------+---------------------------+--------------+------------------------------+----------------+ | Ubuntu 20.04 ARM SVE | SKIPPED | PASS | SKIPPED | SKIPPED | +-----------------------------+---------------------------+--------------+------------------------------+----------------+ | 32-bit Ubuntu 22.04.4 (ARM) | SKIPPED | SKIPPED | SKIPPED | PASS | +-----------------------------+---------------------------+--------------+------------------------------+----------------+ Debian 12 (arm) Kernel: Depends on container host Compiler: gcc (Debian 12.2.0-14) 12.2.0 Ubuntu 20.04 ARM SVE Kernel: Depends on container host Compiler: gcc (Ubuntu 10.5.0-1ubuntu1~20.04) 10.5.0 32-bit Ubuntu 22.04.4 (ARM) Kernel: 5.15.83+ aarch64 Compiler: gcc (Ubuntu 11.4.0-1ubuntu1~22.04) 11.4.0 To view detailed results, visit: https://lab.dpdk.org/results/dashboard/tarballs/33587/ UNH-IOL DPDK Community Lab To manage your email subscriptions, visit: https://lab.dpdk.org/results/dashboard/preferences/subscriptions/