From mboxrd@z Thu Jan 1 00:00:00 1970 Return-Path: Received: from mails.dpdk.org (mails.dpdk.org [217.70.189.124]) by inbox.dpdk.org (Postfix) with ESMTP id B72524679C for ; Tue, 20 May 2025 10:52:42 +0200 (CEST) Received: from mails.dpdk.org (localhost [127.0.0.1]) by mails.dpdk.org (Postfix) with ESMTP id B0BE3402CA; Tue, 20 May 2025 10:52:42 +0200 (CEST) Received: from mail-pl1-f225.google.com (mail-pl1-f225.google.com [209.85.214.225]) by mails.dpdk.org (Postfix) with ESMTP id BF86C402AE for ; Tue, 20 May 2025 10:52:41 +0200 (CEST) Received: by mail-pl1-f225.google.com with SMTP id d9443c01a7336-23274dbcbc2so8669905ad.1 for ; Tue, 20 May 2025 01:52:41 -0700 (PDT) DKIM-Signature: v=1; a=rsa-sha256; c=relaxed/relaxed; d=iol.unh.edu; s=unh-iol; t=1747731161; x=1748335961; darn=dpdk.org; h=cc:to:from:subject:message-id:date:from:to:cc:subject:date :message-id:reply-to; bh=Hn01jAAjiPR2TXPV4jVePMr68YNhywr1DYyjj7HydXA=; b=A1zleDx5aufKO+JdustOs+A2HA8ElHcws/nhOKi+ownvVmbpn7pHGOevFcwVU6OIRN iouxbPPpQKOj1NkWO5bguxfbkSmtTzkDiANqFpYODaHglQJjAvUrRD0+zRBIzZUNs9JS //bxc9T6Q1UZA1TFnDek4++hcox2MAsGsOXww= X-Google-DKIM-Signature: v=1; a=rsa-sha256; c=relaxed/relaxed; d=1e100.net; s=20230601; t=1747731161; x=1748335961; h=cc:to:from:subject:message-id:date:x-gm-message-state:from:to:cc :subject:date:message-id:reply-to; bh=Hn01jAAjiPR2TXPV4jVePMr68YNhywr1DYyjj7HydXA=; b=usz8H+fmXHRQio2DrIBRuh91oDEZ8LZilmImIL7ZdrV2uHi3bkbPni+2ht/7/O9nL4 Z1OBUi96NQmIOophW14vBEQzEtLdeGRhr9VLXnhbxhq1L7blrRryK1VvOm5P0M4FTH5j uw5pnl9ULkNdvC9kIpj+tYXxmQlRy30KI5b5W97ePEOaJuaJnc15LXLOPXeJmKqcw2xr jSCccIgRwXLCg8XWMLE68XXBVBtSFjQ9UrB7NxMbuZWZQWRFvKoqiQQYYaplQA/hX1jR JNpK7ydbpTQepEPoL90V8iYDPuWxq0V5wU/u1P1B+9pUCFoTt0/CPO0pUjvNkZaCexit o7xQ== X-Gm-Message-State: AOJu0YzFhXgUbLw8u7Ayj7JR6Yufak54JKz9M5LYnLunRFpx/qTL12WV 2SyVGN8rSPI1uilXBR5CLtEpmXdNGEuXxM5fr2xyqf+at8LCUk4jPhN7YxoTtG8YzuS99ajB+DL h8sZa9OB6qpdZ3VChVIGj7Ao688pMl7HZPt6L X-Gm-Gg: ASbGncu1p65cPLtdv2H5pVSQDfDIE5D37yeUnvCI/FtAJhtF+EvmbWDKMuYDAXV5Sa6 TjeIj7mRmco2DPJ7Z5KHxNXcvOteyAl/uq8Er+jiItjUT/QnlYCmxsbakChFLpuJbiBKnWABvbt rbIj4Y5N3MV1GkyWKpquOObd00eccES6etPabRd+7pYVwmCkoGExO1VNwfUPr0Cm1pZJWOKp8D3 RMxQZrZX8jgNL4xoUAfyf/B0+LODFYv5nxZvzNVAFY6F8iJ9L2EpWvVKQSHPvxLfSo4lkRt8u8X 2ng3d5C0px5PTJm2AnyhWVSfosQsjWZsHA0RQAGUiTkD4ueZqmIBXZvCYWc= X-Google-Smtp-Source: AGHT+IFWoC26ftqTSN1JmTapOLrGPv4Jr8Y8B0uzYGA7Y011Uh4P7fD0U+2jvMqbfpYwHaWZdlYSEC506Wzv X-Received: by 2002:a17:902:dac5:b0:22e:4509:cb89 with SMTP id d9443c01a7336-231de21d4d5mr203207495ad.0.1747731160841; Tue, 20 May 2025 01:52:40 -0700 (PDT) Received: from postal.iol.unh.edu (postal.iol.unh.edu. [132.177.123.84]) by smtp-relay.gmail.com with ESMTPS id d9443c01a7336-23211e7600csm3178135ad.61.2025.05.20.01.52.40 (version=TLS1_2 cipher=ECDHE-ECDSA-AES128-GCM-SHA256 bits=128/128); Tue, 20 May 2025 01:52:40 -0700 (PDT) X-Relaying-Domain: iol.unh.edu Date: Tue, 20 May 2025 01:52:40 -0700 (PDT) Message-ID: <682c42d8.170a0220.38a96d.fdedSMTPIN_ADDED_MISSING@mx.google.com> Received: from [172.21.0.6] (unknown [172.18.0.240]) by postal.iol.unh.edu (Postfix) with ESMTP id F20C56052471; Tue, 20 May 2025 04:52:39 -0400 (EDT) Subject: |SUCCESS| [GIT MASTER] 4c5634de9f933555bab9c64a533d3dca999071cd From: dpdklab@iol.unh.edu To: Test Report Cc: dpdk-test-reports@iol.unh.edu, Xueming Li , Christian Ehrhardt , Kevin Traynor , Luca Boccassi Content-Type: text/plain X-BeenThere: test-report@dpdk.org X-Mailman-Version: 2.1.29 Precedence: list List-Id: automatic DPDK test reports List-Unsubscribe: , List-Archive: List-Post: List-Help: List-Subscribe: , Errors-To: test-report-bounces@dpdk.org _Testing PASS_ Branch: tags/v24.11 4c5634de9f933555bab9c64a533d3dca999071cd --> testing pass Upstream job id: Generic-DPDK-Compile-Meson#389593 Test environment and result as below: +------------------------------------+--------------------+ | Environment | dpdk_meson_compile | +====================================+====================+ | Fedora 41 (ARM) | PASS | +------------------------------------+--------------------+ | RHEL9 (ARM) | PASS | +------------------------------------+--------------------+ | Ubuntu 20.04 ARM SVE | PASS | +------------------------------------+--------------------+ | Ubuntu 20.04 ARM GCC Cross Compile | PASS | +------------------------------------+--------------------+ | Debian 12 with MUSDK | PASS | +------------------------------------+--------------------+ | Fedora 40 (ARM) | PASS | +------------------------------------+--------------------+ | Fedora 40 (ARM Clang) | PASS | +------------------------------------+--------------------+ | Ubuntu 24.04 (ARM) | PASS | +------------------------------------+--------------------+ | Ubuntu 22.04 (ARM) | PASS | +------------------------------------+--------------------+ | Ubuntu 20.04 (ARM) | PASS | +------------------------------------+--------------------+ | CentOS Stream 10 (ARM) | PASS | +------------------------------------+--------------------+ | Fedora 41 (ARM Clang) | PASS | +------------------------------------+--------------------+ | Debian 12 (arm) | PASS | +------------------------------------+--------------------+ | CentOS Stream 9 (ARM) | PASS | +------------------------------------+--------------------+ Fedora 41 (ARM) Kernel: Depends on container host Compiler: gcc 14.2.1 20240912 (Red Hat 14.2.1-3) RHEL9 (ARM) Kernel: Depends on container host Compiler: gcc 11.5.0 20240719 (Red Hat 11.5.0-2) Ubuntu 20.04 ARM SVE Kernel: Depends on container host Compiler: gcc (Ubuntu 10.5.0-1ubuntu1~20.04) 10.5.0 Ubuntu 20.04 ARM GCC Cross Compile Kernel: Depends on container host Compiler: aarch64-linux-gnu-gcc (Ubuntu 9.4.0-1ubuntu1~20.04.2) 9.4.0 Debian 12 with MUSDK Kernel: Depends on container host Compiler: gcc (Debian 12.2.0-14) 12.2.0 Fedora 40 (ARM) Kernel: Depends on container host Compiler: gcc 14.2.1 20240912 (Red Hat 14.2.1-3) Fedora 40 (ARM Clang) Kernel: Depends on container host Compiler: clang 18.1.8 (Fedora 18.1.8-1.fc40) Ubuntu 24.04 (ARM) Kernel: Depends on container host Compiler: gcc (Ubuntu 13.3.0-6ubuntu2~24.04) 13.3.0 Ubuntu 22.04 (ARM) Kernel: Depends on container host Compiler: gcc (Ubuntu 11.4.0-1ubuntu1~22.04) 11.4.0 Ubuntu 20.04 (ARM) Kernel: Depends on container host Compiler: gcc (Ubuntu 9.4.0-1ubuntu1~20.04.2) 9.4.0 CentOS Stream 10 (ARM) Kernel: Depends on container host Compiler: gcc 14.2.1 20241104 (Red Hat 14.2.1-6) Fedora 41 (ARM Clang) Kernel: Depends on container host Compiler: clang 19.1.5 (Fedora 19.1.5-1.fc41) Debian 12 (arm) Kernel: Depends on container host Compiler: gcc (Debian 12.2.0-14) 12.2.0 CentOS Stream 9 (ARM) Kernel: Depends on container host Compiler: gcc 11.5.0 20240719 (Red Hat 11.5.0-2) To view detailed results, visit: https://lab.dpdk.org/results/dashboard/tarballs/33585/ UNH-IOL DPDK Community Lab To manage your email subscriptions, visit: https://lab.dpdk.org/results/dashboard/preferences/subscriptions/