From mboxrd@z Thu Jan 1 00:00:00 1970 Return-Path: Received: from mails.dpdk.org (mails.dpdk.org [217.70.189.124]) by inbox.dpdk.org (Postfix) with ESMTP id 64EDC4679D for ; Tue, 20 May 2025 12:32:01 +0200 (CEST) Received: from mails.dpdk.org (localhost [127.0.0.1]) by mails.dpdk.org (Postfix) with ESMTP id 3F463402CA; Tue, 20 May 2025 12:32:01 +0200 (CEST) Received: from mail-ot1-f98.google.com (mail-ot1-f98.google.com [209.85.210.98]) by mails.dpdk.org (Postfix) with ESMTP id 4CAE5402AE for ; Tue, 20 May 2025 12:32:00 +0200 (CEST) Received: by mail-ot1-f98.google.com with SMTP id 46e09a7af769-730580b0de8so3985162a34.1 for ; Tue, 20 May 2025 03:32:00 -0700 (PDT) DKIM-Signature: v=1; a=rsa-sha256; c=relaxed/relaxed; d=iol.unh.edu; s=unh-iol; t=1747737119; x=1748341919; darn=dpdk.org; h=references:in-reply-to:cc:to:from:subject:message-id:date:from:to :cc:subject:date:message-id:reply-to; bh=11iZ0oDpAiJqJ4K5FuLfYTYeF/a2I/JutqdT2E1dBSc=; b=dOB6dSjx/6GB3KRqoJ/eMYBcf9Dfcx464IENEb7Bqzt3IZ/gceGrBdG6irDdmbY5rJ Q2+ZT5mmxsqCkJEcMV/lVS4Asr3bkEFMlFbC76xg/re6qIC8ykA1M+VxSVfSPwAMbfKF vIQw7Yidl81Zas/Bo76IydCvm7lPHbCHaXxx0= X-Google-DKIM-Signature: v=1; a=rsa-sha256; c=relaxed/relaxed; d=1e100.net; s=20230601; t=1747737119; x=1748341919; h=references:in-reply-to:cc:to:from:subject:message-id:date :x-gm-message-state:from:to:cc:subject:date:message-id:reply-to; bh=11iZ0oDpAiJqJ4K5FuLfYTYeF/a2I/JutqdT2E1dBSc=; b=NxspWzwxtmF8MGg10UA9w6Mt1e6ZTBLnbfOa2cVG8Nzy4wNHfA7AtCEdY0kj2FuDEG 1zxKALtPDO93PcNH3bY13A+ecyaIzWosNtTH39Jjc23ICvT7VAWj43vYqOP6lxSO8fzK czls4FMUsA7870WDOrtZ3GwiKux+7TB7n5sso9erKb6Ybyb53K2CtlEnbP/UMD0dpRAC /4BQbN9pE0jlJ6dap5raj5tVF63TsRjlpRRVZD1/GbYcZCMpQgppOHtAEMlWE1AGjWpQ q3P6N8+nEbU0h1iB/PdhNlXnQ7YPA71x+QSPy2xTczOP8n/EfAHim29QTB/HM/yODlNq l6ZA== X-Gm-Message-State: AOJu0YzYF8K7LHfjMqqOzudoL7Q2FUNQOkaPS0A8qAVYQ+RuX/Pkr3RS pkD0Cdj9qWgYTMMng+CWOerWUMJpKDzYR148vQUWuCOFIgANARiW9zJ2+7S87VG0uZZt+Q0/gy+ V3hn1EzuVr4FUb1MDf1jSzebqTgE8/GXZBBeFD4aaZAOc X-Gm-Gg: ASbGnctiMti/AgfWgTxqPNUFJ4NSS6ixrBrKGyGip5YWGQ0VPxd7MKtEKdZFMZmaajl PVXdGKPdp5V0L71GTcHW5OTSNhZjTW/DUneopbgnsW7YxJ0aExG3EGvwlwDFfxV1QTyDZsiClhi aMLSLEDbB44A3R2J0HRv2wbadIJoZaTJoL5KU9UJ7YeiqjaeQOLwat+rBjCuL7rB/gvWCGMZuPR VKct6OYeOCOTaZkDs9PYZaJHE1+bPdg3bSdoZX3cgKjZAQ8ZUG4dLdxzS8vQ4xlCD6QiGFEgjl8 VPLY3UCCIAVgFmvppcnoMC1R8FXapBVbxBFc0c0KnGEAp3AqY+7fh0l62jo= X-Google-Smtp-Source: AGHT+IG9bE3Rir71d/mtbksYziGgcU1fgksJg+tRSABNbIWdGb6UzMEtVEVD2u/v8JeEbAZbSdak7x2+Etrd X-Received: by 2002:ac8:5cd0:0:b0:494:9072:e5bf with SMTP id d75a77b69052e-494ae559a7bmr269884751cf.18.1747737108395; Tue, 20 May 2025 03:31:48 -0700 (PDT) Received: from postal.iol.unh.edu (postal.iol.unh.edu. [132.177.123.84]) by smtp-relay.gmail.com with ESMTPS id d75a77b69052e-494ae3d6e19sm3950261cf.5.2025.05.20.03.31.48 (version=TLS1_2 cipher=ECDHE-ECDSA-AES128-GCM-SHA256 bits=128/128); Tue, 20 May 2025 03:31:48 -0700 (PDT) X-Relaying-Domain: iol.unh.edu Date: Tue, 20 May 2025 03:31:48 -0700 (PDT) Message-ID: <682c5a14.050a0220.967a0.6147SMTPIN_ADDED_MISSING@mx.google.com> Received: from [172.21.0.5] (unknown [172.18.0.240]) by postal.iol.unh.edu (Postfix) with ESMTP id 0D7926052471; Tue, 20 May 2025 06:31:48 -0400 (EDT) Subject: |SUCCESS| pw153527 [PATCH] net/intel: fix ixgbe get macsec stats From: dpdklab@iol.unh.edu To: Test Report Cc: dpdk-test-reports@iol.unh.edu In-Reply-To: <20250520011316.561890-1-kaiwenx.deng@intel.com> References: <20250520011316.561890-1-kaiwenx.deng@intel.com> Content-Type: text/plain X-BeenThere: test-report@dpdk.org X-Mailman-Version: 2.1.29 Precedence: list List-Id: automatic DPDK test reports List-Unsubscribe: , List-Archive: List-Post: List-Help: List-Subscribe: , Errors-To: test-report-bounces@dpdk.org Test-Label: iol-unit-arm64-testing Test-Status: SUCCESS http://dpdk.org/patch/153527 _Testing PASS_ Submitter: Kaiwen Deng Date: Tuesday, May 20 2025 01:13:16 DPDK git baseline: Repo:dpdk Branch: master CommitID:51e889518fc861f1af5acbbc133a75203225655c 153527 --> testing pass Upstream job id: Generic-Unit-Test-DPDK#339283 Test environment and result as below: +-----------------------------+----------------+------------------------------+---------------------------+--------------+ | Environment | dpdk_unit_test | cryptodev_sw_snow3g_autotest | cryptodev_sw_zuc_autotest | lpm_autotest | +=============================+================+==============================+===========================+==============+ | Fedora 40 (ARM Clang) | PASS | SKIPPED | SKIPPED | SKIPPED | +-----------------------------+----------------+------------------------------+---------------------------+--------------+ | Debian 12 (arm) | PASS | PASS | PASS | SKIPPED | +-----------------------------+----------------+------------------------------+---------------------------+--------------+ | Fedora 40 (ARM) | PASS | SKIPPED | SKIPPED | SKIPPED | +-----------------------------+----------------+------------------------------+---------------------------+--------------+ | CentOS Stream 10 (ARM) | PASS | SKIPPED | SKIPPED | SKIPPED | +-----------------------------+----------------+------------------------------+---------------------------+--------------+ | Fedora 41 (ARM Clang) | PASS | SKIPPED | SKIPPED | SKIPPED | +-----------------------------+----------------+------------------------------+---------------------------+--------------+ | CentOS Stream 9 (ARM) | PASS | SKIPPED | SKIPPED | SKIPPED | +-----------------------------+----------------+------------------------------+---------------------------+--------------+ | Fedora 41 (ARM) | PASS | SKIPPED | SKIPPED | SKIPPED | +-----------------------------+----------------+------------------------------+---------------------------+--------------+ | Ubuntu 24.04 (ARM) | PASS | SKIPPED | SKIPPED | SKIPPED | +-----------------------------+----------------+------------------------------+---------------------------+--------------+ | RHEL9 (ARM) | PASS | SKIPPED | SKIPPED | SKIPPED | +-----------------------------+----------------+------------------------------+---------------------------+--------------+ | Ubuntu 22.04 (ARM) | PASS | SKIPPED | SKIPPED | SKIPPED | +-----------------------------+----------------+------------------------------+---------------------------+--------------+ | Ubuntu 20.04 (ARM) | PASS | SKIPPED | SKIPPED | SKIPPED | +-----------------------------+----------------+------------------------------+---------------------------+--------------+ | 32-bit Ubuntu 22.04.4 (ARM) | PASS | SKIPPED | SKIPPED | SKIPPED | +-----------------------------+----------------+------------------------------+---------------------------+--------------+ | Ubuntu 20.04 ARM SVE | SKIPPED | SKIPPED | SKIPPED | PASS | +-----------------------------+----------------+------------------------------+---------------------------+--------------+ Fedora 40 (ARM Clang) Kernel: Depends on container host Compiler: clang 18.1.8 (Fedora 18.1.8-1.fc40) Debian 12 (arm) Kernel: Depends on container host Compiler: gcc (Debian 12.2.0-14) 12.2.0 Fedora 40 (ARM) Kernel: Depends on container host Compiler: gcc 14.2.1 20240912 (Red Hat 14.2.1-3) CentOS Stream 10 (ARM) Kernel: Depends on container host Compiler: gcc 14.2.1 20241104 (Red Hat 14.2.1-6) Fedora 41 (ARM Clang) Kernel: Depends on container host Compiler: clang 19.1.5 (Fedora 19.1.5-1.fc41) CentOS Stream 9 (ARM) Kernel: Depends on container host Compiler: gcc 11.5.0 20240719 (Red Hat 11.5.0-2) Fedora 41 (ARM) Kernel: Depends on container host Compiler: gcc 14.2.1 20240912 (Red Hat 14.2.1-3) Ubuntu 24.04 (ARM) Kernel: Depends on container host Compiler: gcc (Ubuntu 13.3.0-6ubuntu2~24.04) 13.3.0 RHEL9 (ARM) Kernel: Depends on container host Compiler: gcc 11.5.0 20240719 (Red Hat 11.5.0-2) Ubuntu 22.04 (ARM) Kernel: Depends on container host Compiler: gcc (Ubuntu 11.4.0-1ubuntu1~22.04) 11.4.0 Ubuntu 20.04 (ARM) Kernel: Depends on container host Compiler: gcc (Ubuntu 9.4.0-1ubuntu1~20.04.2) 9.4.0 32-bit Ubuntu 22.04.4 (ARM) Kernel: 5.15.83+ aarch64 Compiler: gcc (Ubuntu 11.4.0-1ubuntu1~22.04) 11.4.0 Ubuntu 20.04 ARM SVE Kernel: Depends on container host Compiler: gcc (Ubuntu 10.5.0-1ubuntu1~20.04) 10.5.0 To view detailed results, visit: https://lab.dpdk.org/results/dashboard/patchsets/33210/ UNH-IOL DPDK Community Lab To manage your email subscriptions, visit: https://lab.dpdk.org/results/dashboard/preferences/subscriptions/