From mboxrd@z Thu Jan 1 00:00:00 1970 Return-Path: Received: from mails.dpdk.org (mails.dpdk.org [217.70.189.124]) by inbox.dpdk.org (Postfix) with ESMTP id 9E9994679D for ; Tue, 20 May 2025 12:34:13 +0200 (CEST) Received: from mails.dpdk.org (localhost [127.0.0.1]) by mails.dpdk.org (Postfix) with ESMTP id 7A3AB402CA; Tue, 20 May 2025 12:34:13 +0200 (CEST) Received: from mail-il1-f225.google.com (mail-il1-f225.google.com [209.85.166.225]) by mails.dpdk.org (Postfix) with ESMTP id CC5F4402AE for ; Tue, 20 May 2025 12:34:12 +0200 (CEST) Received: by mail-il1-f225.google.com with SMTP id e9e14a558f8ab-3dc6f3fe907so6855095ab.1 for ; Tue, 20 May 2025 03:34:12 -0700 (PDT) DKIM-Signature: v=1; a=rsa-sha256; c=relaxed/relaxed; d=iol.unh.edu; s=unh-iol; t=1747737252; x=1748342052; darn=dpdk.org; h=references:in-reply-to:cc:to:from:subject:message-id:date:from:to :cc:subject:date:message-id:reply-to; bh=j8ArXe0iEljR6xKTHmluufk9IX2xNOE2ted7NNrVkl4=; b=Xny/LBg1oYyOWevhbe9hgyb4tm8UjHQ2uAegR+9jxIGQTKSJ1OFHFA+DBJXTPRf0LR XjLPA1c3laCV/JWgG5tF2hydP/L0FiaYGLlnccDX7PWGkJ1odT9hniuU3mnQXaDgyN/s 3bYKCQoD4Zcc7l6d9tz9eEMOUjaoK/IoYNUUs= X-Google-DKIM-Signature: v=1; a=rsa-sha256; c=relaxed/relaxed; d=1e100.net; s=20230601; t=1747737252; x=1748342052; h=references:in-reply-to:cc:to:from:subject:message-id:date :x-gm-message-state:from:to:cc:subject:date:message-id:reply-to; bh=j8ArXe0iEljR6xKTHmluufk9IX2xNOE2ted7NNrVkl4=; b=Nb5MxwvCTOE7R3p/cmTGj+iHKIW1eDF3vnq80LU5ENR7LxyDuAhNPljyaep7NcVYBW jR+/4ezKVPXulnh5Rjm1FGBqtik3V4/fMCSXGxkJE7xi27cGpaTE9TjqFrrQlLAfuigC yAeyPGNlkyK8g3MiIRhfyhQOGAQ3aY+rszaAcE4iI+Eg0JJecGWkwnxpJmxyRan8WX2E 0XAMIpK7XOIyYPzGzGpIHhJyklpYXu1KRX7jdsmOdsYQnNTrqUYtDxq5RHLks7K7rO+P RZgAgTq8ovwxJZBBFxn9Ja58iWoNv5beqlNbq6JZYbHe5lR7vV4U5htQYWyRtBaosee/ auUQ== X-Gm-Message-State: AOJu0Ywvuk9ZW3t8b8jNuwE+gTJK4vtB+btPNz0jSXNoxMFaL/Dmg+2X VF2UdzrKZACmUfrUAdVzBH44mqaxECjdA7WXZe5kZH1/RIf79Q3CcUqwrnDrroLHx0ayFfziPJu dy2y4erSCKdly0xyOlq0kMm39jDZwUtXFNP7rzvH0dfIv X-Gm-Gg: ASbGncvoDhgvxZ9WfXHzoHN1z8UAckYlJ4uhH1d66IXhhctZRfzRofv/9RAmIKNan9I +k07tBZx+k4mIox3eD+NNq+mQ9mRruZEwd93RicAS5NErEPiF592D95/9cr9U40OCfawJEHw36m mhyLcIaeyok6x0H+F2iq85LU6cog6/I1THIJ6NQCh3LpMS3FfBl2Ov1nkDY8Lnz/TdEA1FauQBr j8A2u9IFBTBhwFxPUn24lGYciKlfG3HBcPs2a/I3MIa5sBnC7BYzlcHIkYsRN9ka7aYXUCyOqbk CfsDfOunISnFEF2cLjWb1gf2GAFqm1n9cxWhutNrVsuVLn4r9cMslj+p6mk= X-Google-Smtp-Source: AGHT+IE48zUHDhGtCejb1BMjzNcVYL5HkjKUZB4i9+PYUso7Aj1rNodQuOmD73DtmLlmbGebhszuKi7UGKYJ X-Received: by 2002:a05:6e02:4503:b0:3dc:635b:6724 with SMTP id e9e14a558f8ab-3dc635b68aamr82230225ab.10.1747737252065; Tue, 20 May 2025 03:34:12 -0700 (PDT) Received: from postal.iol.unh.edu (postal.iol.unh.edu. [132.177.123.84]) by smtp-relay.gmail.com with ESMTPS id 8926c6da1cb9f-4fbcc48a52bsm461676173.58.2025.05.20.03.34.11 (version=TLS1_2 cipher=ECDHE-ECDSA-AES128-GCM-SHA256 bits=128/128); Tue, 20 May 2025 03:34:12 -0700 (PDT) X-Relaying-Domain: iol.unh.edu Date: Tue, 20 May 2025 03:34:12 -0700 (PDT) Message-ID: <682c5aa4.050a0220.1b8ee0.7e05SMTPIN_ADDED_MISSING@mx.google.com> Received: from [172.21.0.5] (unknown [172.18.0.240]) by postal.iol.unh.edu (Postfix) with ESMTP id AADED6052471; Tue, 20 May 2025 06:34:11 -0400 (EDT) Subject: |SUCCESS| pw153527 [PATCH] net/intel: fix ixgbe get macsec stats From: dpdklab@iol.unh.edu To: Test Report Cc: dpdk-test-reports@iol.unh.edu In-Reply-To: <20250520011316.561890-1-kaiwenx.deng@intel.com> References: <20250520011316.561890-1-kaiwenx.deng@intel.com> Content-Type: text/plain X-BeenThere: test-report@dpdk.org X-Mailman-Version: 2.1.29 Precedence: list List-Id: automatic DPDK test reports List-Unsubscribe: , List-Archive: List-Post: List-Help: List-Subscribe: , Errors-To: test-report-bounces@dpdk.org Test-Label: iol-unit-amd64-testing Test-Status: SUCCESS http://dpdk.org/patch/153527 _Testing PASS_ Submitter: Kaiwen Deng Date: Tuesday, May 20 2025 01:13:16 DPDK git baseline: Repo:dpdk Branch: master CommitID:51e889518fc861f1af5acbbc133a75203225655c 153527 --> testing pass Upstream job id: Generic-Unit-Test-DPDK#339275 Test environment and result as below: +---------------------+----------------+ | Environment | dpdk_unit_test | +=====================+================+ | Debian 12 | PASS | +---------------------+----------------+ | Fedora 40 | PASS | +---------------------+----------------+ | CentOS Stream 9 | PASS | +---------------------+----------------+ | Fedora 40 (Clang) | PASS | +---------------------+----------------+ | Fedora 41 | PASS | +---------------------+----------------+ | RHEL9 | PASS | +---------------------+----------------+ | RHEL8 | PASS | +---------------------+----------------+ | Ubuntu 24.04 | PASS | +---------------------+----------------+ | Fedora 41 (Clang) | PASS | +---------------------+----------------+ | Ubuntu 20.04 | PASS | +---------------------+----------------+ | CentOS Stream 10 | PASS | +---------------------+----------------+ | Ubuntu 22.04 | PASS | +---------------------+----------------+ | Windows Server 2022 | PASS | +---------------------+----------------+ Debian 12 Kernel: Depends on container host Compiler: gcc (Debian 12.2.0-14) 12.2.0 Fedora 40 Kernel: Depends on container host Compiler: gcc 14.2.1 20240912 (Red Hat 14.2.1-3) CentOS Stream 9 Kernel: Depends on container host Compiler: gcc 11.5.0 20240719 (Red Hat 11.5.0-2) Fedora 40 (Clang) Kernel: Depends on container host Compiler: clang 18.1.8 (Fedora 18.1.8-1.fc40) Fedora 41 Kernel: Depends on container host Compiler: gcc 14.2.1 20240912 (Red Hat 14.2.1-3) RHEL9 Kernel: Depends on container host Compiler: gcc 11.5.0 20240719 (Red Hat 11.5.0-2) RHEL8 Kernel: Depends on container host Compiler: gcc 8.5.0 20210514 (Red Hat 8.5.0-22) Ubuntu 24.04 Kernel: Depends on container host Compiler: gcc (Ubuntu 13.3.0-6ubuntu2~24.04) 13.3.0 Fedora 41 (Clang) Kernel: Depends on container host Compiler: clang 19.1.5 (Fedora 19.1.5-1.fc41) Ubuntu 20.04 Kernel: Depends on container host Compiler: gcc (Ubuntu 9.4.0-1ubuntu1~20.04.2) 9.4.0 CentOS Stream 10 Kernel: Depends on container host Compiler: gcc 14.2.1 20241104 (Red Hat 14.2.1-6) Ubuntu 22.04 Kernel: Depends on container host Compiler: gcc (Ubuntu 11.4.0-1ubuntu1~22.04) 11.4.0 Windows Server 2022 Kernel: 10.0.20348.2031 Compiler: clang 15.0.7, gcc 14.1.0 (MinGW), and MSVC VS 19.39.33521 To view detailed results, visit: https://lab.dpdk.org/results/dashboard/patchsets/33210/ UNH-IOL DPDK Community Lab To manage your email subscriptions, visit: https://lab.dpdk.org/results/dashboard/preferences/subscriptions/