From mboxrd@z Thu Jan 1 00:00:00 1970 Return-Path: Received: from mails.dpdk.org (mails.dpdk.org [217.70.189.124]) by inbox.dpdk.org (Postfix) with ESMTP id 0D4A04679D for ; Tue, 20 May 2025 12:50:26 +0200 (CEST) Received: from mails.dpdk.org (localhost [127.0.0.1]) by mails.dpdk.org (Postfix) with ESMTP id DE9F9402CA; Tue, 20 May 2025 12:50:25 +0200 (CEST) Received: from mail-il1-f226.google.com (mail-il1-f226.google.com [209.85.166.226]) by mails.dpdk.org (Postfix) with ESMTP id D0C22402AE for ; Tue, 20 May 2025 12:50:24 +0200 (CEST) Received: by mail-il1-f226.google.com with SMTP id e9e14a558f8ab-3dc7ffeb9b8so347975ab.2 for ; Tue, 20 May 2025 03:50:24 -0700 (PDT) DKIM-Signature: v=1; a=rsa-sha256; c=relaxed/relaxed; d=iol.unh.edu; s=unh-iol; t=1747738224; x=1748343024; darn=dpdk.org; h=references:in-reply-to:cc:to:from:subject:message-id:date:from:to :cc:subject:date:message-id:reply-to; bh=LGucOYNSFuGYgXSBzOdnSk1DwoWg8DReTcwJymttesk=; b=V6UkQMY+7m9iTNgyTJ6daav5qwebgrvFxLoCyncZMsHxaGna4gQz+3TLkYIKJ5IeLM 8+bW51GWQmHZ2WIVdoh1bX2R985mFxkGsekzXMTdGFvuaBo1OBQK44tFViPAIqgA9meW itbC8niBM4pvGOtY7dEgqrimdUArMyJBryFGg= X-Google-DKIM-Signature: v=1; a=rsa-sha256; c=relaxed/relaxed; d=1e100.net; s=20230601; t=1747738224; x=1748343024; h=references:in-reply-to:cc:to:from:subject:message-id:date :x-gm-message-state:from:to:cc:subject:date:message-id:reply-to; bh=LGucOYNSFuGYgXSBzOdnSk1DwoWg8DReTcwJymttesk=; b=R6mx/Dl9DB4zVArapi3Td12OHNpvAYwfxaEovtYO/LzzbQazdkWMPvkANU4J30VnJf O+Rq8txm4dDNEese3qNmsfmbav+nkoeBzKKIPb8XVVDwymuoJPU0akNwtZ1YqAE3KOYx PFRex+VVAxIrXpcD4QqnF2L9RSbU6FwGfId+au3vwryppe3PaSCC86RgVH/I+Xu+7LJ8 tXPZUhcJfhojKHMZyN/4G8qNnpjqkr696z1giiQeJLVDUaLcy0Xb+J1O8Sq6TIPdHFEE We56WdV9obKttk4y6dW90pyEcq0sSMkQT+His4PLIMc1kQkrobiPs+uxz0DhAUpUgmHi UFoQ== X-Gm-Message-State: AOJu0YwyBW5yWgqluKvcLcOzbWqVMDZYh8pH233xewXqz0PtiouAfVl6 cTEaW96ZoC8wJ/oOkBOJHK9Tu81JP7ULNML1RKFpAq4HQvOtxjwfkSHFwW5Q5lHQLRY53pKj5zx i6pJOAnp+OW49YBuwtL75D3UwweT7UaTSrd6dJXrHbEH2 X-Gm-Gg: ASbGncv6aXbuaINK5U06CfYnlegwg2V55Xu5QeeROfPvTdpQhNm0imdxouZsbxahIte Gb1YjqMEarHRQjuSw8brYrAJK31OQczc4MWYaPelJ39zzHTcjXx86OfDI6fdO9pWWsHlxliZ5/w 8GxR+b00aCzkKmz/uMgyvFDaE0Hq1IGUQKTRzQpdaoYFXN5t5Cpz6U4U5lBlCGZwWv8VzCGF9GK Pmj9pGUxg3mD2qbLFvKCARD5S4aaIPqzh8/qcHCHuu/TYDypY+3X+IAaxSd5FrwSrZE1FeMDjpF KWn/zr7zbDiL/WeKxVgqR9HOeh3oM7phSALX9tX+bbyS2Yxsf6+/VOu6nD4= X-Google-Smtp-Source: AGHT+IEnNzESyq34O2ijpC7VHlC3caZ0eF/Lz+EgZDZZ4fsRaM3N39us+SQ1j9rDsxXI+WTA2sRS/CDe5ffz X-Received: by 2002:a05:6e02:174b:b0:3dc:7f3b:acb1 with SMTP id e9e14a558f8ab-3dc7f3bae3emr3860125ab.13.1747738224126; Tue, 20 May 2025 03:50:24 -0700 (PDT) Received: from postal.iol.unh.edu (postal.iol.unh.edu. [132.177.123.84]) by smtp-relay.gmail.com with ESMTPS id e9e14a558f8ab-3dc7c61f3efsm482695ab.8.2025.05.20.03.50.24 (version=TLS1_2 cipher=ECDHE-ECDSA-AES128-GCM-SHA256 bits=128/128); Tue, 20 May 2025 03:50:24 -0700 (PDT) X-Relaying-Domain: iol.unh.edu Date: Tue, 20 May 2025 03:50:24 -0700 (PDT) Message-ID: <682c5e70.050a0220.197c1c.286cSMTPIN_ADDED_MISSING@mx.google.com> Received: from [172.21.0.6] (unknown [172.18.0.240]) by postal.iol.unh.edu (Postfix) with ESMTP id 9D64C6052471; Tue, 20 May 2025 06:50:23 -0400 (EDT) Subject: |SUCCESS| pw153527 [PATCH] net/intel: fix ixgbe get macsec stats From: dpdklab@iol.unh.edu To: Test Report Cc: dpdk-test-reports@iol.unh.edu In-Reply-To: <20250520011316.561890-1-kaiwenx.deng@intel.com> References: <20250520011316.561890-1-kaiwenx.deng@intel.com> Content-Type: text/plain X-BeenThere: test-report@dpdk.org X-Mailman-Version: 2.1.29 Precedence: list List-Id: automatic DPDK test reports List-Unsubscribe: , List-Archive: List-Post: List-Help: List-Subscribe: , Errors-To: test-report-bounces@dpdk.org Test-Label: iol-abi-testing Test-Status: SUCCESS http://dpdk.org/patch/153527 _Testing PASS_ Submitter: Kaiwen Deng Date: Tuesday, May 20 2025 01:13:16 DPDK git baseline: Repo:dpdk Branch: master CommitID:51e889518fc861f1af5acbbc133a75203225655c 153527 --> testing pass Upstream job id: Generic-DPDK-Compile-ABI#127047 Test environment and result as below: +-------------------+----------+ | Environment | abi_test | +===================+==========+ | CentOS Stream 10 | PASS | +-------------------+----------+ | Debian 12 | PASS | +-------------------+----------+ | CentOS Stream 9 | PASS | +-------------------+----------+ | Fedora 40 (Clang) | PASS | +-------------------+----------+ | Fedora 41 (Clang) | PASS | +-------------------+----------+ | Fedora 40 | PASS | +-------------------+----------+ | openSUSE Leap 15 | PASS | +-------------------+----------+ | RHEL8 | PASS | +-------------------+----------+ | Fedora 41 | PASS | +-------------------+----------+ | RHEL9 | PASS | +-------------------+----------+ | Ubuntu 24.04 | PASS | +-------------------+----------+ | Ubuntu 22.04 | PASS | +-------------------+----------+ CentOS Stream 10 Kernel: Depends on container host Compiler: gcc 14.2.1 20241104 (Red Hat 14.2.1-6) Debian 12 Kernel: Depends on container host Compiler: gcc (Debian 12.2.0-14) 12.2.0 CentOS Stream 9 Kernel: Depends on container host Compiler: gcc 11.5.0 20240719 (Red Hat 11.5.0-2) Fedora 40 (Clang) Kernel: Depends on container host Compiler: clang 18.1.8 (Fedora 18.1.8-1.fc40) Fedora 41 (Clang) Kernel: Depends on container host Compiler: clang 19.1.5 (Fedora 19.1.5-1.fc41) Fedora 40 Kernel: Depends on container host Compiler: gcc 14.2.1 20240912 (Red Hat 14.2.1-3) openSUSE Leap 15 Kernel: Depends on container host Compiler: gcc (SUSE Linux) 7.5.0 RHEL8 Kernel: Depends on container host Compiler: gcc 8.5.0 20210514 (Red Hat 8.5.0-22) Fedora 41 Kernel: Depends on container host Compiler: gcc 14.2.1 20240912 (Red Hat 14.2.1-3) RHEL9 Kernel: Depends on container host Compiler: gcc 11.5.0 20240719 (Red Hat 11.5.0-2) Ubuntu 24.04 Kernel: Depends on container host Compiler: gcc (Ubuntu 13.3.0-6ubuntu2~24.04) 13.3.0 Ubuntu 22.04 Kernel: Depends on container host Compiler: gcc (Ubuntu 11.4.0-1ubuntu1~22.04) 11.4.0 To view detailed results, visit: https://lab.dpdk.org/results/dashboard/patchsets/33210/ UNH-IOL DPDK Community Lab To manage your email subscriptions, visit: https://lab.dpdk.org/results/dashboard/preferences/subscriptions/