From mboxrd@z Thu Jan 1 00:00:00 1970 Return-Path: Received: from mails.dpdk.org (mails.dpdk.org [217.70.189.124]) by inbox.dpdk.org (Postfix) with ESMTP id 7B6334679D for ; Tue, 20 May 2025 13:32:43 +0200 (CEST) Received: from mails.dpdk.org (localhost [127.0.0.1]) by mails.dpdk.org (Postfix) with ESMTP id 4F19D402C2; Tue, 20 May 2025 13:32:43 +0200 (CEST) Received: from mail-pl1-f225.google.com (mail-pl1-f225.google.com [209.85.214.225]) by mails.dpdk.org (Postfix) with ESMTP id 796A3402AE for ; Tue, 20 May 2025 13:32:42 +0200 (CEST) Received: by mail-pl1-f225.google.com with SMTP id d9443c01a7336-231fc83a33aso29418415ad.0 for ; Tue, 20 May 2025 04:32:42 -0700 (PDT) DKIM-Signature: v=1; a=rsa-sha256; c=relaxed/relaxed; d=iol.unh.edu; s=unh-iol; t=1747740761; x=1748345561; darn=dpdk.org; h=references:in-reply-to:cc:to:from:subject:message-id:date:from:to :cc:subject:date:message-id:reply-to; bh=JQRQmESRrS4Tu58PFmF5Lt5AsX3/2ulL9tz6Hd5p0mE=; b=R9c2sV9o5yzoeqA1cVmaMECahKyTMFzevPxDzobMBm4ZhAyZkidpEMEHpvdTkop+u/ 0YGQw2/dzi+WWjnh/WhyXFJTfPUh4h7qldIMC3PSPf3tIWdlrG9V+ZhSyEaKHjjQ7T4s gXLqZC5ooF4/+pQP6qG8qAEWhGl3XJLs7xZYI= X-Google-DKIM-Signature: v=1; a=rsa-sha256; c=relaxed/relaxed; d=1e100.net; s=20230601; t=1747740761; x=1748345561; h=references:in-reply-to:cc:to:from:subject:message-id:date :x-gm-message-state:from:to:cc:subject:date:message-id:reply-to; bh=JQRQmESRrS4Tu58PFmF5Lt5AsX3/2ulL9tz6Hd5p0mE=; b=oAGfGfPNiDyjPw+u5OzRe1GXoJAweDCC95plzFbse5ly15pjnbRjZbylfyOySGnOLM uSy51ixkYmnWWkZXREKkv4X6Sc0iKRlK25vixqYhH4IxTZCkSnKmZuHAwUqSh19wOB73 KskFmV37uYOeMAtXjKiaan6sY0W984sDByN4DLevxQ/rrtkDom7bUOdYO7ClUN+qE6QU T+fOrpJH1cYy/hPINH+hQlU1+YKbWEjN9BSUdD4ExOQGAG0nK0teJQ+A7vFiVqlB/AMo HV3p+SJy51GOCSo/0fBRNQ0YtobL9/9x0jeS7DHJXZ2vlnB5E6OhF29hgih7kz+cNpSg JKQw== X-Gm-Message-State: AOJu0Yz7dOLcu4vDIPGOjyNHZz9bkbfQzDqdGGainltloiY/cUYq75EH AlS5Gj6jZ+28e7iBoI+mbuBVXXP02/2dLjCBzuTfQaDj7eZFLST1UoKDuxxvv4mvw5uu6/ZWx1X pcsnFg89hKYyJru1h8LVzqKhDhh1K8XlcRiwCxP353+9mIq7+G3GXzDt5JQta X-Gm-Gg: ASbGnctLND3jDC3HdOakQDQjwzAbhny2KfUOQJLwceM+nz2EO7LMYC12K5zlw1Ec0ST EKW4jIFMaOllbqYHUDr+NOIKimgqZbiWWLhB8ctCnyKX/OM3US9+tuslDMhQlhJWqQTuQvxtKSF UUoZlLX8UJILl7nCDiaBw46vMzRvFE1nx4kD25Ft5juFZq/RNY6Z/lahQ9gr1LKsrcompy6zixi FKppnckzayTOohsfePbt6JAEE3d8dIO/iMYuKJH4B4cG0WWFIbn24hrzSafBdcMgcM2gnsGav4s /V9wtee+MvY8LpUE9p0qhEUnys9pNpTMZpp7 X-Google-Smtp-Source: AGHT+IHOLI8f9CIqCn7idoCV/X+fNGyqPb3itSmk0bS0va+o5dLtbLpYab8GSufK3oNhFHznjQvDOQ2J+fDi X-Received: by 2002:a17:903:11c6:b0:224:e33:889b with SMTP id d9443c01a7336-231de35f32fmr238929215ad.12.1747740761327; Tue, 20 May 2025 04:32:41 -0700 (PDT) Received: from postal.iol.unh.edu (postal.iol.unh.edu. [2606:4100:3880:1234::84]) by smtp-relay.gmail.com with ESMTPS id d9443c01a7336-231d4aa7366sm4982385ad.2.2025.05.20.04.32.41 (version=TLS1_2 cipher=ECDHE-ECDSA-AES128-GCM-SHA256 bits=128/128); Tue, 20 May 2025 04:32:41 -0700 (PDT) X-Relaying-Domain: iol.unh.edu Date: Tue, 20 May 2025 04:32:41 -0700 (PDT) Message-ID: <682c6859.170a0220.2ccf22.abc6SMTPIN_ADDED_MISSING@mx.google.com> Received: from [172.17.0.2] (unknown [172.18.0.76]) by postal.iol.unh.edu (Postfix) with ESMTP id 644886052471; Tue, 20 May 2025 07:32:40 -0400 (EDT) Subject: |SUCCESS| pw153527 [PATCH] net/intel: fix ixgbe get macsec stats From: dpdklab@iol.unh.edu To: Test Report Cc: dpdk-test-reports@iol.unh.edu In-Reply-To: <20250520011316.561890-1-kaiwenx.deng@intel.com> References: <20250520011316.561890-1-kaiwenx.deng@intel.com> Content-Type: text/plain X-BeenThere: test-report@dpdk.org X-Mailman-Version: 2.1.29 Precedence: list List-Id: automatic DPDK test reports List-Unsubscribe: , List-Archive: List-Post: List-Help: List-Subscribe: , Errors-To: test-report-bounces@dpdk.org Test-Label: iol-compile-amd64-testing Test-Status: SUCCESS http://dpdk.org/patch/153527 _Testing PASS_ Submitter: Kaiwen Deng Date: Tuesday, May 20 2025 01:13:16 DPDK git baseline: Repo:dpdk Branch: master CommitID:51e889518fc861f1af5acbbc133a75203225655c 153527 --> testing pass Upstream job id: Generic-DPDK-Compile-Meson#389686 Test environment and result as below: +-----------------------------------+--------------------+-------------------+-------------------------+-------------------+------------------+----------------------+ | Environment | dpdk_meson_compile | dpdk_msvc_compile | dpdk_llvm_clang_compile | dpdk_compile_spdk | dpdk_compile_ovs | dpdk_mingw64_compile | +===================================+====================+===================+=========================+===================+==================+======================+ | Ubuntu 20.04 | PASS | SKIPPED | SKIPPED | SKIPPED | SKIPPED | SKIPPED | +-----------------------------------+--------------------+-------------------+-------------------------+-------------------+------------------+----------------------+ | FreeBSD 13.5 | PASS | SKIPPED | SKIPPED | SKIPPED | SKIPPED | SKIPPED | +-----------------------------------+--------------------+-------------------+-------------------------+-------------------+------------------+----------------------+ | FreeBSD 14.2 | PASS | SKIPPED | SKIPPED | SKIPPED | SKIPPED | SKIPPED | +-----------------------------------+--------------------+-------------------+-------------------------+-------------------+------------------+----------------------+ | CentOS Stream 9 | PASS | SKIPPED | SKIPPED | PASS | SKIPPED | SKIPPED | +-----------------------------------+--------------------+-------------------+-------------------------+-------------------+------------------+----------------------+ | CentOS Stream 10 | PASS | SKIPPED | SKIPPED | SKIPPED | SKIPPED | SKIPPED | +-----------------------------------+--------------------+-------------------+-------------------------+-------------------+------------------+----------------------+ | Debian 12 | PASS | SKIPPED | SKIPPED | PASS | SKIPPED | SKIPPED | +-----------------------------------+--------------------+-------------------+-------------------------+-------------------+------------------+----------------------+ | Fedora 40 (Clang) | PASS | SKIPPED | SKIPPED | PASS | SKIPPED | SKIPPED | +-----------------------------------+--------------------+-------------------+-------------------------+-------------------+------------------+----------------------+ | Fedora 40 | PASS | SKIPPED | SKIPPED | PASS | SKIPPED | SKIPPED | +-----------------------------------+--------------------+-------------------+-------------------------+-------------------+------------------+----------------------+ | Fedora 41 (Clang) | PASS | SKIPPED | SKIPPED | PASS | PASS | SKIPPED | +-----------------------------------+--------------------+-------------------+-------------------------+-------------------+------------------+----------------------+ | Fedora 41 | PASS | SKIPPED | SKIPPED | PASS | PASS | SKIPPED | +-----------------------------------+--------------------+-------------------+-------------------------+-------------------+------------------+----------------------+ | openSUSE Leap 15 | PASS | SKIPPED | SKIPPED | SKIPPED | SKIPPED | SKIPPED | +-----------------------------------+--------------------+-------------------+-------------------------+-------------------+------------------+----------------------+ | RHEL8 | PASS | SKIPPED | SKIPPED | SKIPPED | SKIPPED | SKIPPED | +-----------------------------------+--------------------+-------------------+-------------------------+-------------------+------------------+----------------------+ | RHEL9 | PASS | SKIPPED | SKIPPED | SKIPPED | SKIPPED | SKIPPED | +-----------------------------------+--------------------+-------------------+-------------------------+-------------------+------------------+----------------------+ | Ubuntu 22.04 | PASS | SKIPPED | SKIPPED | PASS | SKIPPED | SKIPPED | +-----------------------------------+--------------------+-------------------+-------------------------+-------------------+------------------+----------------------+ | Ubuntu 24.04 | PASS | SKIPPED | SKIPPED | PASS | PASS | SKIPPED | +-----------------------------------+--------------------+-------------------+-------------------------+-------------------+------------------+----------------------+ | Alpine | PASS | SKIPPED | SKIPPED | SKIPPED | SKIPPED | SKIPPED | +-----------------------------------+--------------------+-------------------+-------------------------+-------------------+------------------+----------------------+ | Ubuntu 24.04 32 Bit Cross Compile | PASS | SKIPPED | SKIPPED | SKIPPED | SKIPPED | SKIPPED | +-----------------------------------+--------------------+-------------------+-------------------------+-------------------+------------------+----------------------+ | Windows Server 2022 | SKIPPED | PASS | PASS | SKIPPED | SKIPPED | PASS | +-----------------------------------+--------------------+-------------------+-------------------------+-------------------+------------------+----------------------+ Ubuntu 20.04 Kernel: 4.19.325-0419325-generic Compiler: gcc (Ubuntu 9.4.0-1ubuntu1~20.04.2) 9.4.0 FreeBSD 13.5 Kernel: 13.5-RELEASE Compiler: clang 19.1.7 FreeBSD 14.2 Kernel: 14.2-RELEASE Compiler: clang 18.1.6 CentOS Stream 9 Kernel: Depends on container host Compiler: gcc 11.5.0 20240719 (Red Hat 11.5.0-2) CentOS Stream 10 Kernel: Depends on container host Compiler: gcc 14.2.1 20241104 (Red Hat 14.2.1-6) Debian 12 Kernel: Depends on container host Compiler: gcc (Debian 12.2.0-14) 12.2.0 Fedora 40 (Clang) Kernel: Depends on container host Compiler: clang 18.1.8 (Fedora 18.1.8-1.fc40) Fedora 40 Kernel: Depends on container host Compiler: gcc 14.2.1 20240912 (Red Hat 14.2.1-3) Fedora 41 (Clang) Kernel: Depends on container host Compiler: clang 19.1.5 (Fedora 19.1.5-1.fc41) Fedora 41 Kernel: Depends on container host Compiler: gcc 14.2.1 20240912 (Red Hat 14.2.1-3) openSUSE Leap 15 Kernel: Depends on container host Compiler: gcc (SUSE Linux) 7.5.0 RHEL8 Kernel: Depends on container host Compiler: gcc 8.5.0 20210514 (Red Hat 8.5.0-22) RHEL9 Kernel: Depends on container host Compiler: gcc 11.5.0 20240719 (Red Hat 11.5.0-2) Ubuntu 22.04 Kernel: Depends on container host Compiler: gcc (Ubuntu 11.4.0-1ubuntu1~22.04) 11.4.0 Ubuntu 24.04 Kernel: Depends on container host Compiler: gcc (Ubuntu 13.3.0-6ubuntu2~24.04) 13.3.0 Alpine Kernel: Depends on container host Compiler: gcc (Alpine 14.2.0) 14.2.0 Ubuntu 24.04 32 Bit Cross Compile Kernel: Depends on container host Compiler: gcc (Ubuntu 13.3.0-6ubuntu2~24.04) 13.3.0 Windows Server 2022 Kernel: 10.0.20348.2031 Compiler: clang 15.0.7, gcc 14.1.0 (MinGW), and MSVC VS 19.39.33521 To view detailed results, visit: https://lab.dpdk.org/results/dashboard/patchsets/33210/ UNH-IOL DPDK Community Lab To manage your email subscriptions, visit: https://lab.dpdk.org/results/dashboard/preferences/subscriptions/