From mboxrd@z Thu Jan 1 00:00:00 1970 Return-Path: Received: from mails.dpdk.org (mails.dpdk.org [217.70.189.124]) by inbox.dpdk.org (Postfix) with ESMTP id 20DFD4679D for ; Tue, 20 May 2025 13:39:36 +0200 (CEST) Received: from mails.dpdk.org (localhost [127.0.0.1]) by mails.dpdk.org (Postfix) with ESMTP id EE533402C2; Tue, 20 May 2025 13:39:35 +0200 (CEST) Received: from mail-pl1-f225.google.com (mail-pl1-f225.google.com [209.85.214.225]) by mails.dpdk.org (Postfix) with ESMTP id ECE0F402AE for ; Tue, 20 May 2025 13:39:34 +0200 (CEST) Received: by mail-pl1-f225.google.com with SMTP id d9443c01a7336-232054aa4ebso22910645ad.1 for ; Tue, 20 May 2025 04:39:34 -0700 (PDT) DKIM-Signature: v=1; a=rsa-sha256; c=relaxed/relaxed; d=iol.unh.edu; s=unh-iol; t=1747741174; x=1748345974; darn=dpdk.org; h=references:in-reply-to:cc:to:from:subject:message-id:date:from:to :cc:subject:date:message-id:reply-to; bh=MXOspMU4hg0YFCRl/va7d9NWvhWIZK+r2Y8ZFoXkTIQ=; b=jyd5D1Uey9AOkxymbqQTupoYW6XpaMRZPl4XGVVQBU0y2CehYdQpl/+B/eFN/r+8dX 2eRen983JtPL9PmK1pmBdB3s7+vhsUFe8CzT3ovMPh6gdAuTa4v9yX4Js/gxASR1tgbL QaeJhLXNlYa5Tu6E98LtHaaydJ6btYHH1zY8w= X-Google-DKIM-Signature: v=1; a=rsa-sha256; c=relaxed/relaxed; d=1e100.net; s=20230601; t=1747741174; x=1748345974; h=references:in-reply-to:cc:to:from:subject:message-id:date :x-gm-message-state:from:to:cc:subject:date:message-id:reply-to; bh=MXOspMU4hg0YFCRl/va7d9NWvhWIZK+r2Y8ZFoXkTIQ=; b=RKt5ntoViwyl7iVhYYxTBzaD3RHMo6PU0P+jm9+0zxbNckz+lRzIw3HnuOSLEqyJhT atKVVr4Ec2GE2IIi+qi6wG91IIXqv1ExM2E4DTtXqj6J5CtFzjrz+0ZA4yhYZYHlAMtq X1WFIYO7/IF36eT0tXS4wUQ3OejWDRjpxjJmyne1LGH/S9kdgt/IHOs5T1cNb5EFDLxh bjTmkvilttCc6VKPjunR36mVBkJ3GTVcDgiltTvADULZRgRIvpz4eO73YNPto9aSHfwH a2lq5RmqqSxhu49sdeqn01x7N/N9pJMNRkE6IE9GlbRENQ/gc4tgCpmGC16ZVhyoK9cx iwog== X-Gm-Message-State: AOJu0YwUgx7NHNI9wiOxO55jhlWhpM89zrpETntBAYuWNwQBJN6Esj+s /BKeXaNTjs7b0k7JqaslqBoAUrkmXhpjv+vYo5GwEN6a17SqqgGvrRPtylo9Rcmd1RaKmwBYPbO VWN9gKlaK3ckDV6uu9Yal+kY/RwaDfMEpsN63cn4WDtM8 X-Gm-Gg: ASbGnctqCGAwPn10SXQCl/3Qn3CIpUDjH3Pz6rCQI2MP6OtgU0fnaSn4IJEhTwM4hFf hMQtp041LG9nSnmswXuEGN59ZWu6TYAvoWwROEDuryJ953aEkJthBzKAaL+hMlRqhnrLTEKeH0c Ap2mfJIB6FfAg1OQQGVcJPBgAfnOghAUTAOEZ/q6UjMjPM73Qqe5xmT9g5pERlguA9eS8iaGOJ/ WIpryJh/tJJ0PHR8NeoturJrNIqbbEJViGYQGlV2LzbvvLKo5OYeR/i15n1fIPjkV+hInp66GwT Hr3pMKLZ5cPTMSdHQXfr+TQiwThS3HSbm2pNASsER1TUMhCgAhL2LgbLiSg= X-Google-Smtp-Source: AGHT+IH7ZcUAmemV76kTVKyRB6cQsKxOvLXfb69m7Siea6d3c7elujRhY6H8XJRZUUUfLulz0JTEobAAoZf5 X-Received: by 2002:a17:902:d4d2:b0:231:faf5:c1d0 with SMTP id d9443c01a7336-231faf5c3ecmr223145025ad.24.1747741173922; Tue, 20 May 2025 04:39:33 -0700 (PDT) Received: from postal.iol.unh.edu (postal.iol.unh.edu. [132.177.123.84]) by smtp-relay.gmail.com with ESMTPS id d9443c01a7336-231d4b016d7sm5125775ad.65.2025.05.20.04.39.33 (version=TLS1_2 cipher=ECDHE-ECDSA-AES128-GCM-SHA256 bits=128/128); Tue, 20 May 2025 04:39:33 -0700 (PDT) X-Relaying-Domain: iol.unh.edu Date: Tue, 20 May 2025 04:39:33 -0700 (PDT) Message-ID: <682c69f5.170a0220.1a5726.adedSMTPIN_ADDED_MISSING@mx.google.com> Received: from [172.17.0.2] (unknown [172.18.0.76]) by postal.iol.unh.edu (Postfix) with ESMTP id 82F006052471; Tue, 20 May 2025 07:39:32 -0400 (EDT) Subject: |SUCCESS| pw153527 [PATCH] net/intel: fix ixgbe get macsec stats From: dpdklab@iol.unh.edu To: Test Report Cc: dpdk-test-reports@iol.unh.edu In-Reply-To: <20250520011316.561890-1-kaiwenx.deng@intel.com> References: <20250520011316.561890-1-kaiwenx.deng@intel.com> Content-Type: text/plain X-BeenThere: test-report@dpdk.org X-Mailman-Version: 2.1.29 Precedence: list List-Id: automatic DPDK test reports List-Unsubscribe: , List-Archive: List-Post: List-Help: List-Subscribe: , Errors-To: test-report-bounces@dpdk.org Test-Label: iol-compile-arm64-testing Test-Status: SUCCESS http://dpdk.org/patch/153527 _Testing PASS_ Submitter: Kaiwen Deng Date: Tuesday, May 20 2025 01:13:16 DPDK git baseline: Repo:dpdk Branch: master CommitID:51e889518fc861f1af5acbbc133a75203225655c 153527 --> testing pass Upstream job id: Generic-DPDK-Compile-Meson#389702 Test environment and result as below: +----------------------------------------+--------------------+ | Environment | dpdk_meson_compile | +========================================+====================+ | RHEL9 (ARM) | PASS | +----------------------------------------+--------------------+ | Ubuntu 20.04 ARM GCC Cross Compile | PASS | +----------------------------------------+--------------------+ | Ubuntu 20.04 ARM SVE | PASS | +----------------------------------------+--------------------+ | Debian 12 with MUSDK | PASS | +----------------------------------------+--------------------+ | Fedora 40 (ARM Clang) | PASS | +----------------------------------------+--------------------+ | Fedora 41 (ARM) | PASS | +----------------------------------------+--------------------+ | Fedora 41 (ARM Clang) | PASS | +----------------------------------------+--------------------+ | Ubuntu 20.04 (ARM) | PASS | +----------------------------------------+--------------------+ | Ubuntu 22.04 (ARM) | PASS | +----------------------------------------+--------------------+ | Ubuntu 24.04 (ARM) | PASS | +----------------------------------------+--------------------+ | CentOS Stream 9 (ARM) | PASS | +----------------------------------------+--------------------+ | CentOS Stream 10 (ARM) | PASS | +----------------------------------------+--------------------+ | Debian 12 (arm) | PASS | +----------------------------------------+--------------------+ | Ubuntu 20.04 ARM Clang Cross Compile | PASS | +----------------------------------------+--------------------+ | Ubuntu 20.04 aarch32 GCC Cross Compile | PASS | +----------------------------------------+--------------------+ | Fedora 40 (ARM) | PASS | +----------------------------------------+--------------------+ RHEL9 (ARM) Kernel: Depends on container host Compiler: gcc 11.5.0 20240719 (Red Hat 11.5.0-2) Ubuntu 20.04 ARM GCC Cross Compile Kernel: Depends on container host Compiler: aarch64-linux-gnu-gcc (Ubuntu 9.4.0-1ubuntu1~20.04.2) 9.4.0 Ubuntu 20.04 ARM SVE Kernel: Depends on container host Compiler: gcc (Ubuntu 10.5.0-1ubuntu1~20.04) 10.5.0 Debian 12 with MUSDK Kernel: Depends on container host Compiler: gcc (Debian 12.2.0-14) 12.2.0 Fedora 40 (ARM Clang) Kernel: Depends on container host Compiler: clang 18.1.8 (Fedora 18.1.8-1.fc40) Fedora 41 (ARM) Kernel: Depends on container host Compiler: gcc 14.2.1 20240912 (Red Hat 14.2.1-3) Fedora 41 (ARM Clang) Kernel: Depends on container host Compiler: clang 19.1.5 (Fedora 19.1.5-1.fc41) Ubuntu 20.04 (ARM) Kernel: Depends on container host Compiler: gcc (Ubuntu 9.4.0-1ubuntu1~20.04.2) 9.4.0 Ubuntu 22.04 (ARM) Kernel: Depends on container host Compiler: gcc (Ubuntu 11.4.0-1ubuntu1~22.04) 11.4.0 Ubuntu 24.04 (ARM) Kernel: Depends on container host Compiler: gcc (Ubuntu 13.3.0-6ubuntu2~24.04) 13.3.0 CentOS Stream 9 (ARM) Kernel: Depends on container host Compiler: gcc 11.5.0 20240719 (Red Hat 11.5.0-2) CentOS Stream 10 (ARM) Kernel: Depends on container host Compiler: gcc 14.2.1 20241104 (Red Hat 14.2.1-6) Debian 12 (arm) Kernel: Depends on container host Compiler: gcc (Debian 12.2.0-14) 12.2.0 Ubuntu 20.04 ARM Clang Cross Compile Kernel: Depends on container host Compiler: clang 10.0.0-4ubuntu1 Ubuntu 20.04 aarch32 GCC Cross Compile Kernel: Depends on container host Compiler: gcc 9.4.0 Fedora 40 (ARM) Kernel: Depends on container host Compiler: gcc 14.2.1 20240912 (Red Hat 14.2.1-3) To view detailed results, visit: https://lab.dpdk.org/results/dashboard/patchsets/33210/ UNH-IOL DPDK Community Lab To manage your email subscriptions, visit: https://lab.dpdk.org/results/dashboard/preferences/subscriptions/