From mboxrd@z Thu Jan 1 00:00:00 1970 Return-Path: Received: from mails.dpdk.org (mails.dpdk.org [217.70.189.124]) by inbox.dpdk.org (Postfix) with ESMTP id B8C334679E for ; Tue, 20 May 2025 15:53:09 +0200 (CEST) Received: from mails.dpdk.org (localhost [127.0.0.1]) by mails.dpdk.org (Postfix) with ESMTP id 9902C40674; Tue, 20 May 2025 15:53:09 +0200 (CEST) Received: from mail-io1-f98.google.com (mail-io1-f98.google.com [209.85.166.98]) by mails.dpdk.org (Postfix) with ESMTP id DBBCE402AE for ; Tue, 20 May 2025 15:53:08 +0200 (CEST) Received: by mail-io1-f98.google.com with SMTP id ca18e2360f4ac-8647a81e683so141115539f.1 for ; Tue, 20 May 2025 06:53:08 -0700 (PDT) DKIM-Signature: v=1; a=rsa-sha256; c=relaxed/relaxed; d=iol.unh.edu; s=unh-iol; t=1747749188; x=1748353988; darn=dpdk.org; h=references:in-reply-to:cc:to:from:subject:message-id:date:from:to :cc:subject:date:message-id:reply-to; bh=2LJSHV753JVnRVYjCL602ng8yUrzOWBA1qAG0ddSMjs=; b=itU5MvVHaGME4GFiGz0xsws3KjrfO7Nbr+DMc7j86VoHMO69Xje3AFxEdi2G3jbbdM 3FFuHw7i5jhrf0KAS5LoHoX4w/0C6xh1CeKLF5ovrcvyxt41sZxOCXA7Y2kKhGXypvGS FTZS+7zeBH2g22cKeCwIzhm8n4yd59/+Uc7o8= X-Google-DKIM-Signature: v=1; a=rsa-sha256; c=relaxed/relaxed; d=1e100.net; s=20230601; t=1747749188; x=1748353988; h=references:in-reply-to:cc:to:from:subject:message-id:date :x-gm-message-state:from:to:cc:subject:date:message-id:reply-to; bh=2LJSHV753JVnRVYjCL602ng8yUrzOWBA1qAG0ddSMjs=; b=ZlnTU6ycgXq2LhTP07RwvVCDGntmbzPSCuQoafyYay3Ie1kyfIA+f4WlsJ6OCKzuYc 9TSLKa9jzyl9SUCbwsQ/FtecFItu39EJsG1pVDfILLX6xQ65oGFfWfaSgM0gw39ZtITd tjXvho/6lfbKPs8vZ7Kf5ORJBzYFoPe4WLHCH8jVO8l+FjWvCk+CDTbmzGZ1qW0d7cw/ BGjyJxiANzMImNykG5cvtLaGnuFlyZWLCce7S/N8uktxlOiFRevL0fgsu1Ih5pJXn4+p ITdMxfy5InUXBJXRcVWYUXpvGhlYA9jKkJ7/CrcRTrsbGlRUlpuYvR2VutW2U2+qASYw 2tFQ== X-Gm-Message-State: AOJu0YxHDB4FEMai4R67XYFzLyfNJdYPQcRyt0oboLxIGwLy1vaS7mYO c/ZSIIKRxJkfYYd7iMIX1yYzm7w8J3cFDwKLAY/GFTA963XHDaEM/qugXq5gEqPFPI0WfWLsdDa Kx4hJoAKFu09S2mXPeJ59LinfSNAHlQe/vZG8dWUTrvOkJ6BHcfKfpIKuyYzl X-Gm-Gg: ASbGncuYMHh1T5HqXE2jD90rJ47Q//yMPILNhjn3lhHIq8qvlPsOw5ixXsy4cHc60Q6 k1Rr7xXKLhZmf4RsZIxGR05I52psA8jN8dR6YkzdHVZyee0XxF/2abF4R01jpMRTRh14Us4T9gJ nboFzSLPwOaZmi5vKJ+VCBgDtno1KErjb0gHdGDCyTKd31Kuxge6lx2RmnP8ToCKlU7jZZUGuWH VI4qQjHvwAcuv/q79yfY1Nu/ZPGhWne4npiIJEkCmBIYzUk2aLaEgyydf0u0XVhNRyj/toMHByV rrW+/LSxHEJNOnTy06qyhShSeOkxjGVmUDsf X-Google-Smtp-Source: AGHT+IEvXMRtyjm54FEDzZaalgjASdyNiIZH7w1pT26mz6nvnUoiBefrTo+yDv4+LG3MS2Sbl6LxpNFhHfMw X-Received: by 2002:a05:6602:4192:b0:864:4b3a:9e3a with SMTP id ca18e2360f4ac-86a2324e6afmr2115911239f.13.1747749188066; Tue, 20 May 2025 06:53:08 -0700 (PDT) Received: from postal.iol.unh.edu (postal.iol.unh.edu. [2606:4100:3880:1234::84]) by smtp-relay.gmail.com with ESMTPS id ca18e2360f4ac-86a234f08cfsm39538139f.0.2025.05.20.06.53.07 (version=TLS1_2 cipher=ECDHE-ECDSA-AES128-GCM-SHA256 bits=128/128); Tue, 20 May 2025 06:53:08 -0700 (PDT) X-Relaying-Domain: iol.unh.edu Date: Tue, 20 May 2025 06:53:08 -0700 (PDT) Message-ID: <682c8944.050a0220.20e83c.3f1bSMTPIN_ADDED_MISSING@mx.google.com> Received: from [172.17.0.3] (unknown [172.18.0.76]) by postal.iol.unh.edu (Postfix) with ESMTP id AD8976052471; Tue, 20 May 2025 09:53:07 -0400 (EDT) Subject: |SUCCESS| pw153517-153518 [PATCH] [2/2] app/testpmd: clear stale int From: dpdklab@iol.unh.edu To: Test Report Cc: dpdk-test-reports@iol.unh.edu In-Reply-To: <20250519160711.4024414-2-skori@marvell.com> References: <20250519160711.4024414-2-skori@marvell.com> Content-Type: text/plain X-BeenThere: test-report@dpdk.org X-Mailman-Version: 2.1.29 Precedence: list List-Id: automatic DPDK test reports List-Unsubscribe: , List-Archive: List-Post: List-Help: List-Subscribe: , Errors-To: test-report-bounces@dpdk.org Test-Label: iol-compile-arm64-testing Test-Status: SUCCESS http://dpdk.org/patch/153518 _Testing PASS_ Submitter: Sunil Kumar Kori Date: Monday, May 19 2025 16:06:56 DPDK git baseline: Repo:dpdk Branch: master CommitID:ff05ee3e3f8fb4ce958a2ce6461e8141aea959c6 153517-153518 --> testing pass Upstream job id: Generic-DPDK-Compile-Meson#389704 Test environment and result as below: +----------------------------------------+--------------------+ | Environment | dpdk_meson_compile | +========================================+====================+ | Ubuntu 20.04 ARM GCC Cross Compile | PASS | +----------------------------------------+--------------------+ | Debian 12 with MUSDK | PASS | +----------------------------------------+--------------------+ | Fedora 40 (ARM) | PASS | +----------------------------------------+--------------------+ | RHEL9 (ARM) | PASS | +----------------------------------------+--------------------+ | Ubuntu 20.04 ARM SVE | PASS | +----------------------------------------+--------------------+ | Fedora 41 (ARM) | PASS | +----------------------------------------+--------------------+ | Fedora 40 (ARM Clang) | PASS | +----------------------------------------+--------------------+ | Ubuntu 22.04 (ARM) | PASS | +----------------------------------------+--------------------+ | Ubuntu 20.04 aarch32 GCC Cross Compile | PASS | +----------------------------------------+--------------------+ | CentOS Stream 9 (ARM) | PASS | +----------------------------------------+--------------------+ | Ubuntu 20.04 (ARM) | PASS | +----------------------------------------+--------------------+ | Ubuntu 20.04 ARM Clang Cross Compile | PASS | +----------------------------------------+--------------------+ | CentOS Stream 10 (ARM) | PASS | +----------------------------------------+--------------------+ | Ubuntu 24.04 (ARM) | PASS | +----------------------------------------+--------------------+ | Fedora 41 (ARM Clang) | PASS | +----------------------------------------+--------------------+ | Debian 12 (arm) | PASS | +----------------------------------------+--------------------+ Ubuntu 20.04 ARM GCC Cross Compile Kernel: Depends on container host Compiler: aarch64-linux-gnu-gcc (Ubuntu 9.4.0-1ubuntu1~20.04.2) 9.4.0 Debian 12 with MUSDK Kernel: Depends on container host Compiler: gcc (Debian 12.2.0-14) 12.2.0 Fedora 40 (ARM) Kernel: Depends on container host Compiler: gcc 14.2.1 20240912 (Red Hat 14.2.1-3) RHEL9 (ARM) Kernel: Depends on container host Compiler: gcc 11.5.0 20240719 (Red Hat 11.5.0-2) Ubuntu 20.04 ARM SVE Kernel: Depends on container host Compiler: gcc (Ubuntu 10.5.0-1ubuntu1~20.04) 10.5.0 Fedora 41 (ARM) Kernel: Depends on container host Compiler: gcc 14.2.1 20240912 (Red Hat 14.2.1-3) Fedora 40 (ARM Clang) Kernel: Depends on container host Compiler: clang 18.1.8 (Fedora 18.1.8-1.fc40) Ubuntu 22.04 (ARM) Kernel: Depends on container host Compiler: gcc (Ubuntu 11.4.0-1ubuntu1~22.04) 11.4.0 Ubuntu 20.04 aarch32 GCC Cross Compile Kernel: Depends on container host Compiler: gcc 9.4.0 CentOS Stream 9 (ARM) Kernel: Depends on container host Compiler: gcc 11.5.0 20240719 (Red Hat 11.5.0-2) Ubuntu 20.04 (ARM) Kernel: Depends on container host Compiler: gcc (Ubuntu 9.4.0-1ubuntu1~20.04.2) 9.4.0 Ubuntu 20.04 ARM Clang Cross Compile Kernel: Depends on container host Compiler: clang 10.0.0-4ubuntu1 CentOS Stream 10 (ARM) Kernel: Depends on container host Compiler: gcc 14.2.1 20241104 (Red Hat 14.2.1-6) Ubuntu 24.04 (ARM) Kernel: Depends on container host Compiler: gcc (Ubuntu 13.3.0-6ubuntu2~24.04) 13.3.0 Fedora 41 (ARM Clang) Kernel: Depends on container host Compiler: clang 19.1.5 (Fedora 19.1.5-1.fc41) Debian 12 (arm) Kernel: Depends on container host Compiler: gcc (Debian 12.2.0-14) 12.2.0 To view detailed results, visit: https://lab.dpdk.org/results/dashboard/patchsets/33206/ UNH-IOL DPDK Community Lab To manage your email subscriptions, visit: https://lab.dpdk.org/results/dashboard/preferences/subscriptions/