From mboxrd@z Thu Jan 1 00:00:00 1970 Return-Path: Received: from mails.dpdk.org (mails.dpdk.org [217.70.189.124]) by inbox.dpdk.org (Postfix) with ESMTP id F12944679F for ; Tue, 20 May 2025 16:07:07 +0200 (CEST) Received: from mails.dpdk.org (localhost [127.0.0.1]) by mails.dpdk.org (Postfix) with ESMTP id D6F874069D; Tue, 20 May 2025 16:07:07 +0200 (CEST) Received: from mail-pl1-f225.google.com (mail-pl1-f225.google.com [209.85.214.225]) by mails.dpdk.org (Postfix) with ESMTP id D26FF402AE for ; Tue, 20 May 2025 16:07:06 +0200 (CEST) Received: by mail-pl1-f225.google.com with SMTP id d9443c01a7336-2322f8afe02so21339175ad.2 for ; Tue, 20 May 2025 07:07:06 -0700 (PDT) DKIM-Signature: v=1; a=rsa-sha256; c=relaxed/relaxed; d=iol.unh.edu; s=unh-iol; t=1747750026; x=1748354826; darn=dpdk.org; h=cc:to:from:subject:message-id:date:from:to:cc:subject:date :message-id:reply-to; bh=foKeLRzTFB+lGm8H6OK77VZqPTLr63I6Y4Tm2hHjlA0=; b=BNU/qEbZUT4SblMX9ndWcVMV/7mHH2PxtfseKf4aEObzGFL4elqU6AKD6gCpB/qwUJ GX7mab0EtvUnB+6UC9rRjE5k4BVAP4F9a7gulzmAOlqtQKDIx9jFTH0n0z/1mYTzYVHz xtgrgOjSsGBq/vKwQBOPQensOcuJ+GZoXuU+U= X-Google-DKIM-Signature: v=1; a=rsa-sha256; c=relaxed/relaxed; d=1e100.net; s=20230601; t=1747750026; x=1748354826; h=cc:to:from:subject:message-id:date:x-gm-message-state:from:to:cc :subject:date:message-id:reply-to; bh=foKeLRzTFB+lGm8H6OK77VZqPTLr63I6Y4Tm2hHjlA0=; b=hwoxQYLJBuG/sUucAA/SL2zMeuQPSD+DYkmit/uXmS1N+MSztBzCgXmW55nofDqy2j X6yRO6v+9mlDaXOqXvRULcHiQnRh0Ngfb3/iETSL5Qi5zovreNsA/+Q1H20qpJPf1Lmz LOLWeD5lH9TI17VFotfVbwwqTcVM90aIPeW8PasvyNnxZjdv/pRYD7HiBSFi3j7R+Zzt 9+hnINl9MNtQyOp15wCL8mTofyMf/U/X6XB0+vsJgYyG2tDDQ3sGZAX+sgbOnqoUX9HZ hiXU9cvEkLJhgmYjJwNiPNo67TM5mfUUprUpTQyqamOVY8BIIzZEu8H6a1Rc7JlOHfe3 xSaA== X-Gm-Message-State: AOJu0Yy+1miuksfe97pTOI+aW9fP9BglwQC930XJivMHQm6kZUjnvHDZ xOihiKHn+IedtieauhQyGGi1mvrDwKwM+Zbe/lz2WkdEHzQYPSMvjBvMNU8f4PPtMMZP6sHtHoQ oV8Vk37rzPnKkrv5AZhC6HIeKMokQgsohsuLTHMerXTbJvlc7gQCV X-Gm-Gg: ASbGnctRmvQ0T2NGFJXMgWbBWeanVfa9cht9x3NP9GoWMFhZ9lLgceGeJKD5sRJ4+qI tYY3kFk+KutJC9ynSZFO7Qo96jMfrwPKMJKYfrC3K+Qe1D5xBkvKiKfvAwUAXCqftU6z8WGbiDr fAVLFKZSwbAjblWmYgXSoI5XtK2f3nK6WDPUE1fdjOmOfxkLd40XkimdQrpUZgN8W08tL2WOBuV BaaVtWgwepgaLsQtrnWyvgDbgP5tLqOmP47eE+/n4P8j2hfTM6vhMnAhsaRNzJWrxpQ6gdATJ0E +EyDGbCyP7sMwrLJlaANxXKniKq/95R+nbGp X-Google-Smtp-Source: AGHT+IHUMvftUg23bQyFYFZq34G/XcA0+VoEdIoZgP0Pamjn5sVNz9HCWZbKv3UYnTNugwjOzHl1uHrX0z13 X-Received: by 2002:a17:902:c951:b0:220:c4e8:3b9f with SMTP id d9443c01a7336-231d3536065mr221466925ad.0.1747750025675; Tue, 20 May 2025 07:07:05 -0700 (PDT) Received: from postal.iol.unh.edu (postal.iol.unh.edu. [2606:4100:3880:1234::84]) by smtp-relay.gmail.com with ESMTPS id d9443c01a7336-231d4aa713bsm5321475ad.9.2025.05.20.07.07.05 (version=TLS1_2 cipher=ECDHE-ECDSA-AES128-GCM-SHA256 bits=128/128); Tue, 20 May 2025 07:07:05 -0700 (PDT) X-Relaying-Domain: iol.unh.edu Date: Tue, 20 May 2025 07:07:05 -0700 (PDT) Message-ID: <682c8c89.170a0220.43829.c15cSMTPIN_ADDED_MISSING@mx.google.com> Received: from [172.17.0.2] (unknown [172.18.0.76]) by postal.iol.unh.edu (Postfix) with ESMTP id 2CE056052472; Tue, 20 May 2025 10:07:05 -0400 (EDT) Subject: |SUCCESS| [GIT MASTER] 83a7a648344674c0269fcaeb71d8d16468421a0e From: dpdklab@iol.unh.edu To: Test Report Cc: dpdk-test-reports@iol.unh.edu, Xueming Li , Christian Ehrhardt , Kevin Traynor , Luca Boccassi Content-Type: text/plain X-BeenThere: test-report@dpdk.org X-Mailman-Version: 2.1.29 Precedence: list List-Id: automatic DPDK test reports List-Unsubscribe: , List-Archive: List-Post: List-Help: List-Subscribe: , Errors-To: test-report-bounces@dpdk.org _Testing PASS_ Branch: tags/v23.11 83a7a648344674c0269fcaeb71d8d16468421a0e --> testing pass Upstream job id: Generic-DPDK-Compile-ABI#127053 Test environment and result as below: +-------------------+----------+ | Environment | abi_test | +===================+==========+ | CentOS Stream 9 | PASS | +-------------------+----------+ | Debian 12 | PASS | +-------------------+----------+ | CentOS Stream 10 | PASS | +-------------------+----------+ | Fedora 40 (Clang) | PASS | +-------------------+----------+ | Fedora 40 | PASS | +-------------------+----------+ | Fedora 41 (Clang) | PASS | +-------------------+----------+ | Fedora 41 | PASS | +-------------------+----------+ | openSUSE Leap 15 | PASS | +-------------------+----------+ | RHEL8 | PASS | +-------------------+----------+ | RHEL9 | PASS | +-------------------+----------+ | Ubuntu 22.04 | PASS | +-------------------+----------+ | Ubuntu 24.04 | PASS | +-------------------+----------+ CentOS Stream 9 Kernel: Depends on container host Compiler: gcc 11.5.0 20240719 (Red Hat 11.5.0-2) Debian 12 Kernel: Depends on container host Compiler: gcc (Debian 12.2.0-14) 12.2.0 CentOS Stream 10 Kernel: Depends on container host Compiler: gcc 14.2.1 20241104 (Red Hat 14.2.1-6) Fedora 40 (Clang) Kernel: Depends on container host Compiler: clang 18.1.8 (Fedora 18.1.8-1.fc40) Fedora 40 Kernel: Depends on container host Compiler: gcc 14.2.1 20240912 (Red Hat 14.2.1-3) Fedora 41 (Clang) Kernel: Depends on container host Compiler: clang 19.1.5 (Fedora 19.1.5-1.fc41) Fedora 41 Kernel: Depends on container host Compiler: gcc 14.2.1 20240912 (Red Hat 14.2.1-3) openSUSE Leap 15 Kernel: Depends on container host Compiler: gcc (SUSE Linux) 7.5.0 RHEL8 Kernel: Depends on container host Compiler: gcc 8.5.0 20210514 (Red Hat 8.5.0-22) RHEL9 Kernel: Depends on container host Compiler: gcc 11.5.0 20240719 (Red Hat 11.5.0-2) Ubuntu 22.04 Kernel: Depends on container host Compiler: gcc (Ubuntu 11.4.0-1ubuntu1~22.04) 11.4.0 Ubuntu 24.04 Kernel: Depends on container host Compiler: gcc (Ubuntu 13.3.0-6ubuntu2~24.04) 13.3.0 To view detailed results, visit: https://lab.dpdk.org/results/dashboard/tarballs/33586/ UNH-IOL DPDK Community Lab To manage your email subscriptions, visit: https://lab.dpdk.org/results/dashboard/preferences/subscriptions/