From mboxrd@z Thu Jan  1 00:00:00 1970
Return-Path: <test-report-bounces@dpdk.org>
Received: from mails.dpdk.org (mails.dpdk.org [217.70.189.124])
	by inbox.dpdk.org (Postfix) with ESMTP id EEFB6467A0
	for <public@inbox.dpdk.org>; Tue, 20 May 2025 18:33:00 +0200 (CEST)
Received: from mails.dpdk.org (localhost [127.0.0.1])
	by mails.dpdk.org (Postfix) with ESMTP id CAA7340B94;
	Tue, 20 May 2025 18:33:00 +0200 (CEST)
Received: from mail-oo1-f100.google.com (mail-oo1-f100.google.com
 [209.85.161.100])
 by mails.dpdk.org (Postfix) with ESMTP id 7A0AF4029C
 for <test-report@dpdk.org>; Tue, 20 May 2025 18:32:59 +0200 (CEST)
Received: by mail-oo1-f100.google.com with SMTP id
 006d021491bc7-601b6146b9cso3270984eaf.0
 for <test-report@dpdk.org>; Tue, 20 May 2025 09:32:59 -0700 (PDT)
DKIM-Signature: v=1; a=rsa-sha256; c=relaxed/relaxed;
 d=iol.unh.edu; s=unh-iol; t=1747758778; x=1748363578; darn=dpdk.org;
 h=references:in-reply-to:cc:to:from:subject:message-id:date:from:to
 :cc:subject:date:message-id:reply-to;
 bh=bUMSgJyBSo+fQD2IdjzIYv19AcQxRFRMprIy6YttOo0=;
 b=Uz1zz+9eW4YXtNp7t7996ZnZxMyvatpVHsfOo4/UOMNKWmNhQAQmdg+FP1AHCXVIEX
 V2xf4SeyvWoX0bJo1GYFkqKs0somklsyU7BXsDEclDL48JpAr6vTiJtyfaIzEDTNlP18
 FCG6XnbKjXD6uFpqbtbRG5iXJrpWsvlL8KKuo=
X-Google-DKIM-Signature: v=1; a=rsa-sha256; c=relaxed/relaxed;
 d=1e100.net; s=20230601; t=1747758778; x=1748363578;
 h=references:in-reply-to:cc:to:from:subject:message-id:date
 :x-gm-message-state:from:to:cc:subject:date:message-id:reply-to;
 bh=bUMSgJyBSo+fQD2IdjzIYv19AcQxRFRMprIy6YttOo0=;
 b=ZIjaJpToDEoAUrhNW/azWQARyBE4DMVhLy6cOI+B1eZNP9sdW8ne8s+xAF/MXIZcqS
 x1YLWvJ7bj7GOuB76deyYm7JbU2K1bhp+gIG5Z62jAVh7f2/dT4ZLc0PPE+lp8pNfyVh
 cQVXNAO6lTerCHePjqUGEFpI/kgbZEgytSj3x28yMYi/xpltM8ON1OQ0myL1u50+ygro
 jr4/QdtZw3NxHJgHru6JS1qJ7TY4/4Whm/FgZriFba39KFHo0hjG1IsW5VFb7Kalz5ig
 LqKo3dxB48cRgcXCS8PW54FHx3YTTWrHF7XTvXyeSLpz8Qx/wPQh0lTZ8GtNwFirwvkE
 pi/g==
X-Gm-Message-State: AOJu0YzeFreaVCmKxM99+dRa4rrE1wcBonEYZlXaPOOOYrL3klF6P/jL
 Igh3h2kxV9wRYHxE0BrIXGec7fuBtFCXPgM/GqRZSFXOFTZtyDYYYWBh/5Ho5IpSBIuerQcGCEy
 bWcqcs5YLNUZDsoQxO0w09EWgWej82ir9+UFV5AbK+t1b
X-Gm-Gg: ASbGncs69u9pubp8UjM+f6U4s+RDuZy8kWMBa9IK6nMFmppuPzHePQdZ8tY3QKmux6i
 TcRLcFPLBkLXuAhB66gOc1UtUfzFhqL6Yw9PbGx4EZ9w7RZeVv9T/bgLTfRy6cBBt5MMKaxbfJR
 tmzUqYA0Qjyp7DYDKNNKCNht0XI/KGkPMCi/qsnRSBW54snWAwdk4jFUdZzyl4fmdhkVACv2uMR
 +HHeXvaI6h3XKB/GqWAJ/gKRd7PerT2GVV/5/7Rp8iw77RSynXKr5hj+ROiWihD6sh5gLIhAZbK
 zFHJWmMEqKqY6cFhJ82dCwQyNtEriPqO7Tiv39DFf40N8WuL6dsvgeZk6KA=
X-Google-Smtp-Source: AGHT+IFjRdhPszhd3XqZRtWu2IH92VdbRvZkPm+022sethOl4Vk/kVxojfgJ/x8Yc2PwzVN/PBhqMHOZQXbm
X-Received: by 2002:a05:6820:2088:b0:604:db:d10b with SMTP id
 006d021491bc7-609f4901552mr9499130eaf.3.1747758778516; 
 Tue, 20 May 2025 09:32:58 -0700 (PDT)
Received: from postal.iol.unh.edu (postal.iol.unh.edu. [132.177.123.84])
 by smtp-relay.gmail.com with ESMTPS id
 006d021491bc7-609f30e3796sm409968eaf.15.2025.05.20.09.32.58
 (version=TLS1_2 cipher=ECDHE-ECDSA-AES128-GCM-SHA256 bits=128/128);
 Tue, 20 May 2025 09:32:58 -0700 (PDT)
X-Relaying-Domain: iol.unh.edu
Date: Tue, 20 May 2025 09:32:58 -0700 (PDT)
Message-ID: <682caeba.050a0220.368303.59f3SMTPIN_ADDED_MISSING@mx.google.com>
Received: from [172.17.0.3] (unknown [172.18.0.74])
 by postal.iol.unh.edu (Postfix) with ESMTP id 014616052471;
 Tue, 20 May 2025 12:32:58 -0400 (EDT)
Subject: |SUCCESS| pw153537 [PATCH] eal/linux: unregister alarm callback befo
From: dpdklab@iol.unh.edu
To: Test Report <test-report@dpdk.org>
Cc: dpdk-test-reports@iol.unh.edu
In-Reply-To: <20250520160150.50401-1-rui.ferreira1@h-partners.com>
References: <20250520160150.50401-1-rui.ferreira1@h-partners.com>
Content-Type: text/plain
X-BeenThere: test-report@dpdk.org
X-Mailman-Version: 2.1.29
Precedence: list
List-Id: automatic DPDK test reports <test-report.dpdk.org>
List-Unsubscribe: <https://mails.dpdk.org/options/test-report>,
 <mailto:test-report-request@dpdk.org?subject=unsubscribe>
List-Archive: <http://mails.dpdk.org/archives/test-report/>
List-Post: <mailto:test-report@dpdk.org>
List-Help: <mailto:test-report-request@dpdk.org?subject=help>
List-Subscribe: <https://mails.dpdk.org/listinfo/test-report>,
 <mailto:test-report-request@dpdk.org?subject=subscribe>
Errors-To: test-report-bounces@dpdk.org

Test-Label: iol-abi-testing
Test-Status: SUCCESS
http://dpdk.org/patch/153537

_Testing PASS_

Submitter: Rui Ferreira <rui.ferreira1@h-partners.com>
Date: Tuesday, May 20 2025 16:01:50 
DPDK git baseline: Repo:dpdk
  Branch: master
  CommitID:117e86c4b96ed761e9a7ab766261208fe81bf5ca

153537 --> testing pass

Upstream job id: Generic-DPDK-Compile-ABI#127056

Test environment and result as below:

+-------------------+----------+
|    Environment    | abi_test |
+===================+==========+
| CentOS Stream 9   | PASS     |
+-------------------+----------+
| Fedora 40 (Clang) | PASS     |
+-------------------+----------+
| CentOS Stream 10  | PASS     |
+-------------------+----------+
| Fedora 41 (Clang) | PASS     |
+-------------------+----------+
| Fedora 40         | PASS     |
+-------------------+----------+
| Debian 12         | PASS     |
+-------------------+----------+
| Fedora 41         | PASS     |
+-------------------+----------+
| RHEL9             | PASS     |
+-------------------+----------+
| Ubuntu 22.04      | PASS     |
+-------------------+----------+
| openSUSE Leap 15  | PASS     |
+-------------------+----------+
| RHEL8             | PASS     |
+-------------------+----------+
| Ubuntu 24.04      | PASS     |
+-------------------+----------+


CentOS Stream 9
	Kernel: Depends on container host
	Compiler: gcc 11.5.0 20240719 (Red Hat 11.5.0-2)

Fedora 40 (Clang)
	Kernel: Depends on container host
	Compiler: clang 18.1.8 (Fedora 18.1.8-1.fc40)

CentOS Stream 10
	Kernel: Depends on container host
	Compiler: gcc 14.2.1 20241104 (Red Hat 14.2.1-6)

Fedora 41 (Clang)
	Kernel: Depends on container host
	Compiler: clang 19.1.5 (Fedora 19.1.5-1.fc41)

Fedora 40
	Kernel: Depends on container host
	Compiler: gcc 14.2.1 20240912 (Red Hat 14.2.1-3)

Debian 12
	Kernel: Depends on container host
	Compiler: gcc (Debian 12.2.0-14) 12.2.0

Fedora 41
	Kernel: Depends on container host
	Compiler: gcc 14.2.1 20240912 (Red Hat 14.2.1-3)

RHEL9
	Kernel: Depends on container host
	Compiler: gcc 11.5.0 20240719 (Red Hat 11.5.0-2)

Ubuntu 22.04
	Kernel: Depends on container host
	Compiler: gcc (Ubuntu 11.4.0-1ubuntu1~22.04) 11.4.0

openSUSE Leap 15
	Kernel: Depends on container host
	Compiler: gcc (SUSE Linux) 7.5.0

RHEL8
	Kernel: Depends on container host
	Compiler: gcc 8.5.0 20210514 (Red Hat 8.5.0-22)

Ubuntu 24.04
	Kernel: Depends on container host
	Compiler: gcc (Ubuntu 13.3.0-6ubuntu2~24.04) 13.3.0

To view detailed results, visit:
https://lab.dpdk.org/results/dashboard/patchsets/33212/

UNH-IOL DPDK Community Lab

To manage your email subscriptions, visit: 
https://lab.dpdk.org/results/dashboard/preferences/subscriptions/