From mboxrd@z Thu Jan 1 00:00:00 1970 Return-Path: Received: from mails.dpdk.org (mails.dpdk.org [217.70.189.124]) by inbox.dpdk.org (Postfix) with ESMTP id 6FBCC467A0 for ; Tue, 20 May 2025 18:38:30 +0200 (CEST) Received: from mails.dpdk.org (localhost [127.0.0.1]) by mails.dpdk.org (Postfix) with ESMTP id 538F140B94; Tue, 20 May 2025 18:38:30 +0200 (CEST) Received: from mail-vs1-f100.google.com (mail-vs1-f100.google.com [209.85.217.100]) by mails.dpdk.org (Postfix) with ESMTP id 0A9C94029C for ; Tue, 20 May 2025 18:38:29 +0200 (CEST) Received: by mail-vs1-f100.google.com with SMTP id ada2fe7eead31-4df9961f319so3998265137.0 for ; Tue, 20 May 2025 09:38:28 -0700 (PDT) DKIM-Signature: v=1; a=rsa-sha256; c=relaxed/relaxed; d=iol.unh.edu; s=unh-iol; t=1747759108; x=1748363908; darn=dpdk.org; h=references:in-reply-to:cc:to:from:subject:message-id:date:from:to :cc:subject:date:message-id:reply-to; bh=NckHa79O/m2liJWPi644gSq72GwIdw7BTPM2mBKfaCg=; b=AmIuv7aZKNBSoy9SBnrmgLJoGTP4Ng0e3sybMxG8wbQaeCKhKcNMN0df8BNliSAK7o fZe6FMYr57XDAUS7vJ1tUdh2z+1fhsdvRIpJD/aRbwQYGOT4MApZSoplVRriegYNioqk EtrFoG4ET6F05ra6y9y+L0RdqpXIt/f8b7ays= X-Google-DKIM-Signature: v=1; a=rsa-sha256; c=relaxed/relaxed; d=1e100.net; s=20230601; t=1747759108; x=1748363908; h=references:in-reply-to:cc:to:from:subject:message-id:date :x-gm-message-state:from:to:cc:subject:date:message-id:reply-to; bh=NckHa79O/m2liJWPi644gSq72GwIdw7BTPM2mBKfaCg=; b=syEgyUdtuIMNRwh3Ns8QBq3mC0xiItsHPqDC6tocGGXFPgpBFlgu0qmmnkNz2A1ACP Tu4HQj78T+pyu1dfjWiFUZ4NfUQ3HniwMf4y+rfnZ4GMgNHhmSl1gWzoKBz40oWug0V4 rmkrX8HFGAeXF/XaRBLm9z5qxI8NhrPUucfPkuY1zRUSx5ahmKUDi03geQ64At7nvRdR hGHXEMeuoIFBvbKagkaEN8JA8qTkx5kJPDUX1Hd7GWCUKx81o8bd0g/ce3SBhxRUWb5r Bmpr/FgxfyfvhUvv1L6fFk7e/GTjqpEmeJT3W3gB+VyF9prqZ9mxhwr5F+Ng/s6MmJ0c DkdA== X-Gm-Message-State: AOJu0YxUXBvjLwNzbkotnsh+oP0dInRuSxvxZuR0Oj8wLjRqkXMOJvBC tmeYGpA/QtfOc4n96OF8zULJCZ58ANFKi6OxvxIfe8HMD0+mdc50AccGC4i6flfp7jhDhKj/4I+ bnM4dNHQlPDSJ7y7UyWv5IM9sSJrIaxQ/wmCi3twRTYok X-Gm-Gg: ASbGncsRuFBbTCkLM0ejhDOUb1iyEkUSBui3rt503Jgqs3ppe3R3mZxgLvMqtSHUuOD 7Wwbi2Hl+aumVqhtID/k4MMYoVZu86zJU2p+DxwztDv/SUZNf3h3iN30bi3XEFc0g5MqziSeCJ7 gh7FLtcAvBa8ocBgEj2u8f0L8+30udm2CRDzqSx0/ZW2nE2DjTtM1clW7flXtCmnMTVYJkg7Z89 GYegbLK5O6vECXWzFedlcUjpVb/PkFq6yo5/QDslZ9DZO3dF73oicvovfmVZxORO5hvMl9+c1pb OXwtHOyzVUiA4p3cKwUY5z/x31iD00LqwgXa+dnUI9X3CQ+eMsbecz5wBnc= X-Google-Smtp-Source: AGHT+IHHxcU/QCa2Ae9FGAXj4U/rE4WVpZeZdoV9C9BeAUM++zHV+2fc11L/8zQn9GBqe3At4VeoDCvUZkvo X-Received: by 2002:a05:6102:370a:b0:4da:d874:d30d with SMTP id ada2fe7eead31-4dfa6bf6221mr16664078137.17.1747759108262; Tue, 20 May 2025 09:38:28 -0700 (PDT) Received: from postal.iol.unh.edu (postal.iol.unh.edu. [132.177.123.84]) by smtp-relay.gmail.com with ESMTPS id a1e0cc1a2514c-87bec116e20sm139174241.5.2025.05.20.09.38.28 (version=TLS1_2 cipher=ECDHE-ECDSA-AES128-GCM-SHA256 bits=128/128); Tue, 20 May 2025 09:38:28 -0700 (PDT) X-Relaying-Domain: iol.unh.edu Date: Tue, 20 May 2025 09:38:28 -0700 (PDT) Message-ID: <682cb004.050a0220.145c01.7430SMTPIN_ADDED_MISSING@mx.google.com> Received: from [172.17.0.3] (unknown [172.18.0.74]) by postal.iol.unh.edu (Postfix) with ESMTP id D52DE6052471; Tue, 20 May 2025 12:38:27 -0400 (EDT) Subject: |SUCCESS| pw153537 [PATCH] eal/linux: unregister alarm callback befo From: dpdklab@iol.unh.edu To: Test Report Cc: dpdk-test-reports@iol.unh.edu In-Reply-To: <20250520160150.50401-1-rui.ferreira1@h-partners.com> References: <20250520160150.50401-1-rui.ferreira1@h-partners.com> Content-Type: text/plain X-BeenThere: test-report@dpdk.org X-Mailman-Version: 2.1.29 Precedence: list List-Id: automatic DPDK test reports List-Unsubscribe: , List-Archive: List-Post: List-Help: List-Subscribe: , Errors-To: test-report-bounces@dpdk.org Test-Label: iol-unit-amd64-testing Test-Status: SUCCESS http://dpdk.org/patch/153537 _Testing PASS_ Submitter: Rui Ferreira Date: Tuesday, May 20 2025 16:01:50 DPDK git baseline: Repo:dpdk Branch: master CommitID:117e86c4b96ed761e9a7ab766261208fe81bf5ca 153537 --> testing pass Upstream job id: Generic-Unit-Test-DPDK#339296 Test environment and result as below: +---------------------+----------------+ | Environment | dpdk_unit_test | +=====================+================+ | CentOS Stream 9 | PASS | +---------------------+----------------+ | Fedora 40 | PASS | +---------------------+----------------+ | CentOS Stream 10 | PASS | +---------------------+----------------+ | RHEL8 | PASS | +---------------------+----------------+ | RHEL9 | PASS | +---------------------+----------------+ | Debian 12 | PASS | +---------------------+----------------+ | Fedora 40 (Clang) | PASS | +---------------------+----------------+ | Fedora 41 (Clang) | PASS | +---------------------+----------------+ | Fedora 41 | PASS | +---------------------+----------------+ | Ubuntu 20.04 | PASS | +---------------------+----------------+ | Ubuntu 24.04 | PASS | +---------------------+----------------+ | Ubuntu 22.04 | PASS | +---------------------+----------------+ | Windows Server 2022 | PASS | +---------------------+----------------+ CentOS Stream 9 Kernel: Depends on container host Compiler: gcc 11.5.0 20240719 (Red Hat 11.5.0-2) Fedora 40 Kernel: Depends on container host Compiler: gcc 14.2.1 20240912 (Red Hat 14.2.1-3) CentOS Stream 10 Kernel: Depends on container host Compiler: gcc 14.2.1 20241104 (Red Hat 14.2.1-6) RHEL8 Kernel: Depends on container host Compiler: gcc 8.5.0 20210514 (Red Hat 8.5.0-22) RHEL9 Kernel: Depends on container host Compiler: gcc 11.5.0 20240719 (Red Hat 11.5.0-2) Debian 12 Kernel: Depends on container host Compiler: gcc (Debian 12.2.0-14) 12.2.0 Fedora 40 (Clang) Kernel: Depends on container host Compiler: clang 18.1.8 (Fedora 18.1.8-1.fc40) Fedora 41 (Clang) Kernel: Depends on container host Compiler: clang 19.1.5 (Fedora 19.1.5-1.fc41) Fedora 41 Kernel: Depends on container host Compiler: gcc 14.2.1 20240912 (Red Hat 14.2.1-3) Ubuntu 20.04 Kernel: Depends on container host Compiler: gcc (Ubuntu 9.4.0-1ubuntu1~20.04.2) 9.4.0 Ubuntu 24.04 Kernel: Depends on container host Compiler: gcc (Ubuntu 13.3.0-6ubuntu2~24.04) 13.3.0 Ubuntu 22.04 Kernel: Depends on container host Compiler: gcc (Ubuntu 11.4.0-1ubuntu1~22.04) 11.4.0 Windows Server 2022 Kernel: 10.0.20348.2031 Compiler: clang 15.0.7, gcc 14.1.0 (MinGW), and MSVC VS 19.39.33521 To view detailed results, visit: https://lab.dpdk.org/results/dashboard/patchsets/33212/ UNH-IOL DPDK Community Lab To manage your email subscriptions, visit: https://lab.dpdk.org/results/dashboard/preferences/subscriptions/