From mboxrd@z Thu Jan 1 00:00:00 1970 Return-Path: Received: from mails.dpdk.org (mails.dpdk.org [217.70.189.124]) by inbox.dpdk.org (Postfix) with ESMTP id 6E221467A0 for ; Tue, 20 May 2025 18:46:01 +0200 (CEST) Received: from mails.dpdk.org (localhost [127.0.0.1]) by mails.dpdk.org (Postfix) with ESMTP id 6611B40BA0; Tue, 20 May 2025 18:46:01 +0200 (CEST) Received: from mail-io1-f100.google.com (mail-io1-f100.google.com [209.85.166.100]) by mails.dpdk.org (Postfix) with ESMTP id 7156C40B9B for ; Tue, 20 May 2025 18:46:00 +0200 (CEST) Received: by mail-io1-f100.google.com with SMTP id ca18e2360f4ac-85e751cffbeso406387139f.0 for ; Tue, 20 May 2025 09:46:00 -0700 (PDT) DKIM-Signature: v=1; a=rsa-sha256; c=relaxed/relaxed; d=iol.unh.edu; s=unh-iol; t=1747759560; x=1748364360; darn=dpdk.org; h=references:in-reply-to:cc:to:from:subject:message-id:date:from:to :cc:subject:date:message-id:reply-to; bh=GNJTxA0Et4eI6RVM4/lt8e/dRWw1Q80YU/gKAYnzBKA=; b=GZttLZNJKDsT2hBdT9nJCD2vcjGj2prD0DYPfT9jSH+BcyJS8nLcaJaHn1nYT6nhDW ZzCCpBxs0Q/4k7OD4IBVa2KGmz3okjLyv6f/Xw1bvmi4etLVVnU7aM0GoHqi66hNV0Yx vGgMAMNp1EiL1PaYiU/3GjZ2LwG9HFuXM0ajk= X-Google-DKIM-Signature: v=1; a=rsa-sha256; c=relaxed/relaxed; d=1e100.net; s=20230601; t=1747759560; x=1748364360; h=references:in-reply-to:cc:to:from:subject:message-id:date :x-gm-message-state:from:to:cc:subject:date:message-id:reply-to; bh=GNJTxA0Et4eI6RVM4/lt8e/dRWw1Q80YU/gKAYnzBKA=; b=g7Y1gB5ANDjZxHzGeNXjSa36JqFsMZfjHSBaMliR5CAV1NhCgnm484QoYkA9Yn05Up 0A4zh1kh6z696xIV3p5dWxaZfdYApQ/ikx3ZrS6sYOWN9XlTRmGPdiK5SUBGPo7R2XdE AQEqtKwyJDIih+hHInbrd7d1PLEn5yJ6R406YOGnG0RXCSpawjXh87kv0kxdOzzgAPu0 lolnwJeOskG0dUGj4VRBxNejkhCr0CAV3ewYPlNHKlSE8eRuxqlci31KNsto+N7SFpSS 0ppLh6Jg+UgXMFHO7ru6hp61F1y1TwCyy4gxLoudVg4hplnHw+rY7HQDvvRYLU+Ou3/t Ynug== X-Gm-Message-State: AOJu0YzGDrAZ/nixixbtXr1zKqOx86M34gJ+4wgJM1yoebwjE0gzMP1R X3cKR9wNJcC0+dZbLc75Y7xnulBmBn2zOmeADPz5sm9WTIEihzrcf478Pnq18fiJ8Rc3rvpnRRk OLaV13/gHX5a0H6yH/WGsTzU3/UQgKq84aVUmn97w0G9y X-Gm-Gg: ASbGnctRloOe2jFq4h4Fd2bmxdvS0VEJI18VKgHoS6xwF+UeBPmNu8NBTWYebhfgg/l t3vyxVSNHWqB6JS4X9yx1mls0yn/Iq2Ee92OKvORf/nWdgrl9A5SbRv8GA2KT1tKseUnDIMnDqj adUKEHmc15fJR3J3vmM7k6hEm3bTgZk9rcb9O1wX5ho49w13lMZYZo27BvX67sGjBvBLEHS/54y H0XeAXJjctmzX1pnSFEBbH7RMA6ESg5kGzhk5zC0bpoTvIhOrmm12uSzwMUhjRoj8gl7xINERXr xaW2GYQpPXU45wu2vigG33xy7jAWb/PUAA1Ca8GtyPKy7Bl0SVqAkA0oY0Q= X-Google-Smtp-Source: AGHT+IEuSm2rIQO1kQFHMm09LTFngm8DotNosxJ+j3cgyLsph89PoGSEZcbhOD8F9/xKh7Ac7ofpLI1U7Ipy X-Received: by 2002:a05:6602:3f0c:b0:869:fc1b:2194 with SMTP id ca18e2360f4ac-86a24be4576mr2567666339f.6.1747759559715; Tue, 20 May 2025 09:45:59 -0700 (PDT) Received: from postal.iol.unh.edu (postal.iol.unh.edu. [132.177.123.84]) by smtp-relay.gmail.com with ESMTPS id ca18e2360f4ac-86a23795866sm41915339f.28.2025.05.20.09.45.59 (version=TLS1_2 cipher=ECDHE-ECDSA-AES128-GCM-SHA256 bits=128/128); Tue, 20 May 2025 09:45:59 -0700 (PDT) X-Relaying-Domain: iol.unh.edu Date: Tue, 20 May 2025 09:45:59 -0700 (PDT) Message-ID: <682cb1c7.050a0220.4fc3c.5e81SMTPIN_ADDED_MISSING@mx.google.com> Received: from [172.17.0.3] (unknown [172.18.0.74]) by postal.iol.unh.edu (Postfix) with ESMTP id 726CC6052471; Tue, 20 May 2025 12:45:58 -0400 (EDT) Subject: |SUCCESS| pw153537 [PATCH] eal/linux: unregister alarm callback befo From: dpdklab@iol.unh.edu To: Test Report Cc: dpdk-test-reports@iol.unh.edu In-Reply-To: <20250520160150.50401-1-rui.ferreira1@h-partners.com> References: <20250520160150.50401-1-rui.ferreira1@h-partners.com> Content-Type: text/plain X-BeenThere: test-report@dpdk.org X-Mailman-Version: 2.1.29 Precedence: list List-Id: automatic DPDK test reports List-Unsubscribe: , List-Archive: List-Post: List-Help: List-Subscribe: , Errors-To: test-report-bounces@dpdk.org Test-Label: iol-unit-arm64-testing Test-Status: SUCCESS http://dpdk.org/patch/153537 _Testing PASS_ Submitter: Rui Ferreira Date: Tuesday, May 20 2025 16:01:50 DPDK git baseline: Repo:dpdk Branch: master CommitID:117e86c4b96ed761e9a7ab766261208fe81bf5ca 153537 --> testing pass Upstream job id: Generic-Unit-Test-DPDK#339299 Test environment and result as below: +-----------------------------+----------------+--------------+---------------------------+------------------------------+ | Environment | dpdk_unit_test | lpm_autotest | cryptodev_sw_zuc_autotest | cryptodev_sw_snow3g_autotest | +=============================+================+==============+===========================+==============================+ | CentOS Stream 9 (ARM) | PASS | SKIPPED | SKIPPED | SKIPPED | +-----------------------------+----------------+--------------+---------------------------+------------------------------+ | Debian 12 (arm) | PASS | SKIPPED | PASS | PASS | +-----------------------------+----------------+--------------+---------------------------+------------------------------+ | Fedora 40 (ARM) | PASS | SKIPPED | SKIPPED | SKIPPED | +-----------------------------+----------------+--------------+---------------------------+------------------------------+ | CentOS Stream 10 (ARM) | PASS | SKIPPED | SKIPPED | SKIPPED | +-----------------------------+----------------+--------------+---------------------------+------------------------------+ | RHEL9 (ARM) | PASS | SKIPPED | SKIPPED | SKIPPED | +-----------------------------+----------------+--------------+---------------------------+------------------------------+ | Fedora 41 (ARM) | PASS | SKIPPED | SKIPPED | SKIPPED | +-----------------------------+----------------+--------------+---------------------------+------------------------------+ | Fedora 41 (ARM Clang) | PASS | SKIPPED | SKIPPED | SKIPPED | +-----------------------------+----------------+--------------+---------------------------+------------------------------+ | Ubuntu 20.04 (ARM) | PASS | SKIPPED | SKIPPED | SKIPPED | +-----------------------------+----------------+--------------+---------------------------+------------------------------+ | Fedora 40 (ARM Clang) | PASS | SKIPPED | SKIPPED | SKIPPED | +-----------------------------+----------------+--------------+---------------------------+------------------------------+ | Ubuntu 22.04 (ARM) | PASS | SKIPPED | SKIPPED | SKIPPED | +-----------------------------+----------------+--------------+---------------------------+------------------------------+ | Ubuntu 24.04 (ARM) | PASS | SKIPPED | SKIPPED | SKIPPED | +-----------------------------+----------------+--------------+---------------------------+------------------------------+ | 32-bit Ubuntu 22.04.4 (ARM) | PASS | SKIPPED | SKIPPED | SKIPPED | +-----------------------------+----------------+--------------+---------------------------+------------------------------+ | Ubuntu 20.04 ARM SVE | SKIPPED | PASS | SKIPPED | SKIPPED | +-----------------------------+----------------+--------------+---------------------------+------------------------------+ CentOS Stream 9 (ARM) Kernel: Depends on container host Compiler: gcc 11.5.0 20240719 (Red Hat 11.5.0-2) Debian 12 (arm) Kernel: Depends on container host Compiler: gcc (Debian 12.2.0-14) 12.2.0 Fedora 40 (ARM) Kernel: Depends on container host Compiler: gcc 14.2.1 20240912 (Red Hat 14.2.1-3) CentOS Stream 10 (ARM) Kernel: Depends on container host Compiler: gcc 14.2.1 20241104 (Red Hat 14.2.1-6) RHEL9 (ARM) Kernel: Depends on container host Compiler: gcc 11.5.0 20240719 (Red Hat 11.5.0-2) Fedora 41 (ARM) Kernel: Depends on container host Compiler: gcc 14.2.1 20240912 (Red Hat 14.2.1-3) Fedora 41 (ARM Clang) Kernel: Depends on container host Compiler: clang 19.1.5 (Fedora 19.1.5-1.fc41) Ubuntu 20.04 (ARM) Kernel: Depends on container host Compiler: gcc (Ubuntu 9.4.0-1ubuntu1~20.04.2) 9.4.0 Fedora 40 (ARM Clang) Kernel: Depends on container host Compiler: clang 18.1.8 (Fedora 18.1.8-1.fc40) Ubuntu 22.04 (ARM) Kernel: Depends on container host Compiler: gcc (Ubuntu 11.4.0-1ubuntu1~22.04) 11.4.0 Ubuntu 24.04 (ARM) Kernel: Depends on container host Compiler: gcc (Ubuntu 13.3.0-6ubuntu2~24.04) 13.3.0 32-bit Ubuntu 22.04.4 (ARM) Kernel: 5.15.83+ aarch64 Compiler: gcc (Ubuntu 11.4.0-1ubuntu1~22.04) 11.4.0 Ubuntu 20.04 ARM SVE Kernel: Depends on container host Compiler: gcc (Ubuntu 10.5.0-1ubuntu1~20.04) 10.5.0 To view detailed results, visit: https://lab.dpdk.org/results/dashboard/patchsets/33212/ UNH-IOL DPDK Community Lab To manage your email subscriptions, visit: https://lab.dpdk.org/results/dashboard/preferences/subscriptions/