From mboxrd@z Thu Jan 1 00:00:00 1970 Return-Path: Received: from mails.dpdk.org (mails.dpdk.org [217.70.189.124]) by inbox.dpdk.org (Postfix) with ESMTP id E58CD467A0 for ; Tue, 20 May 2025 19:00:42 +0200 (CEST) Received: from mails.dpdk.org (localhost [127.0.0.1]) by mails.dpdk.org (Postfix) with ESMTP id DD78140BA6; Tue, 20 May 2025 19:00:42 +0200 (CEST) Received: from mail-pl1-f225.google.com (mail-pl1-f225.google.com [209.85.214.225]) by mails.dpdk.org (Postfix) with ESMTP id D80A540BA6 for ; Tue, 20 May 2025 19:00:41 +0200 (CEST) Received: by mail-pl1-f225.google.com with SMTP id d9443c01a7336-22d95f0dda4so62042555ad.2 for ; Tue, 20 May 2025 10:00:41 -0700 (PDT) DKIM-Signature: v=1; a=rsa-sha256; c=relaxed/relaxed; d=iol.unh.edu; s=unh-iol; t=1747760441; x=1748365241; darn=dpdk.org; h=references:in-reply-to:cc:to:from:subject:message-id:date:from:to :cc:subject:date:message-id:reply-to; bh=VQxgcp8j6HvcGpqUqph43x0yl9p81jfa6JQbR6RkGUs=; b=ZY2YjL6wrxcbq33IHiAiFhS2RYMGPRD0B6rk7uL5ecB3JkbKkbALTTjl5xAxNmiGCF UR4sea41kgsArHwkY8G5dI/GSe256fM0KKtbg+ylbFp8gtfybBADuFuC1aMdByL6K0LE Uhjl3Eq7rqOnz3ODoD6493QVdwoMSm8clZtjk= X-Google-DKIM-Signature: v=1; a=rsa-sha256; c=relaxed/relaxed; d=1e100.net; s=20230601; t=1747760441; x=1748365241; h=references:in-reply-to:cc:to:from:subject:message-id:date :x-gm-message-state:from:to:cc:subject:date:message-id:reply-to; bh=VQxgcp8j6HvcGpqUqph43x0yl9p81jfa6JQbR6RkGUs=; b=pXf3e6y/vYYaq/6gPVfiaA6ja/8vuJgvTiCphQMxo5bRVBPRX1BW+qJ1MnrvQJa2Ts b9GeoqGlWBH9ly2uAkfH4hh/ZihqCJkCBZ8bfH71iZ6itFVAysiv+msvTRY4a4ctPhzj lKN7oBhoD0Vy0cBLqlHAuZshl46yqkWnUl/2KI6J41lgVH1/fu5Lk6JGEbrRwdGe38O0 XXwloBDvA2zQDhHeG+48cxyss/GmtpB0c3y8Bj+sj//I40cdNr83P7ItCKZtjqHEUkxi mQdjss+XwCrn8CPEqpRYnpoFiznVBuA7HMF9oL8TS1cGDCmqWWs6rON5f6ZrSk70ULrG Ii/w== X-Gm-Message-State: AOJu0YzEY8PNPtiN91/yq5UoU6ws63lFnhzZB94+xymB8pvYnLkbZ/EC Ezl2bpres5Ff+hsO32EjEATxVCyyIa1xreP+MUTqyj132oAxgcz1Cy+F4C2aw7+SoeJayb/H+Hg /PeWYW2DuSHYuP29wwmPJ67qdffMlWpqP7wgJ2nWiQN8ZlTqIbALMh+p+Zjo9 X-Gm-Gg: ASbGncsho+Zr1MfzPqAPsMWihJUoXtocoS/xcM4tyLtxk0YEXAtkyY+f/mKfZx5V5gj nUj8z7rmx+3+hCTJ3XDXlPLYd7LY1nUfnsMJchpfu0ZZuTJNkUN/vN3EAjZKIXbyU9+52ggHdq4 d4+YFKWGLQjJMR2+EBM8c0sBHEM4hLCuvGSBdqDveguAKd5BqmecHHmI9qv4/sW0zkbgCMHRoHe zLtuMhta6A3xiMaSTTV3p1RgoOsgHo/DYQHi/ltAIpXPYBQtoJDzSB6L9ykLIZiIkrTEJSXZP7L tIZGzgaoqXKCii8bY+2eRnt7P+b6B0VR8U40 X-Google-Smtp-Source: AGHT+IGS8VXmTxZDYzK7s6oF099SWxcAeofsHKBdH5e/PTzIDmTOhDBO4cExCsYfxG8GPJpeys+D8wxpYC2R X-Received: by 2002:a17:903:3d0f:b0:220:faa2:c911 with SMTP id d9443c01a7336-231d44e8833mr248984085ad.14.1747760440755; Tue, 20 May 2025 10:00:40 -0700 (PDT) Received: from postal.iol.unh.edu (postal.iol.unh.edu. [2606:4100:3880:1234::84]) by smtp-relay.gmail.com with ESMTPS id d9443c01a7336-231d4e97810sm5046055ad.75.2025.05.20.10.00.40 (version=TLS1_2 cipher=ECDHE-ECDSA-AES128-GCM-SHA256 bits=128/128); Tue, 20 May 2025 10:00:40 -0700 (PDT) X-Relaying-Domain: iol.unh.edu Date: Tue, 20 May 2025 10:00:40 -0700 (PDT) Message-ID: <682cb538.170a0220.194ae2.9fe9SMTPIN_ADDED_MISSING@mx.google.com> Received: from [172.17.0.2] (unknown [172.18.0.76]) by postal.iol.unh.edu (Postfix) with ESMTP id EF9516052471; Tue, 20 May 2025 13:00:39 -0400 (EDT) Subject: |SUCCESS| pw153537 [PATCH] eal/linux: unregister alarm callback befo From: dpdklab@iol.unh.edu To: Test Report Cc: dpdk-test-reports@iol.unh.edu In-Reply-To: <20250520160150.50401-1-rui.ferreira1@h-partners.com> References: <20250520160150.50401-1-rui.ferreira1@h-partners.com> Content-Type: text/plain X-BeenThere: test-report@dpdk.org X-Mailman-Version: 2.1.29 Precedence: list List-Id: automatic DPDK test reports List-Unsubscribe: , List-Archive: List-Post: List-Help: List-Subscribe: , Errors-To: test-report-bounces@dpdk.org Test-Label: iol-compile-amd64-testing Test-Status: SUCCESS http://dpdk.org/patch/153537 _Testing PASS_ Submitter: Rui Ferreira Date: Tuesday, May 20 2025 16:01:50 DPDK git baseline: Repo:dpdk Branch: master CommitID:117e86c4b96ed761e9a7ab766261208fe81bf5ca 153537 --> testing pass Upstream job id: Generic-DPDK-Compile-Meson#389719 Test environment and result as below: +-----------------------------------+--------------------+-------------------+------------------+-------------------------+-------------------+----------------------+ | Environment | dpdk_meson_compile | dpdk_compile_spdk | dpdk_compile_ovs | dpdk_llvm_clang_compile | dpdk_msvc_compile | dpdk_mingw64_compile | +===================================+====================+===================+==================+=========================+===================+======================+ | CentOS Stream 9 | PASS | PASS | SKIPPED | SKIPPED | SKIPPED | SKIPPED | +-----------------------------------+--------------------+-------------------+------------------+-------------------------+-------------------+----------------------+ | CentOS Stream 10 | PASS | SKIPPED | SKIPPED | SKIPPED | SKIPPED | SKIPPED | +-----------------------------------+--------------------+-------------------+------------------+-------------------------+-------------------+----------------------+ | Debian 12 | PASS | PASS | SKIPPED | SKIPPED | SKIPPED | SKIPPED | +-----------------------------------+--------------------+-------------------+------------------+-------------------------+-------------------+----------------------+ | Fedora 40 | PASS | PASS | SKIPPED | SKIPPED | SKIPPED | SKIPPED | +-----------------------------------+--------------------+-------------------+------------------+-------------------------+-------------------+----------------------+ | Fedora 40 (Clang) | PASS | PASS | SKIPPED | SKIPPED | SKIPPED | SKIPPED | +-----------------------------------+--------------------+-------------------+------------------+-------------------------+-------------------+----------------------+ | Fedora 41 (Clang) | PASS | PASS | PASS | SKIPPED | SKIPPED | SKIPPED | +-----------------------------------+--------------------+-------------------+------------------+-------------------------+-------------------+----------------------+ | Fedora 41 | PASS | PASS | PASS | SKIPPED | SKIPPED | SKIPPED | +-----------------------------------+--------------------+-------------------+------------------+-------------------------+-------------------+----------------------+ | openSUSE Leap 15 | PASS | SKIPPED | SKIPPED | SKIPPED | SKIPPED | SKIPPED | +-----------------------------------+--------------------+-------------------+------------------+-------------------------+-------------------+----------------------+ | RHEL9 | PASS | SKIPPED | SKIPPED | SKIPPED | SKIPPED | SKIPPED | +-----------------------------------+--------------------+-------------------+------------------+-------------------------+-------------------+----------------------+ | RHEL8 | PASS | SKIPPED | SKIPPED | SKIPPED | SKIPPED | SKIPPED | +-----------------------------------+--------------------+-------------------+------------------+-------------------------+-------------------+----------------------+ | Ubuntu 22.04 | PASS | PASS | SKIPPED | SKIPPED | SKIPPED | SKIPPED | +-----------------------------------+--------------------+-------------------+------------------+-------------------------+-------------------+----------------------+ | Ubuntu 20.04 | PASS | SKIPPED | SKIPPED | SKIPPED | SKIPPED | SKIPPED | +-----------------------------------+--------------------+-------------------+------------------+-------------------------+-------------------+----------------------+ | Ubuntu 24.04 | PASS | PASS | PASS | SKIPPED | SKIPPED | SKIPPED | +-----------------------------------+--------------------+-------------------+------------------+-------------------------+-------------------+----------------------+ | Alpine | PASS | SKIPPED | SKIPPED | SKIPPED | SKIPPED | SKIPPED | +-----------------------------------+--------------------+-------------------+------------------+-------------------------+-------------------+----------------------+ | Ubuntu 24.04 32 Bit Cross Compile | PASS | SKIPPED | SKIPPED | SKIPPED | SKIPPED | SKIPPED | +-----------------------------------+--------------------+-------------------+------------------+-------------------------+-------------------+----------------------+ | FreeBSD 13.5 | PASS | SKIPPED | SKIPPED | SKIPPED | SKIPPED | SKIPPED | +-----------------------------------+--------------------+-------------------+------------------+-------------------------+-------------------+----------------------+ | FreeBSD 14.2 | PASS | SKIPPED | SKIPPED | SKIPPED | SKIPPED | SKIPPED | +-----------------------------------+--------------------+-------------------+------------------+-------------------------+-------------------+----------------------+ | Windows Server 2022 | SKIPPED | SKIPPED | SKIPPED | PASS | PASS | PASS | +-----------------------------------+--------------------+-------------------+------------------+-------------------------+-------------------+----------------------+ CentOS Stream 9 Kernel: Depends on container host Compiler: gcc 11.5.0 20240719 (Red Hat 11.5.0-2) CentOS Stream 10 Kernel: Depends on container host Compiler: gcc 14.2.1 20241104 (Red Hat 14.2.1-6) Debian 12 Kernel: Depends on container host Compiler: gcc (Debian 12.2.0-14) 12.2.0 Fedora 40 Kernel: Depends on container host Compiler: gcc 14.2.1 20240912 (Red Hat 14.2.1-3) Fedora 40 (Clang) Kernel: Depends on container host Compiler: clang 18.1.8 (Fedora 18.1.8-1.fc40) Fedora 41 (Clang) Kernel: Depends on container host Compiler: clang 19.1.5 (Fedora 19.1.5-1.fc41) Fedora 41 Kernel: Depends on container host Compiler: gcc 14.2.1 20240912 (Red Hat 14.2.1-3) openSUSE Leap 15 Kernel: Depends on container host Compiler: gcc (SUSE Linux) 7.5.0 RHEL9 Kernel: Depends on container host Compiler: gcc 11.5.0 20240719 (Red Hat 11.5.0-2) RHEL8 Kernel: Depends on container host Compiler: gcc 8.5.0 20210514 (Red Hat 8.5.0-22) Ubuntu 22.04 Kernel: Depends on container host Compiler: gcc (Ubuntu 11.4.0-1ubuntu1~22.04) 11.4.0 Ubuntu 20.04 Kernel: Depends on container host Compiler: gcc (Ubuntu 9.4.0-1ubuntu1~20.04.2) 9.4.0 Ubuntu 24.04 Kernel: Depends on container host Compiler: gcc (Ubuntu 13.3.0-6ubuntu2~24.04) 13.3.0 Alpine Kernel: Depends on container host Compiler: gcc (Alpine 14.2.0) 14.2.0 Ubuntu 24.04 32 Bit Cross Compile Kernel: Depends on container host Compiler: gcc (Ubuntu 13.3.0-6ubuntu2~24.04) 13.3.0 FreeBSD 13.5 Kernel: 13.5-RELEASE Compiler: clang 19.1.7 FreeBSD 14.2 Kernel: 14.2-RELEASE Compiler: clang 18.1.6 Windows Server 2022 Kernel: 10.0.20348.2031 Compiler: clang 15.0.7, gcc 14.1.0 (MinGW), and MSVC VS 19.39.33521 To view detailed results, visit: https://lab.dpdk.org/results/dashboard/patchsets/33212/ UNH-IOL DPDK Community Lab To manage your email subscriptions, visit: https://lab.dpdk.org/results/dashboard/preferences/subscriptions/