From mboxrd@z Thu Jan 1 00:00:00 1970 Return-Path: Received: from mails.dpdk.org (mails.dpdk.org [217.70.189.124]) by inbox.dpdk.org (Postfix) with ESMTP id A0393467A1 for ; Tue, 20 May 2025 21:50:50 +0200 (CEST) Received: from mails.dpdk.org (localhost [127.0.0.1]) by mails.dpdk.org (Postfix) with ESMTP id 7CB6A40DDC; Tue, 20 May 2025 21:50:50 +0200 (CEST) Received: from mail-il1-f228.google.com (mail-il1-f228.google.com [209.85.166.228]) by mails.dpdk.org (Postfix) with ESMTP id C86514064C for ; Tue, 20 May 2025 21:50:48 +0200 (CEST) Received: by mail-il1-f228.google.com with SMTP id e9e14a558f8ab-3d8020ba858so59429985ab.0 for ; Tue, 20 May 2025 12:50:48 -0700 (PDT) DKIM-Signature: v=1; a=rsa-sha256; c=relaxed/relaxed; d=iol.unh.edu; s=unh-iol; t=1747770648; x=1748375448; darn=dpdk.org; h=references:in-reply-to:cc:to:from:subject:message-id:date:from:to :cc:subject:date:message-id:reply-to; bh=pxQ92BQpLlmsnbEcBmtKeIzRdEyKnIPVA33RwPzc6Aw=; b=ZSss9dSDg4f+In47FdzS9IwooC4ynruca9IMbm1P5W2hlaSjK1h4sj+zZCQiJgLsxx wedz4FGA3ULhYBlwrO7Qx0vOJE5LLGzfX8lFZZB1k40+kwaFV9vaYGtdDsVSLINSUL0X qIXlP5Hg2m3fA2nBgsvt0KArwp0ikOwW8GlrU= X-Google-DKIM-Signature: v=1; a=rsa-sha256; c=relaxed/relaxed; d=1e100.net; s=20230601; t=1747770648; x=1748375448; h=references:in-reply-to:cc:to:from:subject:message-id:date :x-gm-message-state:from:to:cc:subject:date:message-id:reply-to; bh=pxQ92BQpLlmsnbEcBmtKeIzRdEyKnIPVA33RwPzc6Aw=; b=DQm37JzJkTEsX5L6msAxa0wDGZZS/c2HdOfi3WDGXo2l0DVGwiGxmI4Tqla3RabksX up+wQoLxy0KZLVcd/QWYO+L8nyRMOKg3gB8LJ4hXJwFq+VSCFKeQE2ub/FwxkTHHexQt zr3lpNuLS4iZxwljVRC+1yHqhpp2fySkDtlVvJ1rAqQByPyHFYRO4ZSmLjSZ4Htdg2tu 5QRQ6YXpyTGxfZbcNSAne53YryyhMYf9E0oB3ghJaoP9lePXv3i+LPSBNSGQWpfQnKit JBhnopCvQS0f4utsv+rLAA2PKrC2izPGsTbuBzM81FZqksHPiugbgglaO3JFsL797jMn tAzg== X-Gm-Message-State: AOJu0YyIy/rI0UzIaBcVREVJvU5a21NwyEQgCsbNoL/OdnRkvuvL/WiE FjxpiF8g0wYaL2cVZ8VxMweYKhsZaoVrDF1xX0lou9RjwL+33o9+K8CYcmNK2pOCzQxrLFzJ1FR h3L+amP4OdAfA8oNoSJzFp/yLFwLHStLIRNsRmohdAHG4 X-Gm-Gg: ASbGnctBTE58QHMu69wviqb8CWzJqCmIGzYTPGEsGeOmiSGq2+GMOYgo4PH9Wbceo9k 0xuZTHY4Me55S3i810tanAEz7q+h2z4/LxIiASM5uxM9UkYwEv5Bjmrd8RQBnn2ZXjnGDJdEOnX JDrWh3uYW2rN8ifeRim0zBYQqFPR5sjFb/HMpZC6/fFLb0NOT0F0w3EnSSjziab8txuV09yD9Mm iZyBsDWc0YtphU27cv6B2xh7jPvxQK4I37vpbBaYHfpLeP2ni4iANsdQ2V653oZu0b+DxVZv/Az pZuUdl0v6Y7S9KQ8UO+JavqIvp8xxYmW+iontmSLEfmx79/DIKkeUTiXOlg= X-Google-Smtp-Source: AGHT+IFkD8CmF0xUttYJMxlR4U5FyKUXVElWj0hPbaD6F35TCzyu4urA/uQ4MxGH7qknWlszBfGNKOSr66Ct X-Received: by 2002:a05:6e02:1609:b0:3dc:8058:ddfc with SMTP id e9e14a558f8ab-3dc8058df0cmr20615895ab.11.1747770648034; Tue, 20 May 2025 12:50:48 -0700 (PDT) Received: from postal.iol.unh.edu (postal.iol.unh.edu. [132.177.123.84]) by smtp-relay.gmail.com with ESMTPS id 8926c6da1cb9f-4fbecff1052sm304584173.49.2025.05.20.12.50.47 (version=TLS1_2 cipher=ECDHE-ECDSA-AES128-GCM-SHA256 bits=128/128); Tue, 20 May 2025 12:50:48 -0700 (PDT) X-Relaying-Domain: iol.unh.edu Date: Tue, 20 May 2025 12:50:48 -0700 (PDT) Message-ID: <682cdd18.050a0220.10a1dc.f5efSMTPIN_ADDED_MISSING@mx.google.com> Received: from [172.17.0.3] (unknown [172.18.0.74]) by postal.iol.unh.edu (Postfix) with ESMTP id 8777D6052471; Tue, 20 May 2025 15:50:47 -0400 (EDT) Subject: |SUCCESS| pw153545 [PATCH] examples/symmetric_mp: log/ignore promisc From: dpdklab@iol.unh.edu To: Test Report Cc: dpdk-test-reports@iol.unh.edu In-Reply-To: <1747766224-31511-1-git-send-email-mamcgove@microsoft.com> References: <1747766224-31511-1-git-send-email-mamcgove@microsoft.com> Content-Type: text/plain X-BeenThere: test-report@dpdk.org X-Mailman-Version: 2.1.29 Precedence: list List-Id: automatic DPDK test reports List-Unsubscribe: , List-Archive: List-Post: List-Help: List-Subscribe: , Errors-To: test-report-bounces@dpdk.org Test-Label: iol-unit-amd64-testing Test-Status: SUCCESS http://dpdk.org/patch/153545 _Testing PASS_ Submitter: None Date: Tuesday, May 20 2025 18:37:04 DPDK git baseline: Repo:dpdk Branch: master CommitID:117e86c4b96ed761e9a7ab766261208fe81bf5ca 153545 --> testing pass Upstream job id: Generic-Unit-Test-DPDK#339327 Test environment and result as below: +---------------------+----------------+ | Environment | dpdk_unit_test | +=====================+================+ | Fedora 41 | PASS | +---------------------+----------------+ | Fedora 40 (Clang) | PASS | +---------------------+----------------+ | CentOS Stream 10 | PASS | +---------------------+----------------+ | Debian 12 | PASS | +---------------------+----------------+ | CentOS Stream 9 | PASS | +---------------------+----------------+ | Fedora 40 | PASS | +---------------------+----------------+ | RHEL8 | PASS | +---------------------+----------------+ | Fedora 41 (Clang) | PASS | +---------------------+----------------+ | Ubuntu 24.04 | PASS | +---------------------+----------------+ | Ubuntu 20.04 | PASS | +---------------------+----------------+ | Ubuntu 22.04 | PASS | +---------------------+----------------+ | RHEL9 | PASS | +---------------------+----------------+ | Windows Server 2022 | PASS | +---------------------+----------------+ Fedora 41 Kernel: Depends on container host Compiler: gcc 14.2.1 20240912 (Red Hat 14.2.1-3) Fedora 40 (Clang) Kernel: Depends on container host Compiler: clang 18.1.8 (Fedora 18.1.8-1.fc40) CentOS Stream 10 Kernel: Depends on container host Compiler: gcc 14.2.1 20241104 (Red Hat 14.2.1-6) Debian 12 Kernel: Depends on container host Compiler: gcc (Debian 12.2.0-14) 12.2.0 CentOS Stream 9 Kernel: Depends on container host Compiler: gcc 11.5.0 20240719 (Red Hat 11.5.0-2) Fedora 40 Kernel: Depends on container host Compiler: gcc 14.2.1 20240912 (Red Hat 14.2.1-3) RHEL8 Kernel: Depends on container host Compiler: gcc 8.5.0 20210514 (Red Hat 8.5.0-22) Fedora 41 (Clang) Kernel: Depends on container host Compiler: clang 19.1.5 (Fedora 19.1.5-1.fc41) Ubuntu 24.04 Kernel: Depends on container host Compiler: gcc (Ubuntu 13.3.0-6ubuntu2~24.04) 13.3.0 Ubuntu 20.04 Kernel: Depends on container host Compiler: gcc (Ubuntu 9.4.0-1ubuntu1~20.04.2) 9.4.0 Ubuntu 22.04 Kernel: Depends on container host Compiler: gcc (Ubuntu 11.4.0-1ubuntu1~22.04) 11.4.0 RHEL9 Kernel: Depends on container host Compiler: gcc 11.5.0 20240719 (Red Hat 11.5.0-2) Windows Server 2022 Kernel: 10.0.20348.2031 Compiler: clang 15.0.7, gcc 14.1.0 (MinGW), and MSVC VS 19.39.33521 To view detailed results, visit: https://lab.dpdk.org/results/dashboard/patchsets/33214/ UNH-IOL DPDK Community Lab To manage your email subscriptions, visit: https://lab.dpdk.org/results/dashboard/preferences/subscriptions/