From mboxrd@z Thu Jan 1 00:00:00 1970 Return-Path: Received: from mails.dpdk.org (mails.dpdk.org [217.70.189.124]) by inbox.dpdk.org (Postfix) with ESMTP id B0A15467A2 for ; Tue, 20 May 2025 22:14:44 +0200 (CEST) Received: from mails.dpdk.org (localhost [127.0.0.1]) by mails.dpdk.org (Postfix) with ESMTP id 86BAD40DF8; Tue, 20 May 2025 22:14:44 +0200 (CEST) Received: from mail-qv1-f100.google.com (mail-qv1-f100.google.com [209.85.219.100]) by mails.dpdk.org (Postfix) with ESMTP id 296F440DF5 for ; Tue, 20 May 2025 22:14:43 +0200 (CEST) Received: by mail-qv1-f100.google.com with SMTP id 6a1803df08f44-6f8a87f0c0fso58107606d6.0 for ; Tue, 20 May 2025 13:14:43 -0700 (PDT) DKIM-Signature: v=1; a=rsa-sha256; c=relaxed/relaxed; d=iol.unh.edu; s=unh-iol; t=1747772082; x=1748376882; darn=dpdk.org; h=references:in-reply-to:cc:to:from:subject:message-id:date:from:to :cc:subject:date:message-id:reply-to; bh=xt3KkyzlKonB0otRhty7R9CFbG/enLTRqCOGiQXMcQo=; b=bQlFXlpfc8rAKIZBDfTBldlzUqWezx+fRLEfl+ljXCdWmtI2Hkvr0IdM6viCwN7Wja FmIIChklKrvZB0+roqlb5CVdoCY+VLYxAWgKOq0lEC1TYjOG+Wcd/9sdbrcc1LPIwGco YXayyNoYrA7Uloquy5wHzdxfa+3rE9dz/LznQ= X-Google-DKIM-Signature: v=1; a=rsa-sha256; c=relaxed/relaxed; d=1e100.net; s=20230601; t=1747772082; x=1748376882; h=references:in-reply-to:cc:to:from:subject:message-id:date :x-gm-message-state:from:to:cc:subject:date:message-id:reply-to; bh=xt3KkyzlKonB0otRhty7R9CFbG/enLTRqCOGiQXMcQo=; b=nFEvnuWRQB9WFscsfRSD4MB19L/Wp7xS7bftp54t1r9mTxbN92gcjP+zqXLBQX3YLJ mVsIfRzM59YdTlJKT0RzCmPrCvxvhyNNi96UI9+Odl5SW8VngdKspYxie6X1xP2v9r5U 8Wl2s1Nxuhsy9JwamFu6PGk/Lzphmy0ep1T6hbZU8EXphkAbFi4EQBllQ++KYwMHTOOt Zn1tIetpJguScT9hHGQPM2bVA7Ykqnjqv6i0KM5W9E2NMJQIKZMouVFxll09FXqIP2/g QbWSV90CErw+stOPjNALty1wKtPUeMfUMobD+oTkKtSpppzK7wW1CW4R+/oJ1nKJOJvw h5mQ== X-Gm-Message-State: AOJu0Yx0kyhEC4YdN8jcnydgv9/v2yC+3X5bX/xoGiyPFCwWTkic7go4 lfDQeM/gLDZwutSJr9a79MYAe0uVhQqVbJZVzyJfo/9Ez/9OWCjG3rsXzBYIT5b7V059P3wMTvh Vvwr6ODEnr1eNenzA+s9coGqIeBQBdF3RsQ98O8pujzmp X-Gm-Gg: ASbGnctQN+y5uP0PU0XV0Or3Fg6om1zRiU0zI3jqEOqgHFRAGW9L5MshNeHxAEWN/qI i6FmBfwq8uG32MLZMPE9UQ+ZA//wCx2sOAqxfy+g8R8INuu9FwXct2zgibEudZMArPj4LSsJUui kA85SDuXfILZmCRJVs94efP1TyiBH5rNmVWd6U5AIi+OGrbHVkolJtbXqYTNbW/ivf+L2MzUA6g h2oMD88G+FHNav1n2H/t/yvtK5Fdy3Y3nrU5GH7Ac1lypRM9QOYAGmpvAUHX66IUrybfm0t9u5C seWqNftxkIJbQ2BaE7UJV5KsXDJf5y5VXwaZbY04MOF1A57S2FYvKKZa46s= X-Google-Smtp-Source: AGHT+IExoTckKU8oZ2pKU4TR0rPvju/et3jbUbgIxbLygsFBUfQPPfeyiX32QgK+rvECGEaKDCWbvoDX64ZO X-Received: by 2002:a0c:f201:0:b0:6e6:5f28:9874 with SMTP id 6a1803df08f44-6f8b080fd4bmr311630316d6.2.1747772082399; Tue, 20 May 2025 13:14:42 -0700 (PDT) Received: from postal.iol.unh.edu (postal.iol.unh.edu. [132.177.123.84]) by smtp-relay.gmail.com with ESMTPS id 6a1803df08f44-6f8b08b32c9sm3365306d6.21.2025.05.20.13.14.42 (version=TLS1_2 cipher=ECDHE-ECDSA-AES128-GCM-SHA256 bits=128/128); Tue, 20 May 2025 13:14:42 -0700 (PDT) X-Relaying-Domain: iol.unh.edu Date: Tue, 20 May 2025 13:14:42 -0700 (PDT) Message-ID: <682ce2b2.d40a0220.26cd60.1262SMTPIN_ADDED_MISSING@mx.google.com> Received: from [172.17.0.2] (unknown [172.18.0.76]) by postal.iol.unh.edu (Postfix) with ESMTP id 1AD316052471; Tue, 20 May 2025 16:14:42 -0400 (EDT) Subject: |SUCCESS| pw153545 [PATCH] examples/symmetric_mp: log/ignore promisc From: dpdklab@iol.unh.edu To: Test Report Cc: dpdk-test-reports@iol.unh.edu In-Reply-To: <1747766224-31511-1-git-send-email-mamcgove@microsoft.com> References: <1747766224-31511-1-git-send-email-mamcgove@microsoft.com> Content-Type: text/plain X-BeenThere: test-report@dpdk.org X-Mailman-Version: 2.1.29 Precedence: list List-Id: automatic DPDK test reports List-Unsubscribe: , List-Archive: List-Post: List-Help: List-Subscribe: , Errors-To: test-report-bounces@dpdk.org Test-Label: iol-unit-arm64-testing Test-Status: SUCCESS http://dpdk.org/patch/153545 _Testing PASS_ Submitter: None Date: Tuesday, May 20 2025 18:37:04 DPDK git baseline: Repo:dpdk Branch: master CommitID:117e86c4b96ed761e9a7ab766261208fe81bf5ca 153545 --> testing pass Upstream job id: Generic-Unit-Test-DPDK#339328 Test environment and result as below: +-----------------------------+---------------------------+------------------------------+--------------+----------------+ | Environment | cryptodev_sw_zuc_autotest | cryptodev_sw_snow3g_autotest | lpm_autotest | dpdk_unit_test | +=============================+===========================+==============================+==============+================+ | Debian 12 (arm) | PASS | PASS | SKIPPED | PASS | +-----------------------------+---------------------------+------------------------------+--------------+----------------+ | Ubuntu 20.04 ARM SVE | SKIPPED | SKIPPED | PASS | SKIPPED | +-----------------------------+---------------------------+------------------------------+--------------+----------------+ | CentOS Stream 10 (ARM) | SKIPPED | SKIPPED | SKIPPED | PASS | +-----------------------------+---------------------------+------------------------------+--------------+----------------+ | RHEL9 (ARM) | SKIPPED | SKIPPED | SKIPPED | PASS | +-----------------------------+---------------------------+------------------------------+--------------+----------------+ | Fedora 40 (ARM) | SKIPPED | SKIPPED | SKIPPED | PASS | +-----------------------------+---------------------------+------------------------------+--------------+----------------+ | Fedora 41 (ARM Clang) | SKIPPED | SKIPPED | SKIPPED | PASS | +-----------------------------+---------------------------+------------------------------+--------------+----------------+ | Ubuntu 20.04 (ARM) | SKIPPED | SKIPPED | SKIPPED | PASS | +-----------------------------+---------------------------+------------------------------+--------------+----------------+ | Fedora 41 (ARM) | SKIPPED | SKIPPED | SKIPPED | PASS | +-----------------------------+---------------------------+------------------------------+--------------+----------------+ | Fedora 40 (ARM Clang) | SKIPPED | SKIPPED | SKIPPED | PASS | +-----------------------------+---------------------------+------------------------------+--------------+----------------+ | Ubuntu 22.04 (ARM) | SKIPPED | SKIPPED | SKIPPED | PASS | +-----------------------------+---------------------------+------------------------------+--------------+----------------+ | Ubuntu 24.04 (ARM) | SKIPPED | SKIPPED | SKIPPED | PASS | +-----------------------------+---------------------------+------------------------------+--------------+----------------+ | CentOS Stream 9 (ARM) | SKIPPED | SKIPPED | SKIPPED | PASS | +-----------------------------+---------------------------+------------------------------+--------------+----------------+ | 32-bit Ubuntu 22.04.4 (ARM) | SKIPPED | SKIPPED | SKIPPED | PASS | +-----------------------------+---------------------------+------------------------------+--------------+----------------+ Debian 12 (arm) Kernel: Depends on container host Compiler: gcc (Debian 12.2.0-14) 12.2.0 Ubuntu 20.04 ARM SVE Kernel: Depends on container host Compiler: gcc (Ubuntu 10.5.0-1ubuntu1~20.04) 10.5.0 CentOS Stream 10 (ARM) Kernel: Depends on container host Compiler: gcc 14.2.1 20241104 (Red Hat 14.2.1-6) RHEL9 (ARM) Kernel: Depends on container host Compiler: gcc 11.5.0 20240719 (Red Hat 11.5.0-2) Fedora 40 (ARM) Kernel: Depends on container host Compiler: gcc 14.2.1 20240912 (Red Hat 14.2.1-3) Fedora 41 (ARM Clang) Kernel: Depends on container host Compiler: clang 19.1.5 (Fedora 19.1.5-1.fc41) Ubuntu 20.04 (ARM) Kernel: Depends on container host Compiler: gcc (Ubuntu 9.4.0-1ubuntu1~20.04.2) 9.4.0 Fedora 41 (ARM) Kernel: Depends on container host Compiler: gcc 14.2.1 20240912 (Red Hat 14.2.1-3) Fedora 40 (ARM Clang) Kernel: Depends on container host Compiler: clang 18.1.8 (Fedora 18.1.8-1.fc40) Ubuntu 22.04 (ARM) Kernel: Depends on container host Compiler: gcc (Ubuntu 11.4.0-1ubuntu1~22.04) 11.4.0 Ubuntu 24.04 (ARM) Kernel: Depends on container host Compiler: gcc (Ubuntu 13.3.0-6ubuntu2~24.04) 13.3.0 CentOS Stream 9 (ARM) Kernel: Depends on container host Compiler: gcc 11.5.0 20240719 (Red Hat 11.5.0-2) 32-bit Ubuntu 22.04.4 (ARM) Kernel: 5.15.83+ aarch64 Compiler: gcc (Ubuntu 11.4.0-1ubuntu1~22.04) 11.4.0 To view detailed results, visit: https://lab.dpdk.org/results/dashboard/patchsets/33214/ UNH-IOL DPDK Community Lab To manage your email subscriptions, visit: https://lab.dpdk.org/results/dashboard/preferences/subscriptions/