From mboxrd@z Thu Jan 1 00:00:00 1970 Return-Path: Received: from mails.dpdk.org (mails.dpdk.org [217.70.189.124]) by inbox.dpdk.org (Postfix) with ESMTP id 5BBD2467A2 for ; Tue, 20 May 2025 22:19:42 +0200 (CEST) Received: from mails.dpdk.org (localhost [127.0.0.1]) by mails.dpdk.org (Postfix) with ESMTP id 53BC940E0F; Tue, 20 May 2025 22:19:42 +0200 (CEST) Received: from mail-pj1-f98.google.com (mail-pj1-f98.google.com [209.85.216.98]) by mails.dpdk.org (Postfix) with ESMTP id 8403740DF5 for ; Tue, 20 May 2025 22:19:40 +0200 (CEST) Received: by mail-pj1-f98.google.com with SMTP id 98e67ed59e1d1-30e8a968b15so3951112a91.3 for ; Tue, 20 May 2025 13:19:40 -0700 (PDT) DKIM-Signature: v=1; a=rsa-sha256; c=relaxed/relaxed; d=iol.unh.edu; s=unh-iol; t=1747772379; x=1748377179; darn=dpdk.org; h=references:in-reply-to:cc:to:from:subject:message-id:date:from:to :cc:subject:date:message-id:reply-to; bh=Au1ZwgHXxvPZdlmtAYIWCs1Hom07pAILAw9g0mEU1IE=; b=ELbv7i37qMU/9R/bX+duVFuMV1gwq6rl+ENmM7xLyIvg7sRPKZFTc/GSfDR6E8qsRa +yQYN+aWViicplUGlNb5ac7ihCMx33K2jIEOI76YrK3yDXiRX8ds/4ONp2xvOYA8gNYH MWfIoi+OnHs/Wov+VsiHmsRKPzmFgDs2GWqGc= X-Google-DKIM-Signature: v=1; a=rsa-sha256; c=relaxed/relaxed; d=1e100.net; s=20230601; t=1747772379; x=1748377179; h=references:in-reply-to:cc:to:from:subject:message-id:date :x-gm-message-state:from:to:cc:subject:date:message-id:reply-to; bh=Au1ZwgHXxvPZdlmtAYIWCs1Hom07pAILAw9g0mEU1IE=; b=Bl+Hcrsge84edGgMdZqu5inzUf/HmzUqDvF6yrH//P1Eqd5JhYgHUr+Zo1FrR+gx2d XzPTZ6bwjcVV8ORsVD5kX6/TVXk+G7/WPvKE5kbLwrpYQuZ7auM9zHbr+a8JEsWJ4Ima h4+a0aOKmwSybzrRu5pcY43nszA24I2qm5IRiZ23kJXO3V+CjoRayg/rNg2/dfcY4Wia Io1GHkq4Qm8c576pYHX4Bz+pgTkCVZW3qcWXI0yLsaOXVSOIvUxV8eaDwbBbLprtK/uV NvC4qsM749vwDhDLiU+PAlD32/4O46q15CJZ2/lB4mDbHttcgOUuA5ljxz2ZG8EdrVVF 8P3w== X-Gm-Message-State: AOJu0YwP9BuuMbXql63BgUF2P/kOZ11wjoovI3R15VH3LTpSGCgsdqzQ Rc4FcMX47XoY5DDbU+IlA7mulC83VHazM6tcw7Qvyygs+1pJaULCZ5oEzMjYZ7yFKCbQfxRDkjL luP4TsR9zl3IGbwyNkUBqgkUbKZVrYKHC76fF07WX23rE X-Gm-Gg: ASbGnctUJCjo0cl2liUuDLIexLgBv1VNO43Yk8+Y6zHzwtkiq7quTENgT5Ic9ZA3iJa vMVFKbwpfVLwPEJ0lAXpNidDd/B9mh63wYeHKK2eYUicNMH5Z/rtnZxz0bz5Z6lZhtRtLyioMR4 EhS+lMqMDUIkXQz1aGAAEnS75t/6qCXOSPFmhZOgn4Ts1f2x+Pml6nZYHpvnkaFy7xiYROrCClJ kcZOjHWZnPK/jd5djBnTl6hs69gncE6Lv9e6XcsWuwkuFmft51AOObU8+RPUmdmSxCW3vnK5+0X pK61hCpnFzT0NQ5Xaa2kkiLPDSjiYmusuMvXXf+N+87+IGick9Y1LwVrWdI= X-Google-Smtp-Source: AGHT+IGMmAKOyPVYHiErCA5Q+billn5iIEBpxRYDIn4wn76tPniUFKQrJyK240X47sx4AnRZOx9TfZsTNTKl X-Received: by 2002:a17:90b:4f4c:b0:309:ebe3:1ef9 with SMTP id 98e67ed59e1d1-30e830ebf54mr30940861a91.12.1747772379369; Tue, 20 May 2025 13:19:39 -0700 (PDT) Received: from postal.iol.unh.edu (postal.iol.unh.edu. [132.177.123.84]) by smtp-relay.gmail.com with ESMTPS id 98e67ed59e1d1-30f3661bfc3sm179220a91.12.2025.05.20.13.19.39 (version=TLS1_2 cipher=ECDHE-ECDSA-AES128-GCM-SHA256 bits=128/128); Tue, 20 May 2025 13:19:39 -0700 (PDT) X-Relaying-Domain: iol.unh.edu Date: Tue, 20 May 2025 13:19:39 -0700 (PDT) Message-ID: <682ce3db.170a0220.bdc46.948bSMTPIN_ADDED_MISSING@mx.google.com> Received: from [172.17.0.2] (unknown [172.18.0.76]) by postal.iol.unh.edu (Postfix) with ESMTP id 8D4736052471; Tue, 20 May 2025 16:19:38 -0400 (EDT) Subject: |SUCCESS| pw153545 [PATCH] examples/symmetric_mp: log/ignore promisc From: dpdklab@iol.unh.edu To: Test Report Cc: dpdk-test-reports@iol.unh.edu In-Reply-To: <1747766224-31511-1-git-send-email-mamcgove@microsoft.com> References: <1747766224-31511-1-git-send-email-mamcgove@microsoft.com> Content-Type: text/plain X-BeenThere: test-report@dpdk.org X-Mailman-Version: 2.1.29 Precedence: list List-Id: automatic DPDK test reports List-Unsubscribe: , List-Archive: List-Post: List-Help: List-Subscribe: , Errors-To: test-report-bounces@dpdk.org Test-Label: iol-compile-amd64-testing Test-Status: SUCCESS http://dpdk.org/patch/153545 _Testing PASS_ Submitter: None Date: Tuesday, May 20 2025 18:37:04 DPDK git baseline: Repo:dpdk Branch: master CommitID:117e86c4b96ed761e9a7ab766261208fe81bf5ca 153545 --> testing pass Upstream job id: Generic-DPDK-Compile-Meson#389750 Test environment and result as below: +-----------------------------------+--------------------+-------------------+------------------+-------------------------+-------------------+----------------------+ | Environment | dpdk_meson_compile | dpdk_compile_spdk | dpdk_compile_ovs | dpdk_llvm_clang_compile | dpdk_msvc_compile | dpdk_mingw64_compile | +===================================+====================+===================+==================+=========================+===================+======================+ | CentOS Stream 10 | PASS | SKIPPED | SKIPPED | SKIPPED | SKIPPED | SKIPPED | +-----------------------------------+--------------------+-------------------+------------------+-------------------------+-------------------+----------------------+ | Debian 12 | PASS | PASS | SKIPPED | SKIPPED | SKIPPED | SKIPPED | +-----------------------------------+--------------------+-------------------+------------------+-------------------------+-------------------+----------------------+ | Fedora 40 (Clang) | PASS | PASS | SKIPPED | SKIPPED | SKIPPED | SKIPPED | +-----------------------------------+--------------------+-------------------+------------------+-------------------------+-------------------+----------------------+ | Fedora 40 | PASS | PASS | SKIPPED | SKIPPED | SKIPPED | SKIPPED | +-----------------------------------+--------------------+-------------------+------------------+-------------------------+-------------------+----------------------+ | Fedora 41 (Clang) | PASS | PASS | PASS | SKIPPED | SKIPPED | SKIPPED | +-----------------------------------+--------------------+-------------------+------------------+-------------------------+-------------------+----------------------+ | Fedora 41 | PASS | PASS | PASS | SKIPPED | SKIPPED | SKIPPED | +-----------------------------------+--------------------+-------------------+------------------+-------------------------+-------------------+----------------------+ | RHEL8 | PASS | SKIPPED | SKIPPED | SKIPPED | SKIPPED | SKIPPED | +-----------------------------------+--------------------+-------------------+------------------+-------------------------+-------------------+----------------------+ | openSUSE Leap 15 | PASS | SKIPPED | SKIPPED | SKIPPED | SKIPPED | SKIPPED | +-----------------------------------+--------------------+-------------------+------------------+-------------------------+-------------------+----------------------+ | RHEL9 | PASS | SKIPPED | SKIPPED | SKIPPED | SKIPPED | SKIPPED | +-----------------------------------+--------------------+-------------------+------------------+-------------------------+-------------------+----------------------+ | Ubuntu 20.04 | PASS | SKIPPED | SKIPPED | SKIPPED | SKIPPED | SKIPPED | +-----------------------------------+--------------------+-------------------+------------------+-------------------------+-------------------+----------------------+ | Ubuntu 24.04 | PASS | PASS | PASS | SKIPPED | SKIPPED | SKIPPED | +-----------------------------------+--------------------+-------------------+------------------+-------------------------+-------------------+----------------------+ | Ubuntu 22.04 | PASS | PASS | SKIPPED | SKIPPED | SKIPPED | SKIPPED | +-----------------------------------+--------------------+-------------------+------------------+-------------------------+-------------------+----------------------+ | Alpine | PASS | SKIPPED | SKIPPED | SKIPPED | SKIPPED | SKIPPED | +-----------------------------------+--------------------+-------------------+------------------+-------------------------+-------------------+----------------------+ | Ubuntu 24.04 32 Bit Cross Compile | PASS | SKIPPED | SKIPPED | SKIPPED | SKIPPED | SKIPPED | +-----------------------------------+--------------------+-------------------+------------------+-------------------------+-------------------+----------------------+ | FreeBSD 13.5 | PASS | SKIPPED | SKIPPED | SKIPPED | SKIPPED | SKIPPED | +-----------------------------------+--------------------+-------------------+------------------+-------------------------+-------------------+----------------------+ | FreeBSD 14.2 | PASS | SKIPPED | SKIPPED | SKIPPED | SKIPPED | SKIPPED | +-----------------------------------+--------------------+-------------------+------------------+-------------------------+-------------------+----------------------+ | CentOS Stream 9 | PASS | PASS | SKIPPED | SKIPPED | SKIPPED | SKIPPED | +-----------------------------------+--------------------+-------------------+------------------+-------------------------+-------------------+----------------------+ | Windows Server 2022 | SKIPPED | SKIPPED | SKIPPED | PASS | PASS | PASS | +-----------------------------------+--------------------+-------------------+------------------+-------------------------+-------------------+----------------------+ CentOS Stream 10 Kernel: Depends on container host Compiler: gcc 14.2.1 20241104 (Red Hat 14.2.1-6) Debian 12 Kernel: Depends on container host Compiler: gcc (Debian 12.2.0-14) 12.2.0 Fedora 40 (Clang) Kernel: Depends on container host Compiler: clang 18.1.8 (Fedora 18.1.8-1.fc40) Fedora 40 Kernel: Depends on container host Compiler: gcc 14.2.1 20240912 (Red Hat 14.2.1-3) Fedora 41 (Clang) Kernel: Depends on container host Compiler: clang 19.1.5 (Fedora 19.1.5-1.fc41) Fedora 41 Kernel: Depends on container host Compiler: gcc 14.2.1 20240912 (Red Hat 14.2.1-3) RHEL8 Kernel: Depends on container host Compiler: gcc 8.5.0 20210514 (Red Hat 8.5.0-22) openSUSE Leap 15 Kernel: Depends on container host Compiler: gcc (SUSE Linux) 7.5.0 RHEL9 Kernel: Depends on container host Compiler: gcc 11.5.0 20240719 (Red Hat 11.5.0-2) Ubuntu 20.04 Kernel: Depends on container host Compiler: gcc (Ubuntu 9.4.0-1ubuntu1~20.04.2) 9.4.0 Ubuntu 24.04 Kernel: Depends on container host Compiler: gcc (Ubuntu 13.3.0-6ubuntu2~24.04) 13.3.0 Ubuntu 22.04 Kernel: Depends on container host Compiler: gcc (Ubuntu 11.4.0-1ubuntu1~22.04) 11.4.0 Alpine Kernel: Depends on container host Compiler: gcc (Alpine 14.2.0) 14.2.0 Ubuntu 24.04 32 Bit Cross Compile Kernel: Depends on container host Compiler: gcc (Ubuntu 13.3.0-6ubuntu2~24.04) 13.3.0 FreeBSD 13.5 Kernel: 13.5-RELEASE Compiler: clang 19.1.7 FreeBSD 14.2 Kernel: 14.2-RELEASE Compiler: clang 18.1.6 CentOS Stream 9 Kernel: Depends on container host Compiler: gcc 11.5.0 20240719 (Red Hat 11.5.0-2) Windows Server 2022 Kernel: 10.0.20348.2031 Compiler: clang 15.0.7, gcc 14.1.0 (MinGW), and MSVC VS 19.39.33521 To view detailed results, visit: https://lab.dpdk.org/results/dashboard/patchsets/33214/ UNH-IOL DPDK Community Lab To manage your email subscriptions, visit: https://lab.dpdk.org/results/dashboard/preferences/subscriptions/