automatic DPDK test reports
 help / color / mirror / Atom feed
From: dpdklab@iol.unh.edu
To: Test Report <test-report@dpdk.org>
Cc: dpdk-test-reports@iol.unh.edu
Subject: |SUCCESS| pw153545 [PATCH] examples/symmetric_mp: log/ignore promisc
Date: Tue, 20 May 2025 13:38:25 -0700 (PDT)	[thread overview]
Message-ID: <682ce841.050a0220.300c64.307aSMTPIN_ADDED_MISSING@mx.google.com> (raw)
In-Reply-To: <1747766224-31511-1-git-send-email-mamcgove@microsoft.com>

Test-Label: iol-abi-testing
Test-Status: SUCCESS
http://dpdk.org/patch/153545

_Testing PASS_

Submitter: None <mamcgove@microsoft.com>
Date: Tuesday, May 20 2025 18:37:04 
DPDK git baseline: Repo:dpdk
  Branch: master
  CommitID:117e86c4b96ed761e9a7ab766261208fe81bf5ca

153545 --> testing pass

Upstream job id: Generic-DPDK-Compile-ABI#127070

Test environment and result as below:

+-------------------+----------+
|    Environment    | abi_test |
+===================+==========+
| CentOS Stream 9   | PASS     |
+-------------------+----------+
| Fedora 41         | PASS     |
+-------------------+----------+
| CentOS Stream 10  | PASS     |
+-------------------+----------+
| Fedora 40 (Clang) | PASS     |
+-------------------+----------+
| Debian 12         | PASS     |
+-------------------+----------+
| Fedora 40         | PASS     |
+-------------------+----------+
| Fedora 41 (Clang) | PASS     |
+-------------------+----------+
| RHEL8             | PASS     |
+-------------------+----------+
| RHEL9             | PASS     |
+-------------------+----------+
| openSUSE Leap 15  | PASS     |
+-------------------+----------+
| Ubuntu 22.04      | PASS     |
+-------------------+----------+
| Ubuntu 24.04      | PASS     |
+-------------------+----------+


CentOS Stream 9
	Kernel: Depends on container host
	Compiler: gcc 11.5.0 20240719 (Red Hat 11.5.0-2)

Fedora 41
	Kernel: Depends on container host
	Compiler: gcc 14.2.1 20240912 (Red Hat 14.2.1-3)

CentOS Stream 10
	Kernel: Depends on container host
	Compiler: gcc 14.2.1 20241104 (Red Hat 14.2.1-6)

Fedora 40 (Clang)
	Kernel: Depends on container host
	Compiler: clang 18.1.8 (Fedora 18.1.8-1.fc40)

Debian 12
	Kernel: Depends on container host
	Compiler: gcc (Debian 12.2.0-14) 12.2.0

Fedora 40
	Kernel: Depends on container host
	Compiler: gcc 14.2.1 20240912 (Red Hat 14.2.1-3)

Fedora 41 (Clang)
	Kernel: Depends on container host
	Compiler: clang 19.1.5 (Fedora 19.1.5-1.fc41)

RHEL8
	Kernel: Depends on container host
	Compiler: gcc 8.5.0 20210514 (Red Hat 8.5.0-22)

RHEL9
	Kernel: Depends on container host
	Compiler: gcc 11.5.0 20240719 (Red Hat 11.5.0-2)

openSUSE Leap 15
	Kernel: Depends on container host
	Compiler: gcc (SUSE Linux) 7.5.0

Ubuntu 22.04
	Kernel: Depends on container host
	Compiler: gcc (Ubuntu 11.4.0-1ubuntu1~22.04) 11.4.0

Ubuntu 24.04
	Kernel: Depends on container host
	Compiler: gcc (Ubuntu 13.3.0-6ubuntu2~24.04) 13.3.0

To view detailed results, visit:
https://lab.dpdk.org/results/dashboard/patchsets/33214/

UNH-IOL DPDK Community Lab

To manage your email subscriptions, visit: 
https://lab.dpdk.org/results/dashboard/preferences/subscriptions/

      parent reply	other threads:[~2025-05-20 20:38 UTC|newest]

Thread overview: 20+ messages / expand[flat|nested]  mbox.gz  Atom feed  top
     [not found] <1747766224-31511-1-git-send-email-mamcgove@microsoft.com>
2025-05-20 18:10 ` |SUCCESS| pw153545 [PATCH] examples/symmetric_mp: log/ignore promiscuous fail qemudev
2025-05-20 18:15 ` qemudev
2025-05-20 18:38 ` |WARNING| " checkpatch
2025-05-20 19:12 ` |PENDING| pw153545 [PATCH] examples/symmetric_mp: log/ignore promisc dpdklab
2025-05-20 19:16 ` dpdklab
2025-05-20 19:19 ` |SUCCESS| " dpdklab
2025-05-20 19:22 ` dpdklab
2025-05-20 19:23 ` |SUCCESS| pw153545 [PATCH] examples/symmetric_mp: log/ignore promiscuous fail 0-day Robot
2025-05-20 19:24 ` |SUCCESS| pw153545 [PATCH] examples/symmetric_mp: log/ignore promisc dpdklab
2025-05-20 19:27 ` |PENDING| " dpdklab
2025-05-20 19:27 ` |SUCCESS| " dpdklab
2025-05-20 19:39 ` dpdklab
2025-05-20 19:43 ` dpdklab
2025-05-20 19:48 ` dpdklab
2025-05-20 19:50 ` dpdklab
2025-05-20 19:54 ` dpdklab
2025-05-20 19:55 ` dpdklab
2025-05-20 20:14 ` dpdklab
2025-05-20 20:19 ` dpdklab
2025-05-20 20:38 ` dpdklab [this message]

Reply instructions:

You may reply publicly to this message via plain-text email
using any one of the following methods:

* Save the following mbox file, import it into your mail client,
  and reply-to-all from there: mbox

  Avoid top-posting and favor interleaved quoting:
  https://en.wikipedia.org/wiki/Posting_style#Interleaved_style

* Reply using the --to, --cc, and --in-reply-to
  switches of git-send-email(1):

  git send-email \
    --in-reply-to=682ce841.050a0220.300c64.307aSMTPIN_ADDED_MISSING@mx.google.com \
    --to=dpdklab@iol.unh.edu \
    --cc=dpdk-test-reports@iol.unh.edu \
    --cc=test-report@dpdk.org \
    /path/to/YOUR_REPLY

  https://kernel.org/pub/software/scm/git/docs/git-send-email.html

* If your mail client supports setting the In-Reply-To header
  via mailto: links, try the mailto: link
Be sure your reply has a Subject: header at the top and a blank line before the message body.
This is a public inbox, see mirroring instructions
for how to clone and mirror all data and code used for this inbox;
as well as URLs for NNTP newsgroup(s).