From mboxrd@z Thu Jan 1 00:00:00 1970 Return-Path: Received: from mails.dpdk.org (mails.dpdk.org [217.70.189.124]) by inbox.dpdk.org (Postfix) with ESMTP id 32853467A2 for ; Tue, 20 May 2025 22:38:30 +0200 (CEST) Received: from mails.dpdk.org (localhost [127.0.0.1]) by mails.dpdk.org (Postfix) with ESMTP id 1B64240E15; Tue, 20 May 2025 22:38:30 +0200 (CEST) Received: from mail-qv1-f99.google.com (mail-qv1-f99.google.com [209.85.219.99]) by mails.dpdk.org (Postfix) with ESMTP id 247B640DF5 for ; Tue, 20 May 2025 22:38:29 +0200 (CEST) Received: by mail-qv1-f99.google.com with SMTP id 6a1803df08f44-6f2b04a6169so69160336d6.1 for ; Tue, 20 May 2025 13:38:29 -0700 (PDT) DKIM-Signature: v=1; a=rsa-sha256; c=relaxed/relaxed; d=iol.unh.edu; s=unh-iol; t=1747773508; x=1748378308; darn=dpdk.org; h=references:in-reply-to:cc:to:from:subject:message-id:date:from:to :cc:subject:date:message-id:reply-to; bh=a1AhLOkwIx9DrrXODQdMsdw0cXRNl3+IHaOjOjRwdo4=; b=WpQsMLwP4ZRZnPef+9gMTp/rUyiuy6Yz27EwsAm9yJtkrCh4CP/xeckBFSxdinaTE/ PM35S2XlD9P+fFaoy04RcU5/FoR0aoaRKmYmEiXGzkHxb37pmonyqCnIM3F5mBZ2Xz5D 455fr/79q9kRJZEhOBLOL56SvtJBz4mnSSB/8= X-Google-DKIM-Signature: v=1; a=rsa-sha256; c=relaxed/relaxed; d=1e100.net; s=20230601; t=1747773508; x=1748378308; h=references:in-reply-to:cc:to:from:subject:message-id:date :x-gm-message-state:from:to:cc:subject:date:message-id:reply-to; bh=a1AhLOkwIx9DrrXODQdMsdw0cXRNl3+IHaOjOjRwdo4=; b=Jab/eFmiiBvhAdy0hWSWwfffZGZ0G6AVU2SIg3WttGqsF6eca+N1JONlmrM9O9gMZi G8/qgKz1ZIBSlw7fAYZGw4p5jB7hawJ0L6wKX6CVwzBFFeXEFjHfWEVETaY0bN2hm8yX 1PYURcyoKhrdAg6VCm5moKq9UydbXQwEPAl7w8QGkWpgvt+DfKVVwzRQijGEzU+mESEy FjRMwP3qLxIXjRuLSHN/N/Vq5etxLFmeISrIwfo5efxj2oYxgk3Ou+0AXRCyOhOxLVS6 ijaY1H7hGkHcSvfkmbqXc+3V4tsJdd4x3UqfaBFY06Br0R6KwjyKtKUw2vK/u1jLeaGx MBSA== X-Gm-Message-State: AOJu0YzUlZOYTA2et6Do8slHE1g5paFWB1jl1mbvOgGrbWjDpuwk/tmg 24Haft6Q+ZOjRzzHA9mHzLvuiV2bG28bAY5fW8qhsXF+RF1TuU+Hw63CwATiLFNxZUp8clHjCtT pSE7qjczlm5QdAl/3nG/zzGzve7DnP4V7oRLSqP8FIGt0 X-Gm-Gg: ASbGncvIxF9Q6xjsv9QtwiiebVfCpYcPvsLQD0JugQaVd0p+xuUT8S81879fB+AwUDY 6ee3cq8fs+UeRsT1fE1Cmsv45PTeGWZOBIWNIu3oCnWmEDTlcpqBXD2SqSYxFHzOmt5kXNBM/PZ xcKnPmfUPfgJx7+JBpVhrOcE9zUJJiZvBGHAF2+Br8q90yLlNzIkhMqV/iEJSqarqzn6PRqaTd3 uIqy9p2ftnBg/tdWsDvCNPCqqW50uof5h9uwWpRrmpRmu67izbbFpd+RVA8aRSpnjJxftHLhCV2 dPvNh/82VaOPWLuT6AgheS5MXyiJ9hkSRzD8y/WqMU4l5y20C2wHUb8c7FE= X-Google-Smtp-Source: AGHT+IHbvdH+BEX5dK/67JY2vvwggHNyISdNFYz6Qgsmeoyy9HPiI6J+hYNfRJnwGK2vqAqhe+x+GdZ5qwtE X-Received: by 2002:a05:6214:da5:b0:6f8:ae32:39ad with SMTP id 6a1803df08f44-6f8b2c5b0f9mr282244766d6.15.1747773505964; Tue, 20 May 2025 13:38:25 -0700 (PDT) Received: from postal.iol.unh.edu (postal.iol.unh.edu. [132.177.123.84]) by smtp-relay.gmail.com with ESMTPS id 6a1803df08f44-6f8b08c79d0sm3385276d6.36.2025.05.20.13.38.25 (version=TLS1_2 cipher=ECDHE-ECDSA-AES128-GCM-SHA256 bits=128/128); Tue, 20 May 2025 13:38:25 -0700 (PDT) X-Relaying-Domain: iol.unh.edu Date: Tue, 20 May 2025 13:38:25 -0700 (PDT) Message-ID: <682ce841.050a0220.300c64.307aSMTPIN_ADDED_MISSING@mx.google.com> Received: from [172.17.0.2] (unknown [172.18.0.76]) by postal.iol.unh.edu (Postfix) with ESMTP id AFC086052471; Tue, 20 May 2025 16:38:25 -0400 (EDT) Subject: |SUCCESS| pw153545 [PATCH] examples/symmetric_mp: log/ignore promisc From: dpdklab@iol.unh.edu To: Test Report Cc: dpdk-test-reports@iol.unh.edu In-Reply-To: <1747766224-31511-1-git-send-email-mamcgove@microsoft.com> References: <1747766224-31511-1-git-send-email-mamcgove@microsoft.com> Content-Type: text/plain X-BeenThere: test-report@dpdk.org X-Mailman-Version: 2.1.29 Precedence: list List-Id: automatic DPDK test reports List-Unsubscribe: , List-Archive: List-Post: List-Help: List-Subscribe: , Errors-To: test-report-bounces@dpdk.org Test-Label: iol-abi-testing Test-Status: SUCCESS http://dpdk.org/patch/153545 _Testing PASS_ Submitter: None Date: Tuesday, May 20 2025 18:37:04 DPDK git baseline: Repo:dpdk Branch: master CommitID:117e86c4b96ed761e9a7ab766261208fe81bf5ca 153545 --> testing pass Upstream job id: Generic-DPDK-Compile-ABI#127070 Test environment and result as below: +-------------------+----------+ | Environment | abi_test | +===================+==========+ | CentOS Stream 9 | PASS | +-------------------+----------+ | Fedora 41 | PASS | +-------------------+----------+ | CentOS Stream 10 | PASS | +-------------------+----------+ | Fedora 40 (Clang) | PASS | +-------------------+----------+ | Debian 12 | PASS | +-------------------+----------+ | Fedora 40 | PASS | +-------------------+----------+ | Fedora 41 (Clang) | PASS | +-------------------+----------+ | RHEL8 | PASS | +-------------------+----------+ | RHEL9 | PASS | +-------------------+----------+ | openSUSE Leap 15 | PASS | +-------------------+----------+ | Ubuntu 22.04 | PASS | +-------------------+----------+ | Ubuntu 24.04 | PASS | +-------------------+----------+ CentOS Stream 9 Kernel: Depends on container host Compiler: gcc 11.5.0 20240719 (Red Hat 11.5.0-2) Fedora 41 Kernel: Depends on container host Compiler: gcc 14.2.1 20240912 (Red Hat 14.2.1-3) CentOS Stream 10 Kernel: Depends on container host Compiler: gcc 14.2.1 20241104 (Red Hat 14.2.1-6) Fedora 40 (Clang) Kernel: Depends on container host Compiler: clang 18.1.8 (Fedora 18.1.8-1.fc40) Debian 12 Kernel: Depends on container host Compiler: gcc (Debian 12.2.0-14) 12.2.0 Fedora 40 Kernel: Depends on container host Compiler: gcc 14.2.1 20240912 (Red Hat 14.2.1-3) Fedora 41 (Clang) Kernel: Depends on container host Compiler: clang 19.1.5 (Fedora 19.1.5-1.fc41) RHEL8 Kernel: Depends on container host Compiler: gcc 8.5.0 20210514 (Red Hat 8.5.0-22) RHEL9 Kernel: Depends on container host Compiler: gcc 11.5.0 20240719 (Red Hat 11.5.0-2) openSUSE Leap 15 Kernel: Depends on container host Compiler: gcc (SUSE Linux) 7.5.0 Ubuntu 22.04 Kernel: Depends on container host Compiler: gcc (Ubuntu 11.4.0-1ubuntu1~22.04) 11.4.0 Ubuntu 24.04 Kernel: Depends on container host Compiler: gcc (Ubuntu 13.3.0-6ubuntu2~24.04) 13.3.0 To view detailed results, visit: https://lab.dpdk.org/results/dashboard/patchsets/33214/ UNH-IOL DPDK Community Lab To manage your email subscriptions, visit: https://lab.dpdk.org/results/dashboard/preferences/subscriptions/