From mboxrd@z Thu Jan 1 00:00:00 1970 Return-Path: Received: from mails.dpdk.org (mails.dpdk.org [217.70.189.124]) by inbox.dpdk.org (Postfix) with ESMTP id 0213D467A3 for ; Wed, 21 May 2025 02:29:53 +0200 (CEST) Received: from mails.dpdk.org (localhost [127.0.0.1]) by mails.dpdk.org (Postfix) with ESMTP id F14B040A70; Wed, 21 May 2025 02:29:52 +0200 (CEST) Received: from mail-pl1-f227.google.com (mail-pl1-f227.google.com [209.85.214.227]) by mails.dpdk.org (Postfix) with ESMTP id 79F0640A6F for ; Wed, 21 May 2025 02:29:52 +0200 (CEST) Received: by mail-pl1-f227.google.com with SMTP id d9443c01a7336-232059c0b50so33670365ad.2 for ; Tue, 20 May 2025 17:29:52 -0700 (PDT) DKIM-Signature: v=1; a=rsa-sha256; c=relaxed/relaxed; d=iol.unh.edu; s=unh-iol; t=1747787391; x=1748392191; darn=dpdk.org; h=references:in-reply-to:cc:to:from:subject:message-id:date:from:to :cc:subject:date:message-id:reply-to; bh=ryt0/EwM4RTpAjKw32bJUwq8xyldSExwUqPDIrdiksg=; b=YsepyGiEPCF8k7nJ21hxcZzD04ylqBgyTuTZOhB7hIJAFKumEDBXL9wbS3+28k3MHu PFQ3a8R9yj8riYGcd7DzqI3ax4yKddxzddGOWsjlVuX3Z/omeHvs6w5lh4rEjn/YiRL6 pVi3V/vWmogJbvsjz+IF28A5o3WXh5qZ5KbrY= X-Google-DKIM-Signature: v=1; a=rsa-sha256; c=relaxed/relaxed; d=1e100.net; s=20230601; t=1747787391; x=1748392191; h=references:in-reply-to:cc:to:from:subject:message-id:date :x-gm-message-state:from:to:cc:subject:date:message-id:reply-to; bh=ryt0/EwM4RTpAjKw32bJUwq8xyldSExwUqPDIrdiksg=; b=bpNttbLS8Ub7Bfj3GMBuDVi18Jm8Cct6SugF6IsLL6+tA7CHJPqhVdJTAIdMO7IFnr wIoKCjSCPzsUgLvwPPoqdPZULXr48bwmemICKtpDnTDmuAImnlqM3bHAF/hAcpjb7Ove fIpH1YwM4mWQMwaneOZZmfWOHWFtsMmD3ke6NH+Aujr8hdTMf8bjVRGSbJ6JGvVedjMd TaGTSx1QqrQ/OtOQm62Ve0e/fJ2xBpOS0pgyuh2dhFidISdUYKoMm6V2hscabxiFnNlP COuExEZBfS2kYOqYrtdscWtcrA1CyTua1I6sfZl7hYYGEDU/0OLi/+44OOsiinXm2/on k7XQ== X-Gm-Message-State: AOJu0YxZyZq9TlgCkEWWgTfG0gGjWynEfoillrGASajkM4dqI5uGeEEj 350KaV4b+wqAA+/zj/TMxPykEdgEMEPHIaksDTwRtSfnZApoznOcOPR5H9aHq5Hat280GvSw70S gXIEnlWmR3SwrWvKuE/NzoxWDOuILOp8YNlpA2ZjHdEq3I/30IwHxEJBXgvZg X-Gm-Gg: ASbGncvMHE8tFeHGJgDPmB56bJyZAcg+sTiG8KzPTivMJ86lLXYL1w57z6S6C3tuvYr Ff6j96HgxUBbbwXHT6X/ukaYhFBNrVGu2+soqPvurlUNkbZjiEczRkq5ZldGSPMdRwQoIETZVan kXZRbQ3ElMiJQP2arS1MSxCq/XzusUmfQCwekqeEexNSCd0dl1bYaoAClnX6HxcctDDhsI2AmYU 8+pxZ9W3hunNDlLvxA1A8YPcpKsd3kWqfjP4liQc7v/42mx1I7BscvNNNqMtHw2ReIPjdkKjAh8 RXpj+spwFPr/uS6tCDjjit67e5r+lHGQLm7B X-Google-Smtp-Source: AGHT+IFe8ZoZd7F0pkWUbWnHzHPOvskBAdiX/gGq5okIM2TgneGzSGp66c9MuJRh8IXw7lOMLro+Jc2nAgX0 X-Received: by 2002:a17:902:ecd2:b0:224:2384:5b40 with SMTP id d9443c01a7336-231de31b3dbmr293620165ad.24.1747787391587; Tue, 20 May 2025 17:29:51 -0700 (PDT) Received: from postal.iol.unh.edu (postal.iol.unh.edu. [2606:4100:3880:1234::84]) by smtp-relay.gmail.com with ESMTPS id d9443c01a7336-231d4aa7477sm5585905ad.13.2025.05.20.17.29.51 (version=TLS1_2 cipher=ECDHE-ECDSA-AES128-GCM-SHA256 bits=128/128); Tue, 20 May 2025 17:29:51 -0700 (PDT) X-Relaying-Domain: iol.unh.edu Date: Tue, 20 May 2025 17:29:51 -0700 (PDT) Message-ID: <682d1e7f.170a0220.2cced6.df85SMTPIN_ADDED_MISSING@mx.google.com> Received: from [172.21.0.6] (unknown [172.18.0.240]) by postal.iol.unh.edu (Postfix) with ESMTP id C85716052471; Tue, 20 May 2025 20:29:50 -0400 (EDT) Subject: |SUCCESS| pw153547 [PATCH] net/mana: check for vendor_part_id when p From: dpdklab@iol.unh.edu To: Test Report Cc: dpdk-test-reports@iol.unh.edu In-Reply-To: <1747781296-19645-1-git-send-email-longli@linuxonhyperv.com> References: <1747781296-19645-1-git-send-email-longli@linuxonhyperv.com> Content-Type: text/plain X-BeenThere: test-report@dpdk.org X-Mailman-Version: 2.1.29 Precedence: list List-Id: automatic DPDK test reports List-Unsubscribe: , List-Archive: List-Post: List-Help: List-Subscribe: , Errors-To: test-report-bounces@dpdk.org Test-Label: iol-unit-amd64-testing Test-Status: SUCCESS http://dpdk.org/patch/153547 _Testing PASS_ Submitter: Long Li Date: Tuesday, May 20 2025 22:48:16 DPDK git baseline: Repo:dpdk Branch: master CommitID:a0dde342cc312fd75b63281f63d757db7482cdab 153547 --> testing pass Upstream job id: Generic-Unit-Test-DPDK#339362 Test environment and result as below: +---------------------+----------------+ | Environment | dpdk_unit_test | +=====================+================+ | CentOS Stream 9 | PASS | +---------------------+----------------+ | Debian 12 | PASS | +---------------------+----------------+ | RHEL8 | PASS | +---------------------+----------------+ | CentOS Stream 10 | PASS | +---------------------+----------------+ | Ubuntu 22.04 | PASS | +---------------------+----------------+ | Fedora 40 | PASS | +---------------------+----------------+ | Fedora 40 (Clang) | PASS | +---------------------+----------------+ | Ubuntu 20.04 | PASS | +---------------------+----------------+ | Fedora 41 | PASS | +---------------------+----------------+ | Fedora 41 (Clang) | PASS | +---------------------+----------------+ | RHEL9 | PASS | +---------------------+----------------+ | Ubuntu 24.04 | PASS | +---------------------+----------------+ | Windows Server 2022 | PASS | +---------------------+----------------+ CentOS Stream 9 Kernel: Depends on container host Compiler: gcc 11.5.0 20240719 (Red Hat 11.5.0-2) Debian 12 Kernel: Depends on container host Compiler: gcc (Debian 12.2.0-14) 12.2.0 RHEL8 Kernel: Depends on container host Compiler: gcc 8.5.0 20210514 (Red Hat 8.5.0-22) CentOS Stream 10 Kernel: Depends on container host Compiler: gcc 14.2.1 20241104 (Red Hat 14.2.1-6) Ubuntu 22.04 Kernel: Depends on container host Compiler: gcc (Ubuntu 11.4.0-1ubuntu1~22.04) 11.4.0 Fedora 40 Kernel: Depends on container host Compiler: gcc 14.2.1 20240912 (Red Hat 14.2.1-3) Fedora 40 (Clang) Kernel: Depends on container host Compiler: clang 18.1.8 (Fedora 18.1.8-1.fc40) Ubuntu 20.04 Kernel: Depends on container host Compiler: gcc (Ubuntu 9.4.0-1ubuntu1~20.04.2) 9.4.0 Fedora 41 Kernel: Depends on container host Compiler: gcc 14.2.1 20240912 (Red Hat 14.2.1-3) Fedora 41 (Clang) Kernel: Depends on container host Compiler: clang 19.1.5 (Fedora 19.1.5-1.fc41) RHEL9 Kernel: Depends on container host Compiler: gcc 11.5.0 20240719 (Red Hat 11.5.0-2) Ubuntu 24.04 Kernel: Depends on container host Compiler: gcc (Ubuntu 13.3.0-6ubuntu2~24.04) 13.3.0 Windows Server 2022 Kernel: 10.0.20348.2031 Compiler: clang 15.0.7, gcc 14.1.0 (MinGW), and MSVC VS 19.39.33521 To view detailed results, visit: https://lab.dpdk.org/results/dashboard/patchsets/33216/ UNH-IOL DPDK Community Lab To manage your email subscriptions, visit: https://lab.dpdk.org/results/dashboard/preferences/subscriptions/