From mboxrd@z Thu Jan 1 00:00:00 1970 Return-Path: Received: from mails.dpdk.org (mails.dpdk.org [217.70.189.124]) by inbox.dpdk.org (Postfix) with ESMTP id B18AA467A3 for ; Wed, 21 May 2025 02:44:01 +0200 (CEST) Received: from mails.dpdk.org (localhost [127.0.0.1]) by mails.dpdk.org (Postfix) with ESMTP id 791F640E2D; Wed, 21 May 2025 02:44:01 +0200 (CEST) Received: from mail-il1-f226.google.com (mail-il1-f226.google.com [209.85.166.226]) by mails.dpdk.org (Postfix) with ESMTP id 98AEB40E2C for ; Wed, 21 May 2025 02:44:00 +0200 (CEST) Received: by mail-il1-f226.google.com with SMTP id e9e14a558f8ab-3d8020ba858so61481895ab.0 for ; Tue, 20 May 2025 17:44:00 -0700 (PDT) DKIM-Signature: v=1; a=rsa-sha256; c=relaxed/relaxed; d=iol.unh.edu; s=unh-iol; t=1747788240; x=1748393040; darn=dpdk.org; h=references:in-reply-to:cc:to:from:subject:message-id:date:from:to :cc:subject:date:message-id:reply-to; bh=HLFgWTVoDKCgruDdsInAge48QDAfS8DVQ+yGfYUlDh4=; b=Ophv+rh6m379RMsvlcQ/Np9ZEZCuHHUmY6aDSHOPhxKduhkJ2oM+bz3uZqmwLjcnxF WtIY0Yy6/FjiYzUC8kAZU11r1ZdFaIYUgPLHQj0hLeOvSSDeDjVqNTgrmqJwtSQsVj25 UDR4PWJwxZb3SPlXl4Y8cpwtr3SFWyzCGofmg= X-Google-DKIM-Signature: v=1; a=rsa-sha256; c=relaxed/relaxed; d=1e100.net; s=20230601; t=1747788240; x=1748393040; h=references:in-reply-to:cc:to:from:subject:message-id:date :x-gm-message-state:from:to:cc:subject:date:message-id:reply-to; bh=HLFgWTVoDKCgruDdsInAge48QDAfS8DVQ+yGfYUlDh4=; b=OI2lEMmAd2L8DUq6SJ1WiiGst6Mo41vAfd/lOwI/2SrNRKaG97nwP6oLLzRtx/9tdK 4zNZ6SzypLMa3ZS0p3rCk/AzwUY3YWMqqNqZ+P6Ms0nOH8Hn5q+g/kmrVnDNWEtnudH5 HfKnD4uZcgeugxEkH63Me+fqnaSx2/VQPS/TaMU2qwBdC+KiRB5H3bf1eV7sUWtZrwvV 8F2BNVLU1457yrDs5Vps7FcYjLbSWEVpI4Go4SUtXaj5OqKDQynw2xlTbSLABEFxiyLt JbBVl9yXasr+GjXxM73gdt/eureQ+mLltpZ1CWJ1GXTJ0hUdBin8UO5SYBg9RVzz5sat h5tw== X-Gm-Message-State: AOJu0Yx6iRgBXbQINWMPmgprvJe7QEzQM8oLMXg+ANGwsZsT24IP+XOU +yRZeIa6oYGYORSeXBKeP9HTX/JE1LfQJvJCse5YZIMst4MWEmYlahDaQQH1JAfJGXBQ/ZH3jTy D/+I3/mUt6cu6iNB/pcpD2VfAe/MDRB8J8oXhMXxwAfbwF0T7NTRdTF/Ny3R0 X-Gm-Gg: ASbGncuNbrr+qgAlCwpSEWEkmwX/75YxFJLmckaFrnSqgRahlGyUJxLbT6P0/5picQ9 2lSHWHA3qRCFL/JWooQHjjafqmqu+tQ1q8wJqctCt6iJ9EXEvOtauyalbM7ZendQJUCoDXeAXl8 6XmgmRaVpbIvZkrMjyGk0tCRGZtrrRoZWF3NtOS6Dcm2j4QkThdcFJda1bEIJwlfONbk/8SV327 9UoEGkK1gGUWo+6DrZwZtT0eV/puhLx9HCmbfTskhBoo8AhoW81r/yU420102aqvDKkwjCXvab/ TIMYK1O2ZAtewKd0lhD7VhpFEhV1JObu45oz X-Google-Smtp-Source: AGHT+IHE2XTY+yDIdjAKeQ3j/b9zFN7MKBCqAe/zye30jcvXVcc8diAYH6GeNJPRV1xD0l4IU5UTETXIVggR X-Received: by 2002:a05:6e02:3a01:b0:3d8:1b25:cc2 with SMTP id e9e14a558f8ab-3db842a6e18mr221607025ab.8.1747788239795; Tue, 20 May 2025 17:43:59 -0700 (PDT) Received: from postal.iol.unh.edu (postal.iol.unh.edu. [2606:4100:3880:1234::84]) by smtp-relay.gmail.com with ESMTPS id e9e14a558f8ab-3dc7c61f3efsm1143145ab.8.2025.05.20.17.43.59 (version=TLS1_2 cipher=ECDHE-ECDSA-AES128-GCM-SHA256 bits=128/128); Tue, 20 May 2025 17:43:59 -0700 (PDT) X-Relaying-Domain: iol.unh.edu Date: Tue, 20 May 2025 17:43:59 -0700 (PDT) Message-ID: <682d21cf.050a0220.197c1c.65f0SMTPIN_ADDED_MISSING@mx.google.com> Received: from [172.21.0.5] (unknown [172.18.0.240]) by postal.iol.unh.edu (Postfix) with ESMTP id 44B1D6052471; Tue, 20 May 2025 20:43:59 -0400 (EDT) Subject: |SUCCESS| pw153547 [PATCH] net/mana: check for vendor_part_id when p From: dpdklab@iol.unh.edu To: Test Report Cc: dpdk-test-reports@iol.unh.edu In-Reply-To: <1747781296-19645-1-git-send-email-longli@linuxonhyperv.com> References: <1747781296-19645-1-git-send-email-longli@linuxonhyperv.com> Content-Type: text/plain X-BeenThere: test-report@dpdk.org X-Mailman-Version: 2.1.29 Precedence: list List-Id: automatic DPDK test reports List-Unsubscribe: , List-Archive: List-Post: List-Help: List-Subscribe: , Errors-To: test-report-bounces@dpdk.org Test-Label: iol-unit-arm64-testing Test-Status: SUCCESS http://dpdk.org/patch/153547 _Testing PASS_ Submitter: Long Li Date: Tuesday, May 20 2025 22:48:16 DPDK git baseline: Repo:dpdk Branch: master CommitID:a0dde342cc312fd75b63281f63d757db7482cdab 153547 --> testing pass Upstream job id: Generic-Unit-Test-DPDK#339357 Test environment and result as below: +-----------------------------+--------------+------------------------------+---------------------------+----------------+ | Environment | lpm_autotest | cryptodev_sw_snow3g_autotest | cryptodev_sw_zuc_autotest | dpdk_unit_test | +=============================+==============+==============================+===========================+================+ | Ubuntu 20.04 ARM SVE | PASS | SKIPPED | SKIPPED | SKIPPED | +-----------------------------+--------------+------------------------------+---------------------------+----------------+ | Debian 12 (arm) | SKIPPED | PASS | PASS | PASS | +-----------------------------+--------------+------------------------------+---------------------------+----------------+ | CentOS Stream 9 (ARM) | SKIPPED | SKIPPED | SKIPPED | PASS | +-----------------------------+--------------+------------------------------+---------------------------+----------------+ | Fedora 41 (ARM) | SKIPPED | SKIPPED | SKIPPED | PASS | +-----------------------------+--------------+------------------------------+---------------------------+----------------+ | CentOS Stream 10 (ARM) | SKIPPED | SKIPPED | SKIPPED | PASS | +-----------------------------+--------------+------------------------------+---------------------------+----------------+ | Ubuntu 20.04 (ARM) | SKIPPED | SKIPPED | SKIPPED | PASS | +-----------------------------+--------------+------------------------------+---------------------------+----------------+ | Fedora 40 (ARM Clang) | SKIPPED | SKIPPED | SKIPPED | PASS | +-----------------------------+--------------+------------------------------+---------------------------+----------------+ | Fedora 40 (ARM) | SKIPPED | SKIPPED | SKIPPED | PASS | +-----------------------------+--------------+------------------------------+---------------------------+----------------+ | Ubuntu 24.04 (ARM) | SKIPPED | SKIPPED | SKIPPED | PASS | +-----------------------------+--------------+------------------------------+---------------------------+----------------+ | Ubuntu 22.04 (ARM) | SKIPPED | SKIPPED | SKIPPED | PASS | +-----------------------------+--------------+------------------------------+---------------------------+----------------+ | RHEL9 (ARM) | SKIPPED | SKIPPED | SKIPPED | PASS | +-----------------------------+--------------+------------------------------+---------------------------+----------------+ | Fedora 41 (ARM Clang) | SKIPPED | SKIPPED | SKIPPED | PASS | +-----------------------------+--------------+------------------------------+---------------------------+----------------+ | 32-bit Ubuntu 22.04.4 (ARM) | SKIPPED | SKIPPED | SKIPPED | PASS | +-----------------------------+--------------+------------------------------+---------------------------+----------------+ Ubuntu 20.04 ARM SVE Kernel: Depends on container host Compiler: gcc (Ubuntu 10.5.0-1ubuntu1~20.04) 10.5.0 Debian 12 (arm) Kernel: Depends on container host Compiler: gcc (Debian 12.2.0-14) 12.2.0 CentOS Stream 9 (ARM) Kernel: Depends on container host Compiler: gcc 11.5.0 20240719 (Red Hat 11.5.0-2) Fedora 41 (ARM) Kernel: Depends on container host Compiler: gcc 14.2.1 20240912 (Red Hat 14.2.1-3) CentOS Stream 10 (ARM) Kernel: Depends on container host Compiler: gcc 14.2.1 20241104 (Red Hat 14.2.1-6) Ubuntu 20.04 (ARM) Kernel: Depends on container host Compiler: gcc (Ubuntu 9.4.0-1ubuntu1~20.04.2) 9.4.0 Fedora 40 (ARM Clang) Kernel: Depends on container host Compiler: clang 18.1.8 (Fedora 18.1.8-1.fc40) Fedora 40 (ARM) Kernel: Depends on container host Compiler: gcc 14.2.1 20240912 (Red Hat 14.2.1-3) Ubuntu 24.04 (ARM) Kernel: Depends on container host Compiler: gcc (Ubuntu 13.3.0-6ubuntu2~24.04) 13.3.0 Ubuntu 22.04 (ARM) Kernel: Depends on container host Compiler: gcc (Ubuntu 11.4.0-1ubuntu1~22.04) 11.4.0 RHEL9 (ARM) Kernel: Depends on container host Compiler: gcc 11.5.0 20240719 (Red Hat 11.5.0-2) Fedora 41 (ARM Clang) Kernel: Depends on container host Compiler: clang 19.1.5 (Fedora 19.1.5-1.fc41) 32-bit Ubuntu 22.04.4 (ARM) Kernel: 5.15.83+ aarch64 Compiler: gcc (Ubuntu 11.4.0-1ubuntu1~22.04) 11.4.0 To view detailed results, visit: https://lab.dpdk.org/results/dashboard/patchsets/33216/ UNH-IOL DPDK Community Lab To manage your email subscriptions, visit: https://lab.dpdk.org/results/dashboard/preferences/subscriptions/