From mboxrd@z Thu Jan 1 00:00:00 1970 Return-Path: Received: from mails.dpdk.org (mails.dpdk.org [217.70.189.124]) by inbox.dpdk.org (Postfix) with ESMTP id AAE98467A3 for ; Wed, 21 May 2025 03:27:32 +0200 (CEST) Received: from mails.dpdk.org (localhost [127.0.0.1]) by mails.dpdk.org (Postfix) with ESMTP id 80BFC40E2D; Wed, 21 May 2025 03:27:32 +0200 (CEST) Received: from mail-qt1-f228.google.com (mail-qt1-f228.google.com [209.85.160.228]) by mails.dpdk.org (Postfix) with ESMTP id 3FC0640E2C for ; Wed, 21 May 2025 03:27:31 +0200 (CEST) Received: by mail-qt1-f228.google.com with SMTP id d75a77b69052e-477296dce8dso66442981cf.3 for ; Tue, 20 May 2025 18:27:31 -0700 (PDT) DKIM-Signature: v=1; a=rsa-sha256; c=relaxed/relaxed; d=iol.unh.edu; s=unh-iol; t=1747790850; x=1748395650; darn=dpdk.org; h=references:in-reply-to:cc:to:from:subject:message-id:date:from:to :cc:subject:date:message-id:reply-to; bh=m2zdiyswB2lK7o0wsR409zdReCVU83Bjh6bFmkPguJ4=; b=e9NwzoYCrrADvc+VfAE/yB3du4H285y4A+/9o4lYAFa2Kny2ubq51FsUOXEsbqMTGR 4WDYWM6lag6scqy12tDoAU+UciELcG8jrXcQqNNEPzNX7FHIuqn0p5RYr1eX5kPnfqqY tf7Y8hK+zwhbr+TH9wGUdgsdfn09FYacy0kmk= X-Google-DKIM-Signature: v=1; a=rsa-sha256; c=relaxed/relaxed; d=1e100.net; s=20230601; t=1747790850; x=1748395650; h=references:in-reply-to:cc:to:from:subject:message-id:date :x-gm-message-state:from:to:cc:subject:date:message-id:reply-to; bh=m2zdiyswB2lK7o0wsR409zdReCVU83Bjh6bFmkPguJ4=; b=wUyYbN3oYU2I793UgeudkORqyz/1kaH2WrjRe8mS2eTCCnd+u84XQm6OtOAoOUuXWg lpbb1homndJefOujgK3xNerJ9af+rAbVshOBbnKGeM1O5xFdU1sdLuoJ3VLfkOqMhami rooOOcn+4GjYjbSyrfbqc9MiH5IYan7dW53REEWIyDZl51SHrZAHh+7YmTREzQ1FMcpP aMJ9FfhcBNpxrI0VldNphO7Vrd7a0/zRMlIy8YKCwP6YeKYvViaEjGDJVL2IRSr043ou U/bU97lbZgUbozphv8Ep/7V0poDitTux+NHJETMYZmD2kQ24rnFd29m+rRZE+61cL0Og 12iA== X-Gm-Message-State: AOJu0YyZ/HMAq01hscq9kNQGK4msupj1OgVQJYe4MVM1ChQMMK8Ght4Z PVkAjdh5Z0iNVEx7VjCSjRPszAlklJgFfD/SjJUwnzpVr+SN73zM8ucvX2Ofv3CV0R9mjZghQmr gfgZSPaS2cp0PimYKlrxHRZUYZ53f/pt5yRiZnqnRlinple8n4Mal56hE87QP X-Gm-Gg: ASbGnct8tdE8s7tU1icnz5kArkUh5WW/MODf38cQVustLmOTf+jQeCdo8dZsoSzKzuc 1fOHGmZJK1V+5GXMfka7ohbOwath03y8EFVuthep17/BAEkbhASZ07I7iT/sVVLKFMHGLsRslf2 yCQEv4pli/Qks0R0Ec4vJKZ+BXz2YCasC7eh0ORAFFNNbxe63+WwcpEjHIOFQ7mpv2OHuDHSHnC leQAsMdent0wBPBQ5J62heO4vOE1hDkHWoWy1qEWF+s34YFWCHZQCjiIoTRyBZWmbawiJ7OXXU1 99A19G//r/u11vaMoxKLwOD9++Y5BrZWMDdZ X-Google-Smtp-Source: AGHT+IGL3kyZkwg7q5p5ke0hFoIAGZ70pIiq5g4/158nXK1OvqXAk2slrTp1RTCL10bokooJkixMtwVPZWWL X-Received: by 2002:ac8:7515:0:b0:494:b0ce:eaaa with SMTP id d75a77b69052e-494b0ceeb58mr258025281cf.35.1747790850479; Tue, 20 May 2025 18:27:30 -0700 (PDT) Received: from postal.iol.unh.edu (postal.iol.unh.edu. [2606:4100:3880:1234::84]) by smtp-relay.gmail.com with ESMTPS id d75a77b69052e-494ae507185sm4684811cf.21.2025.05.20.18.27.30 (version=TLS1_2 cipher=ECDHE-ECDSA-AES128-GCM-SHA256 bits=128/128); Tue, 20 May 2025 18:27:30 -0700 (PDT) X-Relaying-Domain: iol.unh.edu Date: Tue, 20 May 2025 18:27:30 -0700 (PDT) Message-ID: <682d2c02.c80a0220.3cca1f.8a70SMTPIN_ADDED_MISSING@mx.google.com> Received: from [172.17.0.3] (unknown [172.18.0.74]) by postal.iol.unh.edu (Postfix) with ESMTP id EF3D86052471; Tue, 20 May 2025 21:27:29 -0400 (EDT) Subject: |SUCCESS| pw153546 [PATCH] eal: fix return value of lcore role From: dpdklab@iol.unh.edu To: Test Report Cc: dpdk-test-reports@iol.unh.edu In-Reply-To: <20250520201726.7420-1-pbhagavatula@marvell.com> References: <20250520201726.7420-1-pbhagavatula@marvell.com> Content-Type: text/plain X-BeenThere: test-report@dpdk.org X-Mailman-Version: 2.1.29 Precedence: list List-Id: automatic DPDK test reports List-Unsubscribe: , List-Archive: List-Post: List-Help: List-Subscribe: , Errors-To: test-report-bounces@dpdk.org Test-Label: iol-unit-amd64-testing Test-Status: SUCCESS http://dpdk.org/patch/153546 _Testing PASS_ Submitter: Pavan Nikhilesh Bhagavatula Date: Tuesday, May 20 2025 20:17:26 DPDK git baseline: Repo:dpdk Branch: master CommitID:117e86c4b96ed761e9a7ab766261208fe81bf5ca 153546 --> testing pass Upstream job id: Generic-Unit-Test-DPDK#339379 Test environment and result as below: +---------------------+----------------+ | Environment | dpdk_unit_test | +=====================+================+ | Debian 12 | PASS | +---------------------+----------------+ | CentOS Stream 9 | PASS | +---------------------+----------------+ | Fedora 41 | PASS | +---------------------+----------------+ | Fedora 41 (Clang) | PASS | +---------------------+----------------+ | CentOS Stream 10 | PASS | +---------------------+----------------+ | Fedora 40 | PASS | +---------------------+----------------+ | Ubuntu 20.04 | PASS | +---------------------+----------------+ | RHEL8 | PASS | +---------------------+----------------+ | Fedora 40 (Clang) | PASS | +---------------------+----------------+ | Ubuntu 24.04 | PASS | +---------------------+----------------+ | RHEL9 | PASS | +---------------------+----------------+ | Ubuntu 22.04 | PASS | +---------------------+----------------+ | Windows Server 2022 | PASS | +---------------------+----------------+ Debian 12 Kernel: Depends on container host Compiler: gcc (Debian 12.2.0-14) 12.2.0 CentOS Stream 9 Kernel: Depends on container host Compiler: gcc 11.5.0 20240719 (Red Hat 11.5.0-2) Fedora 41 Kernel: Depends on container host Compiler: gcc 14.2.1 20240912 (Red Hat 14.2.1-3) Fedora 41 (Clang) Kernel: Depends on container host Compiler: clang 19.1.5 (Fedora 19.1.5-1.fc41) CentOS Stream 10 Kernel: Depends on container host Compiler: gcc 14.2.1 20241104 (Red Hat 14.2.1-6) Fedora 40 Kernel: Depends on container host Compiler: gcc 14.2.1 20240912 (Red Hat 14.2.1-3) Ubuntu 20.04 Kernel: Depends on container host Compiler: gcc (Ubuntu 9.4.0-1ubuntu1~20.04.2) 9.4.0 RHEL8 Kernel: Depends on container host Compiler: gcc 8.5.0 20210514 (Red Hat 8.5.0-22) Fedora 40 (Clang) Kernel: Depends on container host Compiler: clang 18.1.8 (Fedora 18.1.8-1.fc40) Ubuntu 24.04 Kernel: Depends on container host Compiler: gcc (Ubuntu 13.3.0-6ubuntu2~24.04) 13.3.0 RHEL9 Kernel: Depends on container host Compiler: gcc 11.5.0 20240719 (Red Hat 11.5.0-2) Ubuntu 22.04 Kernel: Depends on container host Compiler: gcc (Ubuntu 11.4.0-1ubuntu1~22.04) 11.4.0 Windows Server 2022 Kernel: 10.0.20348.2031 Compiler: clang 15.0.7, gcc 14.1.0 (MinGW), and MSVC VS 19.39.33521 To view detailed results, visit: https://lab.dpdk.org/results/dashboard/patchsets/33215/ UNH-IOL DPDK Community Lab To manage your email subscriptions, visit: https://lab.dpdk.org/results/dashboard/preferences/subscriptions/