From mboxrd@z Thu Jan 1 00:00:00 1970 Return-Path: Received: from mails.dpdk.org (mails.dpdk.org [217.70.189.124]) by inbox.dpdk.org (Postfix) with ESMTP id B8111467A3 for ; Wed, 21 May 2025 03:49:23 +0200 (CEST) Received: from mails.dpdk.org (localhost [127.0.0.1]) by mails.dpdk.org (Postfix) with ESMTP id 7AF3640E31; Wed, 21 May 2025 03:49:23 +0200 (CEST) Received: from mail-il1-f225.google.com (mail-il1-f225.google.com [209.85.166.225]) by mails.dpdk.org (Postfix) with ESMTP id C4BBA40E2D for ; Wed, 21 May 2025 03:49:21 +0200 (CEST) Received: by mail-il1-f225.google.com with SMTP id e9e14a558f8ab-3d8020ba858so61841885ab.0 for ; Tue, 20 May 2025 18:49:21 -0700 (PDT) DKIM-Signature: v=1; a=rsa-sha256; c=relaxed/relaxed; d=iol.unh.edu; s=unh-iol; t=1747792161; x=1748396961; darn=dpdk.org; h=references:in-reply-to:cc:to:from:subject:message-id:date:from:to :cc:subject:date:message-id:reply-to; bh=HQNbImynMlIls09rSdWJzbxIhVO+GjlCRLPBOL347ng=; b=H+047ZwJchB83mWtg5rlqjWd1sbnfBKeJXvfSzWHe0ex663QzMkLFikvirJo1Kp0xs Zv/DNiO5s/Kuh2q3z7k+SPSAP7SS/Fhggq1/Ea/mQE+vRngZknkteWzZPbEqRrQPuTbs vxC7QkjAuf2aXEfWkE30YSYn0jq+S6ubdWsVU= X-Google-DKIM-Signature: v=1; a=rsa-sha256; c=relaxed/relaxed; d=1e100.net; s=20230601; t=1747792161; x=1748396961; h=references:in-reply-to:cc:to:from:subject:message-id:date :x-gm-message-state:from:to:cc:subject:date:message-id:reply-to; bh=HQNbImynMlIls09rSdWJzbxIhVO+GjlCRLPBOL347ng=; b=Avi5fNoqI4MxISmozBeTwM38FmD38XvaAfrmUwdFkMBGeBRA9/5MEpCckAfh4IlxEg FyNCWWeeqG8g7OkebjS39rq92udHWQJzVhjEe+r1U1ryYk9P3dMGtvX+uauVV5RQOOY/ ILTag4YX86U0XQKnODU9I1v+xXchXeF547ATy0ooMn8KLwRj9w4h/A2k1RInZkTmn5co 4AeA4bhIzy7m9FXq/a6CR13CU8GM2JwZzs+Wkp65yIudfXCuW3CweTz/vtT4F9t4Cvqr Q01PG6z7Bv4KDYe16BKwCg6E1qI5UEDmoHMEfnvyZaWYnbilhUymhhsHysJmYmBaBkeW ilgw== X-Gm-Message-State: AOJu0YxxMimZukHXT8hYP2rAiH5qaz6HtLC2K/KX/fTC6XSMsxCKH4OH y0coNwIkNDVY73C41x5cNUCkULEeBheV0Ez6sy4R33owNQlEPDuOAJu2CFkf6/aJ6jtOrmTHnst VGTYYRoJhrKvDR/BCDdh6JFt5y/Lww3i/P2s8Qs7JZgVdpgpIYuCVZxxoUCI3 X-Gm-Gg: ASbGnctfL2njH6sW7A/M96EZHYJR5nmiRKjxwONrEk7BxVWmKHWbWKgNdxOzsO63kZ6 wwvaxzSE2gPeQxkzW2WNwkgQH0EOlYl+aCcO3sLxmvrVGm3G1qO/LI97BV4OAe9MXhkoAYlS1Zi g/HvTGIf1Iy6a54oPuhCPq/kAlvVG0nbIWDALAoaWjQYcyjDFghjmnKTT41JkTDcxg1cueMJSVu XE+BIemCA4Bz1Ryvi1fUUaind7BWk46MKehg2rSYutGMaafXQJ/Uk5v+rLmaJPJ0S8Q+e1/KUnr 7EvcPoaEGbw6bkmA9xvNJaGm64y6vDEaqrAw X-Google-Smtp-Source: AGHT+IGfDYcFg+szkkEGebG8zYzz5XgLOdn/zPq1Idlx8gLqQbbOLaB9MODyk2c4jRJvDg7JVaBz/1Gl2MGO X-Received: by 2002:a05:6e02:12cf:b0:3da:7cb7:79c with SMTP id e9e14a558f8ab-3db842dea53mr183025975ab.13.1747792160934; Tue, 20 May 2025 18:49:20 -0700 (PDT) Received: from postal.iol.unh.edu (postal.iol.unh.edu. [2606:4100:3880:1234::84]) by smtp-relay.gmail.com with ESMTPS id e9e14a558f8ab-3dc8049751asm701075ab.48.2025.05.20.18.49.20 (version=TLS1_2 cipher=ECDHE-ECDSA-AES128-GCM-SHA256 bits=128/128); Tue, 20 May 2025 18:49:20 -0700 (PDT) X-Relaying-Domain: iol.unh.edu Date: Tue, 20 May 2025 18:49:20 -0700 (PDT) Message-ID: <682d3120.050a0220.e8071.3f88SMTPIN_ADDED_MISSING@mx.google.com> Received: from [172.17.0.2] (unknown [172.18.0.76]) by postal.iol.unh.edu (Postfix) with ESMTP id 67ABB6052471; Tue, 20 May 2025 21:49:20 -0400 (EDT) Subject: |SUCCESS| pw153546 [PATCH] eal: fix return value of lcore role From: dpdklab@iol.unh.edu To: Test Report Cc: dpdk-test-reports@iol.unh.edu In-Reply-To: <20250520201726.7420-1-pbhagavatula@marvell.com> References: <20250520201726.7420-1-pbhagavatula@marvell.com> Content-Type: text/plain X-BeenThere: test-report@dpdk.org X-Mailman-Version: 2.1.29 Precedence: list List-Id: automatic DPDK test reports List-Unsubscribe: , List-Archive: List-Post: List-Help: List-Subscribe: , Errors-To: test-report-bounces@dpdk.org Test-Label: iol-unit-arm64-testing Test-Status: SUCCESS http://dpdk.org/patch/153546 _Testing PASS_ Submitter: Pavan Nikhilesh Bhagavatula Date: Tuesday, May 20 2025 20:17:26 DPDK git baseline: Repo:dpdk Branch: master CommitID:117e86c4b96ed761e9a7ab766261208fe81bf5ca 153546 --> testing pass Upstream job id: Generic-Unit-Test-DPDK#339380 Test environment and result as below: +-----------------------------+--------------+---------------------------+------------------------------+----------------+ | Environment | lpm_autotest | cryptodev_sw_zuc_autotest | cryptodev_sw_snow3g_autotest | dpdk_unit_test | +=============================+==============+===========================+==============================+================+ | Ubuntu 20.04 ARM SVE | PASS | SKIPPED | SKIPPED | SKIPPED | +-----------------------------+--------------+---------------------------+------------------------------+----------------+ | Debian 12 (arm) | SKIPPED | PASS | PASS | PASS | +-----------------------------+--------------+---------------------------+------------------------------+----------------+ | CentOS Stream 10 (ARM) | SKIPPED | SKIPPED | SKIPPED | PASS | +-----------------------------+--------------+---------------------------+------------------------------+----------------+ | CentOS Stream 9 (ARM) | SKIPPED | SKIPPED | SKIPPED | PASS | +-----------------------------+--------------+---------------------------+------------------------------+----------------+ | Fedora 40 (ARM Clang) | SKIPPED | SKIPPED | SKIPPED | PASS | +-----------------------------+--------------+---------------------------+------------------------------+----------------+ | Fedora 41 (ARM) | SKIPPED | SKIPPED | SKIPPED | PASS | +-----------------------------+--------------+---------------------------+------------------------------+----------------+ | Fedora 40 (ARM) | SKIPPED | SKIPPED | SKIPPED | PASS | +-----------------------------+--------------+---------------------------+------------------------------+----------------+ | Ubuntu 22.04 (ARM) | SKIPPED | SKIPPED | SKIPPED | PASS | +-----------------------------+--------------+---------------------------+------------------------------+----------------+ | Fedora 41 (ARM Clang) | SKIPPED | SKIPPED | SKIPPED | PASS | +-----------------------------+--------------+---------------------------+------------------------------+----------------+ | RHEL9 (ARM) | SKIPPED | SKIPPED | SKIPPED | PASS | +-----------------------------+--------------+---------------------------+------------------------------+----------------+ | Ubuntu 24.04 (ARM) | SKIPPED | SKIPPED | SKIPPED | PASS | +-----------------------------+--------------+---------------------------+------------------------------+----------------+ | Ubuntu 20.04 (ARM) | SKIPPED | SKIPPED | SKIPPED | PASS | +-----------------------------+--------------+---------------------------+------------------------------+----------------+ | 32-bit Ubuntu 22.04.4 (ARM) | SKIPPED | SKIPPED | SKIPPED | PASS | +-----------------------------+--------------+---------------------------+------------------------------+----------------+ Ubuntu 20.04 ARM SVE Kernel: Depends on container host Compiler: gcc (Ubuntu 10.5.0-1ubuntu1~20.04) 10.5.0 Debian 12 (arm) Kernel: Depends on container host Compiler: gcc (Debian 12.2.0-14) 12.2.0 CentOS Stream 10 (ARM) Kernel: Depends on container host Compiler: gcc 14.2.1 20241104 (Red Hat 14.2.1-6) CentOS Stream 9 (ARM) Kernel: Depends on container host Compiler: gcc 11.5.0 20240719 (Red Hat 11.5.0-2) Fedora 40 (ARM Clang) Kernel: Depends on container host Compiler: clang 18.1.8 (Fedora 18.1.8-1.fc40) Fedora 41 (ARM) Kernel: Depends on container host Compiler: gcc 14.2.1 20240912 (Red Hat 14.2.1-3) Fedora 40 (ARM) Kernel: Depends on container host Compiler: gcc 14.2.1 20240912 (Red Hat 14.2.1-3) Ubuntu 22.04 (ARM) Kernel: Depends on container host Compiler: gcc (Ubuntu 11.4.0-1ubuntu1~22.04) 11.4.0 Fedora 41 (ARM Clang) Kernel: Depends on container host Compiler: clang 19.1.5 (Fedora 19.1.5-1.fc41) RHEL9 (ARM) Kernel: Depends on container host Compiler: gcc 11.5.0 20240719 (Red Hat 11.5.0-2) Ubuntu 24.04 (ARM) Kernel: Depends on container host Compiler: gcc (Ubuntu 13.3.0-6ubuntu2~24.04) 13.3.0 Ubuntu 20.04 (ARM) Kernel: Depends on container host Compiler: gcc (Ubuntu 9.4.0-1ubuntu1~20.04.2) 9.4.0 32-bit Ubuntu 22.04.4 (ARM) Kernel: 5.15.83+ aarch64 Compiler: gcc (Ubuntu 11.4.0-1ubuntu1~22.04) 11.4.0 To view detailed results, visit: https://lab.dpdk.org/results/dashboard/patchsets/33215/ UNH-IOL DPDK Community Lab To manage your email subscriptions, visit: https://lab.dpdk.org/results/dashboard/preferences/subscriptions/