From mboxrd@z Thu Jan 1 00:00:00 1970 Return-Path: Received: from mails.dpdk.org (mails.dpdk.org [217.70.189.124]) by inbox.dpdk.org (Postfix) with ESMTP id 13ED0467A4 for ; Wed, 21 May 2025 04:06:16 +0200 (CEST) Received: from mails.dpdk.org (localhost [127.0.0.1]) by mails.dpdk.org (Postfix) with ESMTP id D78E040E31; Wed, 21 May 2025 04:06:15 +0200 (CEST) Received: from mail-il1-f226.google.com (mail-il1-f226.google.com [209.85.166.226]) by mails.dpdk.org (Postfix) with ESMTP id 7B8AE40E2D for ; Wed, 21 May 2025 04:06:14 +0200 (CEST) Received: by mail-il1-f226.google.com with SMTP id e9e14a558f8ab-3dc6f6530c5so19271625ab.3 for ; Tue, 20 May 2025 19:06:14 -0700 (PDT) DKIM-Signature: v=1; a=rsa-sha256; c=relaxed/relaxed; d=iol.unh.edu; s=unh-iol; t=1747793173; x=1748397973; darn=dpdk.org; h=references:in-reply-to:cc:to:from:subject:message-id:date:from:to :cc:subject:date:message-id:reply-to; bh=6UtimYz1IGBY9MdZTrF82ziL/OM1zUY5CjeMSCLNkiE=; b=deKRUsBJZo5WzMFef5loy1TPWZrYlE0hyDnvIYVDrSNsLzxcrGYO8btFe6ikcl3AUV UlL0dj9uEdJVWMxLpTZpSnaPCNXsakQbjOFsSDGB2sAy6GmuDLuCbqypnHUfODQuI4qw dPbFkU8OLJ4wImuJtFNcGH6LU7U9wM+zVoG0Q= X-Google-DKIM-Signature: v=1; a=rsa-sha256; c=relaxed/relaxed; d=1e100.net; s=20230601; t=1747793173; x=1748397973; h=references:in-reply-to:cc:to:from:subject:message-id:date :x-gm-message-state:from:to:cc:subject:date:message-id:reply-to; bh=6UtimYz1IGBY9MdZTrF82ziL/OM1zUY5CjeMSCLNkiE=; b=PUksWJ5V44vOVqrBCRgUYdVm1tIiGMn23ctWO3jSr2XZxfDQ74HFQutmjx11pPpasN maX62jmyWJO7NB+CYWoWNrYEArGLkGuX8fKw8eu3VKfdTP1TaTFkW7/9tICzaMs9D3xA nnl56dRJVMZSW9YYFDrGlh5B96pJjs/1s5V08W2/uiLZ5LmbLh2cfksddza2dDmJ3pRn ZYcW31H8YmNjd/lBNofPr3ExbPdTon68K9VqGT8QQDzkNoyBDcCj0IGNyPNIK/u0wpOu n2VzSla4xZQFkZLC6ehidOO62lI7ONYDFULXsChmYJ8cbxxQJ6K6Tnb/HevP1hXW9waE h7SQ== X-Gm-Message-State: AOJu0YzRT5j7kw1noqYJirQSB5x3sWbxdiyBaKGEsbDzRne0ioXAF1RF AhzoQnwBSY3oIhU7NTA9HN/44ea2gn6WNIWGc/bbzWEFlAxxWEhNRRUV+Yz0BMjAHTKNRyfN5e0 mq4XpjLzMprbLqhx1KvePDlTYNFNN8EJ+aMgW5to6OiDC X-Gm-Gg: ASbGncsK/ng8dXExE/Qy+0ZcWa9OMQilvUX8er8HRwdWx+n+PBjFpfY1wo5C45aui9l b5NrY+2dULGSrkut/gyxytFfPsuUgTrT64S0ZX5+lBBarGMkj+AtYcrZMRHaNlZ+PJoNT4HU7mm R06DLBsR40RWpGLjdwB3KJBceD6yXctvDZ8WU7kCklxa8P0Cu3UxMxVy8l1dyAHcEHzgS3WgNXn eZxC8JSAHhBfe1wFQKFqVEHpa3+wUCsmeMw3mwIjY7caKjH+xG6Nntbb6M9MYmICidKedEODhK/ 4Pydtl6RuOWPJaxm7u2BdORXzg3bUJRnTrM3BipzvUVHbj37oJb9b7Xts04= X-Google-Smtp-Source: AGHT+IEDylB3sXlR63c1TXjVengiIcg2LCCigLVlNdRBDKjI3Ra4AvStE+Bz9n+Duw1vsd/W/H4rjEHt1+E5 X-Received: by 2002:a92:cda6:0:b0:3d5:8103:1a77 with SMTP id e9e14a558f8ab-3db84296cc4mr222578085ab.1.1747793173438; Tue, 20 May 2025 19:06:13 -0700 (PDT) Received: from postal.iol.unh.edu (postal.iol.unh.edu. [132.177.123.84]) by smtp-relay.gmail.com with ESMTPS id e9e14a558f8ab-3dc861d735esm79475ab.49.2025.05.20.19.06.13 (version=TLS1_2 cipher=ECDHE-ECDSA-AES128-GCM-SHA256 bits=128/128); Tue, 20 May 2025 19:06:13 -0700 (PDT) X-Relaying-Domain: iol.unh.edu Date: Tue, 20 May 2025 19:06:13 -0700 (PDT) Message-ID: <682d3515.050a0220.28a2eb.06fcSMTPIN_ADDED_MISSING@mx.google.com> Received: from [172.17.0.2] (unknown [172.18.0.76]) by postal.iol.unh.edu (Postfix) with ESMTP id D855F6052471; Tue, 20 May 2025 22:06:12 -0400 (EDT) Subject: |SUCCESS| pw153546 [PATCH] eal: fix return value of lcore role From: dpdklab@iol.unh.edu To: Test Report Cc: dpdk-test-reports@iol.unh.edu In-Reply-To: <20250520201726.7420-1-pbhagavatula@marvell.com> References: <20250520201726.7420-1-pbhagavatula@marvell.com> Content-Type: text/plain X-BeenThere: test-report@dpdk.org X-Mailman-Version: 2.1.29 Precedence: list List-Id: automatic DPDK test reports List-Unsubscribe: , List-Archive: List-Post: List-Help: List-Subscribe: , Errors-To: test-report-bounces@dpdk.org Test-Label: iol-compile-amd64-testing Test-Status: SUCCESS http://dpdk.org/patch/153546 _Testing PASS_ Submitter: Pavan Nikhilesh Bhagavatula Date: Tuesday, May 20 2025 20:17:26 DPDK git baseline: Repo:dpdk Branch: master CommitID:117e86c4b96ed761e9a7ab766261208fe81bf5ca 153546 --> testing pass Upstream job id: Generic-DPDK-Compile-Meson#389787 Test environment and result as below: +-----------------------------------+--------------------+-------------------+------------------+-------------------+-------------------------+----------------------+ | Environment | dpdk_meson_compile | dpdk_compile_spdk | dpdk_compile_ovs | dpdk_msvc_compile | dpdk_llvm_clang_compile | dpdk_mingw64_compile | +===================================+====================+===================+==================+===================+=========================+======================+ | CentOS Stream 9 | PASS | PASS | SKIPPED | SKIPPED | SKIPPED | SKIPPED | +-----------------------------------+--------------------+-------------------+------------------+-------------------+-------------------------+----------------------+ | Debian 12 | PASS | PASS | SKIPPED | SKIPPED | SKIPPED | SKIPPED | +-----------------------------------+--------------------+-------------------+------------------+-------------------+-------------------------+----------------------+ | CentOS Stream 10 | PASS | SKIPPED | SKIPPED | SKIPPED | SKIPPED | SKIPPED | +-----------------------------------+--------------------+-------------------+------------------+-------------------+-------------------------+----------------------+ | Fedora 41 (Clang) | PASS | PASS | PASS | SKIPPED | SKIPPED | SKIPPED | +-----------------------------------+--------------------+-------------------+------------------+-------------------+-------------------------+----------------------+ | Fedora 40 (Clang) | PASS | PASS | SKIPPED | SKIPPED | SKIPPED | SKIPPED | +-----------------------------------+--------------------+-------------------+------------------+-------------------+-------------------------+----------------------+ | Fedora 41 | PASS | PASS | PASS | SKIPPED | SKIPPED | SKIPPED | +-----------------------------------+--------------------+-------------------+------------------+-------------------+-------------------------+----------------------+ | Fedora 40 | PASS | PASS | SKIPPED | SKIPPED | SKIPPED | SKIPPED | +-----------------------------------+--------------------+-------------------+------------------+-------------------+-------------------------+----------------------+ | openSUSE Leap 15 | PASS | SKIPPED | SKIPPED | SKIPPED | SKIPPED | SKIPPED | +-----------------------------------+--------------------+-------------------+------------------+-------------------+-------------------------+----------------------+ | RHEL8 | PASS | SKIPPED | SKIPPED | SKIPPED | SKIPPED | SKIPPED | +-----------------------------------+--------------------+-------------------+------------------+-------------------+-------------------------+----------------------+ | RHEL9 | PASS | SKIPPED | SKIPPED | SKIPPED | SKIPPED | SKIPPED | +-----------------------------------+--------------------+-------------------+------------------+-------------------+-------------------------+----------------------+ | Ubuntu 20.04 | PASS | SKIPPED | SKIPPED | SKIPPED | SKIPPED | SKIPPED | +-----------------------------------+--------------------+-------------------+------------------+-------------------+-------------------------+----------------------+ | Ubuntu 22.04 | PASS | PASS | SKIPPED | SKIPPED | SKIPPED | SKIPPED | +-----------------------------------+--------------------+-------------------+------------------+-------------------+-------------------------+----------------------+ | Ubuntu 24.04 | PASS | PASS | PASS | SKIPPED | SKIPPED | SKIPPED | +-----------------------------------+--------------------+-------------------+------------------+-------------------+-------------------------+----------------------+ | Alpine | PASS | SKIPPED | SKIPPED | SKIPPED | SKIPPED | SKIPPED | +-----------------------------------+--------------------+-------------------+------------------+-------------------+-------------------------+----------------------+ | Ubuntu 24.04 32 Bit Cross Compile | PASS | SKIPPED | SKIPPED | SKIPPED | SKIPPED | SKIPPED | +-----------------------------------+--------------------+-------------------+------------------+-------------------+-------------------------+----------------------+ | FreeBSD 13.5 | PASS | SKIPPED | SKIPPED | SKIPPED | SKIPPED | SKIPPED | +-----------------------------------+--------------------+-------------------+------------------+-------------------+-------------------------+----------------------+ | FreeBSD 14.2 | PASS | SKIPPED | SKIPPED | SKIPPED | SKIPPED | SKIPPED | +-----------------------------------+--------------------+-------------------+------------------+-------------------+-------------------------+----------------------+ | Windows Server 2022 | SKIPPED | SKIPPED | SKIPPED | PASS | PASS | PASS | +-----------------------------------+--------------------+-------------------+------------------+-------------------+-------------------------+----------------------+ CentOS Stream 9 Kernel: Depends on container host Compiler: gcc 11.5.0 20240719 (Red Hat 11.5.0-2) Debian 12 Kernel: Depends on container host Compiler: gcc (Debian 12.2.0-14) 12.2.0 CentOS Stream 10 Kernel: Depends on container host Compiler: gcc 14.2.1 20241104 (Red Hat 14.2.1-6) Fedora 41 (Clang) Kernel: Depends on container host Compiler: clang 19.1.5 (Fedora 19.1.5-1.fc41) Fedora 40 (Clang) Kernel: Depends on container host Compiler: clang 18.1.8 (Fedora 18.1.8-1.fc40) Fedora 41 Kernel: Depends on container host Compiler: gcc 14.2.1 20240912 (Red Hat 14.2.1-3) Fedora 40 Kernel: Depends on container host Compiler: gcc 14.2.1 20240912 (Red Hat 14.2.1-3) openSUSE Leap 15 Kernel: Depends on container host Compiler: gcc (SUSE Linux) 7.5.0 RHEL8 Kernel: Depends on container host Compiler: gcc 8.5.0 20210514 (Red Hat 8.5.0-22) RHEL9 Kernel: Depends on container host Compiler: gcc 11.5.0 20240719 (Red Hat 11.5.0-2) Ubuntu 20.04 Kernel: Depends on container host Compiler: gcc (Ubuntu 9.4.0-1ubuntu1~20.04.2) 9.4.0 Ubuntu 22.04 Kernel: Depends on container host Compiler: gcc (Ubuntu 11.4.0-1ubuntu1~22.04) 11.4.0 Ubuntu 24.04 Kernel: Depends on container host Compiler: gcc (Ubuntu 13.3.0-6ubuntu2~24.04) 13.3.0 Alpine Kernel: Depends on container host Compiler: gcc (Alpine 14.2.0) 14.2.0 Ubuntu 24.04 32 Bit Cross Compile Kernel: Depends on container host Compiler: gcc (Ubuntu 13.3.0-6ubuntu2~24.04) 13.3.0 FreeBSD 13.5 Kernel: 13.5-RELEASE Compiler: clang 19.1.7 FreeBSD 14.2 Kernel: 14.2-RELEASE Compiler: clang 18.1.6 Windows Server 2022 Kernel: 10.0.20348.2031 Compiler: clang 15.0.7, gcc 14.1.0 (MinGW), and MSVC VS 19.39.33521 To view detailed results, visit: https://lab.dpdk.org/results/dashboard/patchsets/33215/ UNH-IOL DPDK Community Lab To manage your email subscriptions, visit: https://lab.dpdk.org/results/dashboard/preferences/subscriptions/