From mboxrd@z Thu Jan 1 00:00:00 1970 Return-Path: Received: from mails.dpdk.org (mails.dpdk.org [217.70.189.124]) by inbox.dpdk.org (Postfix) with ESMTP id C2D7A467A4 for ; Wed, 21 May 2025 04:27:03 +0200 (CEST) Received: from mails.dpdk.org (localhost [127.0.0.1]) by mails.dpdk.org (Postfix) with ESMTP id 9BDA040E32; Wed, 21 May 2025 04:27:03 +0200 (CEST) Received: from mail-pg1-f225.google.com (mail-pg1-f225.google.com [209.85.215.225]) by mails.dpdk.org (Postfix) with ESMTP id A4DC440E31 for ; Wed, 21 May 2025 04:27:01 +0200 (CEST) Received: by mail-pg1-f225.google.com with SMTP id 41be03b00d2f7-7fd581c2bf4so5044620a12.3 for ; Tue, 20 May 2025 19:27:01 -0700 (PDT) DKIM-Signature: v=1; a=rsa-sha256; c=relaxed/relaxed; d=iol.unh.edu; s=unh-iol; t=1747794421; x=1748399221; darn=dpdk.org; h=references:in-reply-to:cc:to:from:subject:message-id:date:from:to :cc:subject:date:message-id:reply-to; bh=SeUz3rU/61ciDF0Iv6mMqjfoUitlys4qFmQnpsPGlj0=; b=Jsi4kerw2+fZM+XNCueDxPf56ePIpP5zot+cTQ0bJHzHKsEBIcZocYnRsQkE5w2wiC V83kH7LMmgqYbtMgQ0ORJxm3PkIzQsUkM84Fz1s0sBspvPm3O548soCoDJ0glxXwDZw6 Z+lP+hwuJmNUr4kdl+GzF/uJ8pioa+cJ0WmPU= X-Google-DKIM-Signature: v=1; a=rsa-sha256; c=relaxed/relaxed; d=1e100.net; s=20230601; t=1747794421; x=1748399221; h=references:in-reply-to:cc:to:from:subject:message-id:date :x-gm-message-state:from:to:cc:subject:date:message-id:reply-to; bh=SeUz3rU/61ciDF0Iv6mMqjfoUitlys4qFmQnpsPGlj0=; b=m1VALO+RFK4vl0jY556qvX6uUrgU9dNSNZ8IOtQPdvnj3ak/A60bte6fWpakOSzIrM U3Cerr042BL6ZTiKbSl3TZmsxiPZWrYgRvfpW/q2fPO0AHi6cDANtI4HFJdx6VGNNHjt 9oiP6mi5lWQFdH/oJDfpJWfyli7lF8pCX+0B/QyrUD0Ff/lKGnXTWrfx18uMHdsOCL86 9XCe6qpKdn6hCdnEP904dSu0y1y1gKD+si6czPsAQniKDWY46vePwfrVt2x7KTbhIlY0 9Mt6LnISp+8+HUowZVDn63y4wcZwsr04dSEy+c8PGSeYKg/kt5VQJA5gqd5Nsu7hZ+Bg 9nfw== X-Gm-Message-State: AOJu0Yz+iQ8m1p+z0Hf9yvAmDw/odymrl8NbnZqg5mU6NO8OKpz8DULc bOkpbhbBxEABzncYNM0Tg/h50ieuor4RbaCqyz/7BchFjV21OukIMFHSvwCyEXaINzXXpDSO7LS fgATaocSOEYzovB6HdkMcHi3RDLjqkSTyYSIE4hLaCr46 X-Gm-Gg: ASbGncuE+njGlYeFgtx8RAuF2H0U4gI+fShkIqIfO8bVp7T+C/A69FnGY5WzIYhmnpr vovCykmvt1WzJHVB3mNp3DOK5j8jQtK1UlFeoCZkDTLEX9ls+5OuC/5OxhuSTfAnQudjGlY18O0 E2282urV3UfVf8X6K3d4+dQspfjCeUTwxC+GS834ToryQ1Vjuls48lD9U65zmqGj5+Jp3rbQlCH ruoKBJL6LSmirfzejwdhg5LmkzoG2QGRJACyOA3jHD4oRr+rQe8PvQuioi1Ix/i+EjjzusPD9CX KtNA5+sf/0ZWI3czgq63SLZIscqS1t4Tn0rhuy9YAOsFwtzTHbZE7d+SYYY= X-Google-Smtp-Source: AGHT+IHQfOPvHsKR6Qsay7vUSmVrH38r1lkvIPQgpob613NhcqMcn15RLuI1FxDJpx7Inq4zqKT+cH7RXE+z X-Received: by 2002:a17:903:fae:b0:224:1af1:87ed with SMTP id d9443c01a7336-231d4532904mr234685455ad.27.1747794420722; Tue, 20 May 2025 19:27:00 -0700 (PDT) Received: from postal.iol.unh.edu (postal.iol.unh.edu. [132.177.123.84]) by smtp-relay.gmail.com with ESMTPS id d9443c01a7336-231d4e98118sm5446785ad.95.2025.05.20.19.27.00 (version=TLS1_2 cipher=ECDHE-ECDSA-AES128-GCM-SHA256 bits=128/128); Tue, 20 May 2025 19:27:00 -0700 (PDT) X-Relaying-Domain: iol.unh.edu Date: Tue, 20 May 2025 19:27:00 -0700 (PDT) Message-ID: <682d39f4.170a0220.13d99e.e464SMTPIN_ADDED_MISSING@mx.google.com> Received: from [172.17.0.2] (unknown [172.18.0.76]) by postal.iol.unh.edu (Postfix) with ESMTP id 934966052471; Tue, 20 May 2025 22:26:59 -0400 (EDT) Subject: |SUCCESS| pw153547 [PATCH] net/mana: check for vendor_part_id when p From: dpdklab@iol.unh.edu To: Test Report Cc: dpdk-test-reports@iol.unh.edu In-Reply-To: <1747781296-19645-1-git-send-email-longli@linuxonhyperv.com> References: <1747781296-19645-1-git-send-email-longli@linuxonhyperv.com> Content-Type: text/plain X-BeenThere: test-report@dpdk.org X-Mailman-Version: 2.1.29 Precedence: list List-Id: automatic DPDK test reports List-Unsubscribe: , List-Archive: List-Post: List-Help: List-Subscribe: , Errors-To: test-report-bounces@dpdk.org Test-Label: iol-compile-arm64-testing Test-Status: SUCCESS http://dpdk.org/patch/153547 _Testing PASS_ Submitter: Long Li Date: Tuesday, May 20 2025 22:48:16 DPDK git baseline: Repo:dpdk Branch: master CommitID:a0dde342cc312fd75b63281f63d757db7482cdab 153547 --> testing pass Upstream job id: Generic-DPDK-Compile-Meson#389759 Test environment and result as below: +----------------------------------------+--------------------+ | Environment | dpdk_meson_compile | +========================================+====================+ | RHEL9 (ARM) | PASS | +----------------------------------------+--------------------+ | Fedora 40 (ARM Clang) | PASS | +----------------------------------------+--------------------+ | Fedora 41 (ARM Clang) | PASS | +----------------------------------------+--------------------+ | Ubuntu 20.04 ARM GCC Cross Compile | PASS | +----------------------------------------+--------------------+ | Fedora 40 (ARM) | PASS | +----------------------------------------+--------------------+ | Ubuntu 20.04 ARM SVE | PASS | +----------------------------------------+--------------------+ | Debian 12 with MUSDK | PASS | +----------------------------------------+--------------------+ | Fedora 41 (ARM) | PASS | +----------------------------------------+--------------------+ | Ubuntu 20.04 (ARM) | PASS | +----------------------------------------+--------------------+ | Ubuntu 22.04 (ARM) | PASS | +----------------------------------------+--------------------+ | Ubuntu 24.04 (ARM) | PASS | +----------------------------------------+--------------------+ | CentOS Stream 10 (ARM) | PASS | +----------------------------------------+--------------------+ | Ubuntu 20.04 ARM Clang Cross Compile | PASS | +----------------------------------------+--------------------+ | CentOS Stream 9 (ARM) | PASS | +----------------------------------------+--------------------+ | Debian 12 (arm) | PASS | +----------------------------------------+--------------------+ | Ubuntu 20.04 aarch32 GCC Cross Compile | PASS | +----------------------------------------+--------------------+ RHEL9 (ARM) Kernel: Depends on container host Compiler: gcc 11.5.0 20240719 (Red Hat 11.5.0-2) Fedora 40 (ARM Clang) Kernel: Depends on container host Compiler: clang 18.1.8 (Fedora 18.1.8-1.fc40) Fedora 41 (ARM Clang) Kernel: Depends on container host Compiler: clang 19.1.5 (Fedora 19.1.5-1.fc41) Ubuntu 20.04 ARM GCC Cross Compile Kernel: Depends on container host Compiler: aarch64-linux-gnu-gcc (Ubuntu 9.4.0-1ubuntu1~20.04.2) 9.4.0 Fedora 40 (ARM) Kernel: Depends on container host Compiler: gcc 14.2.1 20240912 (Red Hat 14.2.1-3) Ubuntu 20.04 ARM SVE Kernel: Depends on container host Compiler: gcc (Ubuntu 10.5.0-1ubuntu1~20.04) 10.5.0 Debian 12 with MUSDK Kernel: Depends on container host Compiler: gcc (Debian 12.2.0-14) 12.2.0 Fedora 41 (ARM) Kernel: Depends on container host Compiler: gcc 14.2.1 20240912 (Red Hat 14.2.1-3) Ubuntu 20.04 (ARM) Kernel: Depends on container host Compiler: gcc (Ubuntu 9.4.0-1ubuntu1~20.04.2) 9.4.0 Ubuntu 22.04 (ARM) Kernel: Depends on container host Compiler: gcc (Ubuntu 11.4.0-1ubuntu1~22.04) 11.4.0 Ubuntu 24.04 (ARM) Kernel: Depends on container host Compiler: gcc (Ubuntu 13.3.0-6ubuntu2~24.04) 13.3.0 CentOS Stream 10 (ARM) Kernel: Depends on container host Compiler: gcc 14.2.1 20241104 (Red Hat 14.2.1-6) Ubuntu 20.04 ARM Clang Cross Compile Kernel: Depends on container host Compiler: clang 10.0.0-4ubuntu1 CentOS Stream 9 (ARM) Kernel: Depends on container host Compiler: gcc 11.5.0 20240719 (Red Hat 11.5.0-2) Debian 12 (arm) Kernel: Depends on container host Compiler: gcc (Debian 12.2.0-14) 12.2.0 Ubuntu 20.04 aarch32 GCC Cross Compile Kernel: Depends on container host Compiler: gcc 9.4.0 To view detailed results, visit: https://lab.dpdk.org/results/dashboard/patchsets/33216/ UNH-IOL DPDK Community Lab To manage your email subscriptions, visit: https://lab.dpdk.org/results/dashboard/preferences/subscriptions/