From mboxrd@z Thu Jan 1 00:00:00 1970 Return-Path: Received: from mails.dpdk.org (mails.dpdk.org [217.70.189.124]) by inbox.dpdk.org (Postfix) with ESMTP id 25BD5467A4 for ; Wed, 21 May 2025 05:46:33 +0200 (CEST) Received: from mails.dpdk.org (localhost [127.0.0.1]) by mails.dpdk.org (Postfix) with ESMTP id EB9A540E35; Wed, 21 May 2025 05:46:32 +0200 (CEST) Received: from mail-pj1-f100.google.com (mail-pj1-f100.google.com [209.85.216.100]) by mails.dpdk.org (Postfix) with ESMTP id 8B68940E34 for ; Wed, 21 May 2025 05:46:31 +0200 (CEST) Received: by mail-pj1-f100.google.com with SMTP id 98e67ed59e1d1-30e80f03760so4637891a91.0 for ; Tue, 20 May 2025 20:46:31 -0700 (PDT) DKIM-Signature: v=1; a=rsa-sha256; c=relaxed/relaxed; d=iol.unh.edu; s=unh-iol; t=1747799190; x=1748403990; darn=dpdk.org; h=references:in-reply-to:cc:to:from:subject:message-id:date:from:to :cc:subject:date:message-id:reply-to; bh=l9HfNiSZJJNbHXn/BreGDxc7GKYJrWx1PEZYXzq7Y94=; b=gQrRk2WdsjjVNZ+nH9mbTwEdgxQI8w9JOD++gHRuRO7fKvpm+LzQDH794mdbe5u8T+ RU2NRUAiE4Ny9W21ooTM9BPkTvEDfasdxSQtYAr+zlESpx1nRMVaSc7DxStZ9NWhARZQ tetPZA4KSJ4CP6XrlUNns/Ck89Zj6uQ094nF8= X-Google-DKIM-Signature: v=1; a=rsa-sha256; c=relaxed/relaxed; d=1e100.net; s=20230601; t=1747799190; x=1748403990; h=references:in-reply-to:cc:to:from:subject:message-id:date :x-gm-message-state:from:to:cc:subject:date:message-id:reply-to; bh=l9HfNiSZJJNbHXn/BreGDxc7GKYJrWx1PEZYXzq7Y94=; b=fjWDJ7ldoTWGThQdcajQ68UmvP5nGfyYLlBqIx88rNKr0iqRIuZxQz0JAfY2ScaLPO tbVCAlb6Un2z8mbBO+I4ZkM58ItDHSVUkieOsL2tOHYbIQt6jbIsfyrElhht9ZDg00sl nLGRrabEaGoH7CvKHSqdMTIiWtRYDEPOJ6acUtVP7yMhm/c3dHWjnNo700WDrblJvIN4 hA5rO3fingTxP6omtXzrvH9HeJ8EexMCGLj+N6vKUCXsLAldaXJJZiTW84gcEa6mLuAJ PrAy8uKbhnzC3pAIMmfXNZ+nQIs7l1N1gUtGXv5WZXp86EjKQP1dAmOWtVoIzNWyTpFR y/aA== X-Gm-Message-State: AOJu0YyOVlT/hs4deULuRn5ZR6QNqYw1/OkobVCcvMmoNZ3LuW1J0uCW YyHS3kZAx8xPnEkghXFkWkNCRUIzvedmSw89+sMwZVJ/DY/5m4ILPz7e05mt6WT/rEu2L4da+qm MS4VzVFnJz8WsRTn9RUh9rCrvKb0H+kzyu26OAQzcNC+Y X-Gm-Gg: ASbGncs2I4OpN1tCXTpM1GaNdyMJaUKYh+4iV7toJ+da0SWSA/pVk2r2KI3Y+RQmEBt B5j1xFVEpNKj/t/HAsXUtEzK3e6hi3L4qixxBbzo4/AuT1Ps73cJOyWFfU7ZDxu+weZxOi6VPnx oKK2fzMSdG6rpyAXc0S52VDVgSJzFJ3olzq/c0cnPeIgHmXBxXT+KJhcPxE6SUOKkWDrntR934G 0WHW/Tq3UQH++03e3Y+BQ+GpS5lkz+rvR4l2N0eC1dyeYfg/aq3kdbBmnPMIjN/lFAslxiX4A+I VX66K2PIpIEUK7dvuNbNNbD0Fqb96p8qoTeFRScGv8tfZLbE+KSatrp83AU= X-Google-Smtp-Source: AGHT+IE4MnwUCS0BV0N94VsIK5szX6ec9MxkiiJ5tpz9d6bz5hOdnCeVT+lL7MbeTFQ8sBoURhcNh1nUOP1i X-Received: by 2002:a17:90b:35ca:b0:2fe:baa3:b8bc with SMTP id 98e67ed59e1d1-30e832258eamr22724582a91.23.1747799190454; Tue, 20 May 2025 20:46:30 -0700 (PDT) Received: from postal.iol.unh.edu (postal.iol.unh.edu. [132.177.123.84]) by smtp-relay.gmail.com with ESMTPS id 98e67ed59e1d1-3108d7151e3sm48226a91.2.2025.05.20.20.46.30 (version=TLS1_2 cipher=ECDHE-ECDSA-AES128-GCM-SHA256 bits=128/128); Tue, 20 May 2025 20:46:30 -0700 (PDT) X-Relaying-Domain: iol.unh.edu Date: Tue, 20 May 2025 20:46:30 -0700 (PDT) Message-ID: <682d4c96.170a0220.1e5301.2994SMTPIN_ADDED_MISSING@mx.google.com> Received: from [172.17.0.2] (unknown [172.18.0.76]) by postal.iol.unh.edu (Postfix) with ESMTP id 93BC26052471; Tue, 20 May 2025 23:46:29 -0400 (EDT) Subject: |SUCCESS| pw153546 [PATCH] eal: fix return value of lcore role From: dpdklab@iol.unh.edu To: Test Report Cc: dpdk-test-reports@iol.unh.edu In-Reply-To: <20250520201726.7420-1-pbhagavatula@marvell.com> References: <20250520201726.7420-1-pbhagavatula@marvell.com> Content-Type: text/plain X-BeenThere: test-report@dpdk.org X-Mailman-Version: 2.1.29 Precedence: list List-Id: automatic DPDK test reports List-Unsubscribe: , List-Archive: List-Post: List-Help: List-Subscribe: , Errors-To: test-report-bounces@dpdk.org Test-Label: iol-compile-arm64-testing Test-Status: SUCCESS http://dpdk.org/patch/153546 _Testing PASS_ Submitter: Pavan Nikhilesh Bhagavatula Date: Tuesday, May 20 2025 20:17:26 DPDK git baseline: Repo:dpdk Branch: master CommitID:117e86c4b96ed761e9a7ab766261208fe81bf5ca 153546 --> testing pass Upstream job id: Generic-DPDK-Compile-Meson#389805 Test environment and result as below: +----------------------------------------+--------------------+ | Environment | dpdk_meson_compile | +========================================+====================+ | RHEL9 (ARM) | PASS | +----------------------------------------+--------------------+ | Ubuntu 20.04 ARM GCC Cross Compile | PASS | +----------------------------------------+--------------------+ | Ubuntu 20.04 ARM SVE | PASS | +----------------------------------------+--------------------+ | Debian 12 with MUSDK | PASS | +----------------------------------------+--------------------+ | Fedora 41 (ARM) | PASS | +----------------------------------------+--------------------+ | Fedora 40 (ARM Clang) | PASS | +----------------------------------------+--------------------+ | Fedora 40 (ARM) | PASS | +----------------------------------------+--------------------+ | Ubuntu 20.04 (ARM) | PASS | +----------------------------------------+--------------------+ | Fedora 41 (ARM Clang) | PASS | +----------------------------------------+--------------------+ | CentOS Stream 10 (ARM) | PASS | +----------------------------------------+--------------------+ | Ubuntu 22.04 (ARM) | PASS | +----------------------------------------+--------------------+ | Ubuntu 24.04 (ARM) | PASS | +----------------------------------------+--------------------+ | CentOS Stream 9 (ARM) | PASS | +----------------------------------------+--------------------+ | Debian 12 (arm) | PASS | +----------------------------------------+--------------------+ | Ubuntu 20.04 ARM Clang Cross Compile | PASS | +----------------------------------------+--------------------+ | Ubuntu 20.04 aarch32 GCC Cross Compile | PASS | +----------------------------------------+--------------------+ RHEL9 (ARM) Kernel: Depends on container host Compiler: gcc 11.5.0 20240719 (Red Hat 11.5.0-2) Ubuntu 20.04 ARM GCC Cross Compile Kernel: Depends on container host Compiler: aarch64-linux-gnu-gcc (Ubuntu 9.4.0-1ubuntu1~20.04.2) 9.4.0 Ubuntu 20.04 ARM SVE Kernel: Depends on container host Compiler: gcc (Ubuntu 10.5.0-1ubuntu1~20.04) 10.5.0 Debian 12 with MUSDK Kernel: Depends on container host Compiler: gcc (Debian 12.2.0-14) 12.2.0 Fedora 41 (ARM) Kernel: Depends on container host Compiler: gcc 14.2.1 20240912 (Red Hat 14.2.1-3) Fedora 40 (ARM Clang) Kernel: Depends on container host Compiler: clang 18.1.8 (Fedora 18.1.8-1.fc40) Fedora 40 (ARM) Kernel: Depends on container host Compiler: gcc 14.2.1 20240912 (Red Hat 14.2.1-3) Ubuntu 20.04 (ARM) Kernel: Depends on container host Compiler: gcc (Ubuntu 9.4.0-1ubuntu1~20.04.2) 9.4.0 Fedora 41 (ARM Clang) Kernel: Depends on container host Compiler: clang 19.1.5 (Fedora 19.1.5-1.fc41) CentOS Stream 10 (ARM) Kernel: Depends on container host Compiler: gcc 14.2.1 20241104 (Red Hat 14.2.1-6) Ubuntu 22.04 (ARM) Kernel: Depends on container host Compiler: gcc (Ubuntu 11.4.0-1ubuntu1~22.04) 11.4.0 Ubuntu 24.04 (ARM) Kernel: Depends on container host Compiler: gcc (Ubuntu 13.3.0-6ubuntu2~24.04) 13.3.0 CentOS Stream 9 (ARM) Kernel: Depends on container host Compiler: gcc 11.5.0 20240719 (Red Hat 11.5.0-2) Debian 12 (arm) Kernel: Depends on container host Compiler: gcc (Debian 12.2.0-14) 12.2.0 Ubuntu 20.04 ARM Clang Cross Compile Kernel: Depends on container host Compiler: clang 10.0.0-4ubuntu1 Ubuntu 20.04 aarch32 GCC Cross Compile Kernel: Depends on container host Compiler: gcc 9.4.0 To view detailed results, visit: https://lab.dpdk.org/results/dashboard/patchsets/33215/ UNH-IOL DPDK Community Lab To manage your email subscriptions, visit: https://lab.dpdk.org/results/dashboard/preferences/subscriptions/