From mboxrd@z Thu Jan 1 00:00:00 1970 Return-Path: Received: from mails.dpdk.org (mails.dpdk.org [217.70.189.124]) by inbox.dpdk.org (Postfix) with ESMTP id 9E929467A8 for ; Wed, 21 May 2025 08:15:07 +0200 (CEST) Received: from mails.dpdk.org (localhost [127.0.0.1]) by mails.dpdk.org (Postfix) with ESMTP id 9A87C40E4D; Wed, 21 May 2025 08:15:07 +0200 (CEST) Received: from mail-qv1-f98.google.com (mail-qv1-f98.google.com [209.85.219.98]) by mails.dpdk.org (Postfix) with ESMTP id 60A8640E4D for ; Wed, 21 May 2025 08:15:06 +0200 (CEST) Received: by mail-qv1-f98.google.com with SMTP id 6a1803df08f44-6f8d8fb211eso23982386d6.3 for ; Tue, 20 May 2025 23:15:06 -0700 (PDT) DKIM-Signature: v=1; a=rsa-sha256; c=relaxed/relaxed; d=iol.unh.edu; s=unh-iol; t=1747808105; x=1748412905; darn=dpdk.org; h=references:in-reply-to:cc:to:from:subject:message-id:date:from:to :cc:subject:date:message-id:reply-to; bh=jT2GfBOVhHJyE2KMDmpvtVDf+VZyDkXaD7YRAbvuQm4=; b=hyKDdXeVhjXj3Fs5yHQN8cKa3Nceequq1jYnETcTCzWSDKVQ53vPaZHxxz5xPJoQja EBPn2RTvHkqa7gV0WQMspmjgUtWekaSuFTwbv/2nf/7goKoSbdE5LALJVKlujF9QjWd9 Yb6m6v5ezY097yWIj+tcmxmc2Pl45jS/aGVrs= X-Google-DKIM-Signature: v=1; a=rsa-sha256; c=relaxed/relaxed; d=1e100.net; s=20230601; t=1747808105; x=1748412905; h=references:in-reply-to:cc:to:from:subject:message-id:date :x-gm-message-state:from:to:cc:subject:date:message-id:reply-to; bh=jT2GfBOVhHJyE2KMDmpvtVDf+VZyDkXaD7YRAbvuQm4=; b=ck+u4rvYTA+8eM2MhPCBnmEEX61gdDzQki19u/cSES/LGqaQYIIUaq/wzXh2Y8fxkw NsUKTVj1uP+3yUJnhMwUjudz0Xrlk7YDUWi9DRIvo0ofcHSu4TTBlsqw6vFyo2DFk3Fr fKQCCb4dLp+2UMY2VYaE1EnL9dgHkJCAVSXxffF8rYDrKQo8+OES5bz5wJtOx8vqCaQ8 3lk3a0mZm9K+Xc7C1p0twLvLrHiq8AkkAm0975ox5zoxrqMUM6TI/G7amIY+MvSoIoXR hcTW+0vbSPNNxOzVTRfLdbL8aokYBRQ+H6y0S/fpq9W0kpQU3KTUAPdvUSKic1t59ngP NQuA== X-Gm-Message-State: AOJu0YwexAVA1CtYCfl+1NhxsEehwUoZfj70TPXROQx/yoGNVVohIn3l jtNvasKY7SVN1dYZyJ/L9ztSxYuBnFTSZRWD1oKucAx+CfVszN/csUBdZvku8Zz7YgZQIkN77Vo ECubewhYv7m4mMeYUeyCXtviCBJBdfaSD9TXtDETb76xL X-Gm-Gg: ASbGncti2VriwNp0F9QebJz4Y2u8iWq9FR2WV6lR5F4CV4WKYE6BMbukicofqTTVhi8 Og/zcP/LX3Pvbvnhd3q2Qqwh7BJ2FDQwErei5/6B1nWZex1To5if+hvm/UnIrpFmawkI6zJu+2N 6qhcpSUI2iocdtvKiiAUB9W61b2IWcYOGELS6KRe+pfuqVVcG3+sr67Q0wXeMNpWyW1G0fxwyqL WresiLw/G/nUGCTEu9VoGGdh5Rm68mimzwPx3baBg2+Il2ZMZxMghbZ1msmHUu4HffpV9G5ZEpb NVIz/ZZv/PCxRhs1Vmt7iqeKhdyrGkJt8o/7SZXpnWVSwE2H7NIBeuc633w= X-Google-Smtp-Source: AGHT+IHlJmt7UDoOdSB6GrknuSwV4YrFNE56QGvtk9d7HizmyEAEkQsx4Fn6y7n+leIiZH13NoHwwejCD1vQ X-Received: by 2002:ad4:4b65:0:b0:6f8:b7cd:984b with SMTP id 6a1803df08f44-6f8b7cd990emr276695776d6.37.1747808105713; Tue, 20 May 2025 23:15:05 -0700 (PDT) Received: from postal.iol.unh.edu (postal.iol.unh.edu. [132.177.123.84]) by smtp-relay.gmail.com with ESMTPS id 6a1803df08f44-6f8b08b32c9sm3626166d6.21.2025.05.20.23.15.05 (version=TLS1_2 cipher=ECDHE-ECDSA-AES128-GCM-SHA256 bits=128/128); Tue, 20 May 2025 23:15:05 -0700 (PDT) X-Relaying-Domain: iol.unh.edu Date: Tue, 20 May 2025 23:15:05 -0700 (PDT) Message-ID: <682d6f69.d40a0220.26cd60.3024SMTPIN_ADDED_MISSING@mx.google.com> Received: from [172.21.0.5] (unknown [172.18.0.240]) by postal.iol.unh.edu (Postfix) with ESMTP id 6076A6052471; Wed, 21 May 2025 02:15:05 -0400 (EDT) Subject: |SUCCESS| pw153548-153549 [PATCH] [v2,2/2] app/testpmd: clear stale From: dpdklab@iol.unh.edu To: Test Report Cc: dpdk-test-reports@iol.unh.edu In-Reply-To: <20250521051154.19595-2-skori@marvell.com> References: <20250521051154.19595-2-skori@marvell.com> Content-Type: text/plain X-BeenThere: test-report@dpdk.org X-Mailman-Version: 2.1.29 Precedence: list List-Id: automatic DPDK test reports List-Unsubscribe: , List-Archive: List-Post: List-Help: List-Subscribe: , Errors-To: test-report-bounces@dpdk.org Test-Label: iol-compile-amd64-testing Test-Status: SUCCESS http://dpdk.org/patch/153549 _Testing PASS_ Submitter: Sunil Kumar Kori Date: Wednesday, May 21 2025 05:11:43 DPDK git baseline: Repo:dpdk Branch: master CommitID:a0dde342cc312fd75b63281f63d757db7482cdab 153548-153549 --> testing pass Upstream job id: Windows-Compile-DPDK-VS#5776 Test environment and result as below: +---------------------+--------------------+-------------------+ | Environment | dpdk_meson_compile | dpdk_msvc_compile | +=====================+====================+===================+ | Ubuntu 20.04 | PASS | SKIPPED | +---------------------+--------------------+-------------------+ | FreeBSD 13.5 | PASS | SKIPPED | +---------------------+--------------------+-------------------+ | FreeBSD 14.2 | PASS | SKIPPED | +---------------------+--------------------+-------------------+ | Windows Server 2022 | SKIPPED | PASS | +---------------------+--------------------+-------------------+ Ubuntu 20.04 Kernel: 4.19.325-0419325-generic Compiler: gcc (Ubuntu 9.4.0-1ubuntu1~20.04.2) 9.4.0 FreeBSD 13.5 Kernel: 13.5-RELEASE Compiler: clang 19.1.7 FreeBSD 14.2 Kernel: 14.2-RELEASE Compiler: clang 18.1.6 Windows Server 2022 Kernel: 10.0.20348.2031 Compiler: clang 15.0.7, gcc 14.1.0 (MinGW), and MSVC VS 19.39.33521 To view detailed results, visit: https://lab.dpdk.org/results/dashboard/patchsets/33217/ UNH-IOL DPDK Community Lab To manage your email subscriptions, visit: https://lab.dpdk.org/results/dashboard/preferences/subscriptions/