From mboxrd@z Thu Jan 1 00:00:00 1970 Return-Path: Received: from mails.dpdk.org (mails.dpdk.org [217.70.189.124]) by inbox.dpdk.org (Postfix) with ESMTP id E1969467A8 for ; Wed, 21 May 2025 08:23:28 +0200 (CEST) Received: from mails.dpdk.org (localhost [127.0.0.1]) by mails.dpdk.org (Postfix) with ESMTP id DA9DB40E8A; Wed, 21 May 2025 08:23:28 +0200 (CEST) Received: from mail-oo1-f100.google.com (mail-oo1-f100.google.com [209.85.161.100]) by mails.dpdk.org (Postfix) with ESMTP id 1A4C140E34 for ; Wed, 21 May 2025 08:23:27 +0200 (CEST) Received: by mail-oo1-f100.google.com with SMTP id 006d021491bc7-6060a70ba80so3495670eaf.2 for ; Tue, 20 May 2025 23:23:27 -0700 (PDT) DKIM-Signature: v=1; a=rsa-sha256; c=relaxed/relaxed; d=iol.unh.edu; s=unh-iol; t=1747808606; x=1748413406; darn=dpdk.org; h=cc:to:from:subject:message-id:date:from:to:cc:subject:date :message-id:reply-to; bh=0fojfmGxQRqmX+Yd44Nv80TXKkmp8HCwTQNhWOzvCS4=; b=C7M97UMPKf7Ub5CdxZ3Bqiwi5fREgKn+N5QudbRBPm9aTAEjQRMIj9/kj/iwfCFusz DMufgbnFJpfINVObJHpImOe7fpwlSfjqx20JFlPc31Z+ZR8LWubWUar0mi44zL+v06jl lEVIKNtbJw1LOuF7nft3PH+UoQCIJBJAdAmWw= X-Google-DKIM-Signature: v=1; a=rsa-sha256; c=relaxed/relaxed; d=1e100.net; s=20230601; t=1747808606; x=1748413406; h=cc:to:from:subject:message-id:date:x-gm-message-state:from:to:cc :subject:date:message-id:reply-to; bh=0fojfmGxQRqmX+Yd44Nv80TXKkmp8HCwTQNhWOzvCS4=; b=UEHTlXscuCJLl0eZ2bBndnu1WYJmNtE0FiJ7mstfGRdVTE637mrlKGZx+LxvFy2UVL iz9zK/1iWbV686xO0+zC7DLrrhIT8cNp/bk8Qsjf4NWQp+nu4yGGl5JRxZXVmLxaiThF QlCPCIDQDP9waa9rbJKb6c+t0MBYnWQN6AO+v8P1B6jHut9Orkk1WEnBei0giLrdEl0M zf8bYZsQ0VLJW23jBuV+sBBjR8pKiiJvGV1Qj7rMtzqMUcoNm0m5/7UH1SY5DlzeffyN uGAudCo7q0dbTt4lhWVAipPPJdCmp37uZwKyd1XD6/3HPDbFNG5i8aT1Ae/ArZlX1pae FE2g== X-Gm-Message-State: AOJu0YzKQ3DGUDcLC50JAs2JJOdzyNn34Fw1YE0mDRQBHNEaadSGLWw6 yZlEj8HYzlQq70G687uy2jQPDSj0E2Dwy+5+Zqgb+HnQ6Ub59KBnRybaIUVtLg2f6lPgfNas2gE ZglcinzsZswvYQgtKOvyy+UCxyRHhnVjn85oc X-Gm-Gg: ASbGnctlnxCrwwId8dTUeljFtIKOhfyaoajDRpYyAA8G0McxoNFfLMBQbRMpEOl+EbJ BElGRMtAL8c15pVVepapkuzXWMOfbBgkuKVVbp+NoEHHRKwE1GGPUxnPsOVntjYQI9dHrWF48if bBfeiJEfqzcNSirK64wwXlFGXNWt74g5qC1+Kcb9PBqFjT8ZBICjSjO2Tk79cqxsZoUSX4msY48 yN012RUIJcADYq2buIVfT0Lt4RwmcRa2312IQOKsosnSyRseW/Eg+g1PVP5e1b3rRwq2XOBVZ8a hG2lQE2VepFE4ECj5IH+FPkWLUegInDh368u05Q4CxNM+uDslSI0m6wMiK4= X-Google-Smtp-Source: AGHT+IFjvOVwB/R8mq71flbifBXmedwvYo4hWdpeEdnc1+/j7oIEqkFLplVd5vhokWQpt9hVN4uD80RBHWsG X-Received: by 2002:a05:6820:1792:b0:608:3f1d:bbdb with SMTP id 006d021491bc7-609f37ac4d0mr11525561eaf.8.1747808606240; Tue, 20 May 2025 23:23:26 -0700 (PDT) Received: from postal.iol.unh.edu (postal.iol.unh.edu. [132.177.123.84]) by smtp-relay.gmail.com with ESMTPS id 006d021491bc7-60a0536a699sm297121eaf.6.2025.05.20.23.23.26 (version=TLS1_2 cipher=ECDHE-ECDSA-AES128-GCM-SHA256 bits=128/128); Tue, 20 May 2025 23:23:26 -0700 (PDT) X-Relaying-Domain: iol.unh.edu Date: Tue, 20 May 2025 23:23:26 -0700 (PDT) Message-ID: <682d715e.050a0220.200f89.f0c8SMTPIN_ADDED_MISSING@mx.google.com> Received: from [172.21.0.5] (unknown [172.18.0.240]) by postal.iol.unh.edu (Postfix) with ESMTP id AEE226052471; Wed, 21 May 2025 02:23:25 -0400 (EDT) Subject: |SUCCESS| [GIT MASTER] 4c5634de9f933555bab9c64a533d3dca999071cd From: dpdklab@iol.unh.edu To: Test Report Cc: dpdk-test-reports@iol.unh.edu, Xueming Li , Christian Ehrhardt , Kevin Traynor , Luca Boccassi Content-Type: text/plain X-BeenThere: test-report@dpdk.org X-Mailman-Version: 2.1.29 Precedence: list List-Id: automatic DPDK test reports List-Unsubscribe: , List-Archive: List-Post: List-Help: List-Subscribe: , Errors-To: test-report-bounces@dpdk.org _Testing PASS_ Branch: tags/v24.11 4c5634de9f933555bab9c64a533d3dca999071cd --> testing pass Upstream job id: Generic-Unit-Test-DPDK#339390 Test environment and result as below: +-----------------------------+------------------------------+--------------+----------------+---------------------------+ | Environment | cryptodev_sw_snow3g_autotest | lpm_autotest | dpdk_unit_test | cryptodev_sw_zuc_autotest | +=============================+==============================+==============+================+===========================+ | Debian 12 (arm) | PASS | SKIPPED | PASS | PASS | +-----------------------------+------------------------------+--------------+----------------+---------------------------+ | Ubuntu 20.04 ARM SVE | SKIPPED | PASS | SKIPPED | SKIPPED | +-----------------------------+------------------------------+--------------+----------------+---------------------------+ | CentOS Stream 10 (ARM) | SKIPPED | SKIPPED | PASS | SKIPPED | +-----------------------------+------------------------------+--------------+----------------+---------------------------+ | CentOS Stream 9 (ARM) | SKIPPED | SKIPPED | PASS | SKIPPED | +-----------------------------+------------------------------+--------------+----------------+---------------------------+ | Fedora 40 (ARM) | SKIPPED | SKIPPED | PASS | SKIPPED | +-----------------------------+------------------------------+--------------+----------------+---------------------------+ | Fedora 41 (ARM Clang) | SKIPPED | SKIPPED | PASS | SKIPPED | +-----------------------------+------------------------------+--------------+----------------+---------------------------+ | Ubuntu 20.04 (ARM) | SKIPPED | SKIPPED | PASS | SKIPPED | +-----------------------------+------------------------------+--------------+----------------+---------------------------+ | Fedora 41 (ARM) | SKIPPED | SKIPPED | PASS | SKIPPED | +-----------------------------+------------------------------+--------------+----------------+---------------------------+ | Ubuntu 24.04 (ARM) | SKIPPED | SKIPPED | PASS | SKIPPED | +-----------------------------+------------------------------+--------------+----------------+---------------------------+ | Ubuntu 22.04 (ARM) | SKIPPED | SKIPPED | PASS | SKIPPED | +-----------------------------+------------------------------+--------------+----------------+---------------------------+ | Fedora 40 (ARM Clang) | SKIPPED | SKIPPED | PASS | SKIPPED | +-----------------------------+------------------------------+--------------+----------------+---------------------------+ | RHEL9 (ARM) | SKIPPED | SKIPPED | PASS | SKIPPED | +-----------------------------+------------------------------+--------------+----------------+---------------------------+ | 32-bit Ubuntu 22.04.4 (ARM) | SKIPPED | SKIPPED | PASS | SKIPPED | +-----------------------------+------------------------------+--------------+----------------+---------------------------+ Debian 12 (arm) Kernel: Depends on container host Compiler: gcc (Debian 12.2.0-14) 12.2.0 Ubuntu 20.04 ARM SVE Kernel: Depends on container host Compiler: gcc (Ubuntu 10.5.0-1ubuntu1~20.04) 10.5.0 CentOS Stream 10 (ARM) Kernel: Depends on container host Compiler: gcc 14.2.1 20241104 (Red Hat 14.2.1-6) CentOS Stream 9 (ARM) Kernel: Depends on container host Compiler: gcc 11.5.0 20240719 (Red Hat 11.5.0-2) Fedora 40 (ARM) Kernel: Depends on container host Compiler: gcc 14.2.1 20240912 (Red Hat 14.2.1-3) Fedora 41 (ARM Clang) Kernel: Depends on container host Compiler: clang 19.1.5 (Fedora 19.1.5-1.fc41) Ubuntu 20.04 (ARM) Kernel: Depends on container host Compiler: gcc (Ubuntu 9.4.0-1ubuntu1~20.04.2) 9.4.0 Fedora 41 (ARM) Kernel: Depends on container host Compiler: gcc 14.2.1 20240912 (Red Hat 14.2.1-3) Ubuntu 24.04 (ARM) Kernel: Depends on container host Compiler: gcc (Ubuntu 13.3.0-6ubuntu2~24.04) 13.3.0 Ubuntu 22.04 (ARM) Kernel: Depends on container host Compiler: gcc (Ubuntu 11.4.0-1ubuntu1~22.04) 11.4.0 Fedora 40 (ARM Clang) Kernel: Depends on container host Compiler: clang 18.1.8 (Fedora 18.1.8-1.fc40) RHEL9 (ARM) Kernel: Depends on container host Compiler: gcc 11.5.0 20240719 (Red Hat 11.5.0-2) 32-bit Ubuntu 22.04.4 (ARM) Kernel: 5.15.83+ aarch64 Compiler: gcc (Ubuntu 11.4.0-1ubuntu1~22.04) 11.4.0 To view detailed results, visit: https://lab.dpdk.org/results/dashboard/tarballs/33594/ UNH-IOL DPDK Community Lab To manage your email subscriptions, visit: https://lab.dpdk.org/results/dashboard/preferences/subscriptions/