From mboxrd@z Thu Jan 1 00:00:00 1970 Return-Path: Received: from mails.dpdk.org (mails.dpdk.org [217.70.189.124]) by inbox.dpdk.org (Postfix) with ESMTP id A8502467A8 for ; Wed, 21 May 2025 08:29:51 +0200 (CEST) Received: from mails.dpdk.org (localhost [127.0.0.1]) by mails.dpdk.org (Postfix) with ESMTP id 8368D40E7C; Wed, 21 May 2025 08:29:51 +0200 (CEST) Received: from mail-qv1-f100.google.com (mail-qv1-f100.google.com [209.85.219.100]) by mails.dpdk.org (Postfix) with ESMTP id AF0FF40E34 for ; Wed, 21 May 2025 08:29:49 +0200 (CEST) Received: by mail-qv1-f100.google.com with SMTP id 6a1803df08f44-6f8d8fb211eso24060956d6.3 for ; Tue, 20 May 2025 23:29:49 -0700 (PDT) DKIM-Signature: v=1; a=rsa-sha256; c=relaxed/relaxed; d=iol.unh.edu; s=unh-iol; t=1747808989; x=1748413789; darn=dpdk.org; h=cc:to:from:subject:message-id:date:from:to:cc:subject:date :message-id:reply-to; bh=4C7OuF7+TPUYrg3PCcwXVlBQQNrlhP3I05uZk5XAxog=; b=BkNjFBm+5fBEWfzfyJ526uquXONojTLFmCX9O6b88X5oEAem6/O0RtYdJANsXgVCy5 vHGDMFhQ/Kv3hArSpZ1lisMaEE6wjRgTPlmRBWSciiH7u2Ls4RcK3hwrCWA2sxh/tXjV kHKWYo+RwNxbNn2qMjuf+U4RFrr4Q7T02eVVo= X-Google-DKIM-Signature: v=1; a=rsa-sha256; c=relaxed/relaxed; d=1e100.net; s=20230601; t=1747808989; x=1748413789; h=cc:to:from:subject:message-id:date:x-gm-message-state:from:to:cc :subject:date:message-id:reply-to; bh=4C7OuF7+TPUYrg3PCcwXVlBQQNrlhP3I05uZk5XAxog=; b=s/eS2knjmchEFZjM9TvBXQszcNFru3DUSmMLt9IWuJf0M3FfvElWcbz9gGYp+zGllS st/BH1rXZ9/VwoFp/TBuio8aCl7pShw9EXiArF8M8AwgkU6Bs70swlqhKoDgs0NL5IPk mwUTwTWo2Cn0O0JUUTFKSU2cxfOWP4AZsaQorNtpL9Q4ayM/O5H0H8T0uYvLKuExBSU9 YIJNPXUUjDN2cCjrcMwtDXwr9U3DCOqhZXf9RauEJ+4L/xRhPhxAUaOjCPW/lWu20hil /UkJ9Lm+YeFlUkyenQ1cNsVc91+chDNRd2HWRHxeKBIeOUFuxjr+qsv+3SObFpXrWQjr B2FQ== X-Gm-Message-State: AOJu0YyCqMjzDCG0xnhFyKdnFE6te1LcaLdxUnLRV5Ojcsjgr54/dHY6 rV1Kht/6xRQdMYopi6LqQAHgf8cPTf0j5O9LBmyQBiyYfyho4HC3FHOaTWHb2wA4tJeJe1IMHUI SKVf28GoPpndyzmrAypkAA5OCmY7b0e/zVvqH X-Gm-Gg: ASbGncstLHddGfDk3jr11agJ4v1+GTmCGHcld8gyILqzhvIJPPDn0p+5qVd7LJdRolV gv22RccX6xwHsRdeWL3Y475QpcubAOVm8PFlRx5ZafJ384EWiV9Lnjj3fUKYrVrwvaSfmvTnnVg LIv/iBNdqJU+TehkvuO/NFEcrHg35+A4+RwlmKu/VTKib0atYdOfe2kg0MotVeEvCx/V2oKZ2ga Pht+WvKTFwZAToHpEIBzXbWSZTTBS8aG+2G/yPbKhL0zm16mttgPTc+9c6zY54i5gTzx0H31Gkp PM4bIn0XZgiBszkMn5YfWwIFv4zeeavAweJxUzZuubN4aGkeLM7tdvqr5Kc= X-Google-Smtp-Source: AGHT+IEhiIXlXE/U1B7o2yOTT2tf6oDuge/7xSoKbanobOr9BkUyX6fLAj6j1NipSVSoL0p3T2nAEdAuOX9P X-Received: by 2002:a05:6214:508c:b0:6f8:e367:8440 with SMTP id 6a1803df08f44-6f8e367849bmr103660656d6.23.1747808988985; Tue, 20 May 2025 23:29:48 -0700 (PDT) Received: from postal.iol.unh.edu (postal.iol.unh.edu. [132.177.123.84]) by smtp-relay.gmail.com with ESMTPS id 6a1803df08f44-6f8b08c8596sm3875266d6.39.2025.05.20.23.29.48 (version=TLS1_2 cipher=ECDHE-ECDSA-AES128-GCM-SHA256 bits=128/128); Tue, 20 May 2025 23:29:48 -0700 (PDT) X-Relaying-Domain: iol.unh.edu Date: Tue, 20 May 2025 23:29:48 -0700 (PDT) Message-ID: <682d72dc.d40a0220.3d6762.3e14SMTPIN_ADDED_MISSING@mx.google.com> Received: from [172.21.0.5] (unknown [172.18.0.240]) by postal.iol.unh.edu (Postfix) with ESMTP id A06C66052471; Wed, 21 May 2025 02:29:48 -0400 (EDT) Subject: |SUCCESS| [GIT MASTER] 4401486b5e30d43a134f80f9802f60b5f43e74a8 From: dpdklab@iol.unh.edu To: Test Report Cc: dpdk-test-reports@iol.unh.edu, Xueming Li , Christian Ehrhardt , Kevin Traynor , Luca Boccassi Content-Type: text/plain X-BeenThere: test-report@dpdk.org X-Mailman-Version: 2.1.29 Precedence: list List-Id: automatic DPDK test reports List-Unsubscribe: , List-Archive: List-Post: List-Help: List-Subscribe: , Errors-To: test-report-bounces@dpdk.org _Testing PASS_ Branch: tags/v22.11 4401486b5e30d43a134f80f9802f60b5f43e74a8 --> testing pass Upstream job id: Generic-DPDK-Compile-ABI#127113 Test environment and result as below: +-------------------+----------+ | Environment | abi_test | +===================+==========+ | CentOS Stream 9 | PASS | +-------------------+----------+ | CentOS Stream 10 | PASS | +-------------------+----------+ | Debian 12 | PASS | +-------------------+----------+ | Fedora 40 (Clang) | PASS | +-------------------+----------+ | Fedora 40 | PASS | +-------------------+----------+ | Fedora 41 (Clang) | PASS | +-------------------+----------+ | Fedora 41 | PASS | +-------------------+----------+ | openSUSE Leap 15 | PASS | +-------------------+----------+ | RHEL8 | PASS | +-------------------+----------+ | Ubuntu 22.04 | PASS | +-------------------+----------+ | Ubuntu 24.04 | PASS | +-------------------+----------+ | RHEL9 | PASS | +-------------------+----------+ CentOS Stream 9 Kernel: Depends on container host Compiler: gcc 11.5.0 20240719 (Red Hat 11.5.0-2) CentOS Stream 10 Kernel: Depends on container host Compiler: gcc 14.2.1 20241104 (Red Hat 14.2.1-6) Debian 12 Kernel: Depends on container host Compiler: gcc (Debian 12.2.0-14) 12.2.0 Fedora 40 (Clang) Kernel: Depends on container host Compiler: clang 18.1.8 (Fedora 18.1.8-1.fc40) Fedora 40 Kernel: Depends on container host Compiler: gcc 14.2.1 20240912 (Red Hat 14.2.1-3) Fedora 41 (Clang) Kernel: Depends on container host Compiler: clang 19.1.5 (Fedora 19.1.5-1.fc41) Fedora 41 Kernel: Depends on container host Compiler: gcc 14.2.1 20240912 (Red Hat 14.2.1-3) openSUSE Leap 15 Kernel: Depends on container host Compiler: gcc (SUSE Linux) 7.5.0 RHEL8 Kernel: Depends on container host Compiler: gcc 8.5.0 20210514 (Red Hat 8.5.0-22) Ubuntu 22.04 Kernel: Depends on container host Compiler: gcc (Ubuntu 11.4.0-1ubuntu1~22.04) 11.4.0 Ubuntu 24.04 Kernel: Depends on container host Compiler: gcc (Ubuntu 13.3.0-6ubuntu2~24.04) 13.3.0 RHEL9 Kernel: Depends on container host Compiler: gcc 11.5.0 20240719 (Red Hat 11.5.0-2) To view detailed results, visit: https://lab.dpdk.org/results/dashboard/tarballs/33595/ UNH-IOL DPDK Community Lab To manage your email subscriptions, visit: https://lab.dpdk.org/results/dashboard/preferences/subscriptions/