From mboxrd@z Thu Jan 1 00:00:00 1970 Return-Path: Received: from mails.dpdk.org (mails.dpdk.org [217.70.189.124]) by inbox.dpdk.org (Postfix) with ESMTP id 9ACCE467A8 for ; Wed, 21 May 2025 08:30:08 +0200 (CEST) Received: from mails.dpdk.org (localhost [127.0.0.1]) by mails.dpdk.org (Postfix) with ESMTP id 9590340E7C; Wed, 21 May 2025 08:30:08 +0200 (CEST) Received: from mail-oo1-f99.google.com (mail-oo1-f99.google.com [209.85.161.99]) by mails.dpdk.org (Postfix) with ESMTP id CA00940E34 for ; Wed, 21 May 2025 08:30:06 +0200 (CEST) Received: by mail-oo1-f99.google.com with SMTP id 006d021491bc7-60638c07cabso3711198eaf.3 for ; Tue, 20 May 2025 23:30:06 -0700 (PDT) DKIM-Signature: v=1; a=rsa-sha256; c=relaxed/relaxed; d=iol.unh.edu; s=unh-iol; t=1747809006; x=1748413806; darn=dpdk.org; h=cc:to:from:subject:message-id:date:from:to:cc:subject:date :message-id:reply-to; bh=WG5ZWarKwfV9BKx5ERKVinLDiZXcBsq8xvNUo+MgcEw=; b=BCsEXKo0/s37ItwDCE/X3kHm++wossigwdbzFERZtmmbVisVE6IOQYQu4dL2ywDeXV nXt3b0uzhGwxkXhdIP1PfEM5qXlrjQ8QmU58Jh9qKz/4diXdz1Uds8g/CWcgZnR/+BnP kd/Qw9s/ke/8WEc8RUnCSFV13TC9JgyDBwrfY= X-Google-DKIM-Signature: v=1; a=rsa-sha256; c=relaxed/relaxed; d=1e100.net; s=20230601; t=1747809006; x=1748413806; h=cc:to:from:subject:message-id:date:x-gm-message-state:from:to:cc :subject:date:message-id:reply-to; bh=WG5ZWarKwfV9BKx5ERKVinLDiZXcBsq8xvNUo+MgcEw=; b=QWHBcm/IFJvzR44zDy256wnM398tGc4iPuPxu1icQOyB6w7vPuTXbSGgOpfEcjK0x+ 0KZlyH9A+E0gJfWTZ6u25qYl2QxLDjBuu4q1F9JK3ZtcKZezunfqzHA9qmhhdxMTR+m9 sTuZAFU+PREQHeUDzi3oZYsDLyXpEmi7GyJv0bowpbG3lz7DUq3K1dyOS5qMd3R3sIrC j7qnU7OdbYKy4n/VqD0XMHUYlRjG9oFhiIxhAzXWftOidQY2z60jRq4kZUUvJ1s0Dmeg Zb8FKv8p56AoG6QTx/ok+3o8y27LGp3zhGhKax6xnCKSxs43UjZUJNGfTdEEYsrmIHPZ u8NQ== X-Gm-Message-State: AOJu0YwNlksPqHSHeBY02tVCRVKGqsg94ZE/8MjImwKoNgwV4Y65382b 94RaP1ySr2Ba6gS82GnLRZ4LofNRLunF+2QWCYuSPtGxHMLobKrtMeEhCPYxGcSgcbqzJ9IVbRS jeFrbspEHZIZexoYQ0e++A7BgP3EFI1SIAdjvyi9qiuDr0xezlMQf X-Gm-Gg: ASbGncudFyj7wAVCZkh8l/GRmjsq0urJmum9eOR1zKs1C/KLCvNUTqs57Dm55ccDCJg 469kug+i1uB1jQEYr/ekBSOBgImQl0CN+2oKQdk+N/Gd856nTE/NvwTiOW9RkUbhN3wIDoDrL3h ca/4RWv2fGxLqaFurf9bTbifOmx8/2mE/6exIt/8gbG+rm7v7EVHAYfwgyWqnF15vVwDu/M1+Wx 0U8JTl8mq60SRoDR55LBy2FGKM1wc7d49P1iQOqkB1bRJDhG4jmrxIrROHWfbFkDp3FrItRd7oF 7r4CdassnINsSRDTlD2liJxJKrpHBcrKwPzS X-Google-Smtp-Source: AGHT+IHntirpubeS9nJY3PuiZuu+hs6hjQD/8rRmmpG5MWJnwFWVpxcaXX8hNt0kB7l5xg3++LtMsUNvmXsq X-Received: by 2002:a05:6820:1807:b0:608:34d1:db96 with SMTP id 006d021491bc7-609f3731c81mr11954542eaf.4.1747809005822; Tue, 20 May 2025 23:30:05 -0700 (PDT) Received: from postal.iol.unh.edu (postal.iol.unh.edu. [2606:4100:3880:1234::84]) by smtp-relay.gmail.com with ESMTPS id 006d021491bc7-60b7fab4ee7sm19328eaf.10.2025.05.20.23.30.05 (version=TLS1_2 cipher=ECDHE-ECDSA-AES128-GCM-SHA256 bits=128/128); Tue, 20 May 2025 23:30:05 -0700 (PDT) X-Relaying-Domain: iol.unh.edu Date: Tue, 20 May 2025 23:30:05 -0700 (PDT) Message-ID: <682d72ed.050a0220.1ffbd7.1095SMTPIN_ADDED_MISSING@mx.google.com> Received: from [172.21.0.6] (unknown [172.18.0.240]) by postal.iol.unh.edu (Postfix) with ESMTP id 51EEA6052471; Wed, 21 May 2025 02:30:05 -0400 (EDT) Subject: |SUCCESS| [GIT MASTER] 4401486b5e30d43a134f80f9802f60b5f43e74a8 From: dpdklab@iol.unh.edu To: Test Report Cc: dpdk-test-reports@iol.unh.edu, Xueming Li , Christian Ehrhardt , Kevin Traynor , Luca Boccassi Content-Type: text/plain X-BeenThere: test-report@dpdk.org X-Mailman-Version: 2.1.29 Precedence: list List-Id: automatic DPDK test reports List-Unsubscribe: , List-Archive: List-Post: List-Help: List-Subscribe: , Errors-To: test-report-bounces@dpdk.org _Testing PASS_ Branch: tags/v22.11 4401486b5e30d43a134f80f9802f60b5f43e74a8 --> testing pass Upstream job id: Generic-DPDK-Compile-ABI#127103 Test environment and result as below: +-------------------+----------+ | Environment | abi_test | +===================+==========+ | CentOS Stream 9 | PASS | +-------------------+----------+ | CentOS Stream 10 | PASS | +-------------------+----------+ | Debian 12 | PASS | +-------------------+----------+ | Fedora 40 (Clang) | PASS | +-------------------+----------+ | Fedora 40 | PASS | +-------------------+----------+ | Fedora 41 (Clang) | PASS | +-------------------+----------+ | Fedora 41 | PASS | +-------------------+----------+ | openSUSE Leap 15 | PASS | +-------------------+----------+ | RHEL8 | PASS | +-------------------+----------+ | Ubuntu 22.04 | PASS | +-------------------+----------+ | Ubuntu 24.04 | PASS | +-------------------+----------+ | RHEL9 | PASS | +-------------------+----------+ CentOS Stream 9 Kernel: Depends on container host Compiler: gcc 11.5.0 20240719 (Red Hat 11.5.0-2) CentOS Stream 10 Kernel: Depends on container host Compiler: gcc 14.2.1 20241104 (Red Hat 14.2.1-6) Debian 12 Kernel: Depends on container host Compiler: gcc (Debian 12.2.0-14) 12.2.0 Fedora 40 (Clang) Kernel: Depends on container host Compiler: clang 18.1.8 (Fedora 18.1.8-1.fc40) Fedora 40 Kernel: Depends on container host Compiler: gcc 14.2.1 20240912 (Red Hat 14.2.1-3) Fedora 41 (Clang) Kernel: Depends on container host Compiler: clang 19.1.5 (Fedora 19.1.5-1.fc41) Fedora 41 Kernel: Depends on container host Compiler: gcc 14.2.1 20240912 (Red Hat 14.2.1-3) openSUSE Leap 15 Kernel: Depends on container host Compiler: gcc (SUSE Linux) 7.5.0 RHEL8 Kernel: Depends on container host Compiler: gcc 8.5.0 20210514 (Red Hat 8.5.0-22) Ubuntu 22.04 Kernel: Depends on container host Compiler: gcc (Ubuntu 11.4.0-1ubuntu1~22.04) 11.4.0 Ubuntu 24.04 Kernel: Depends on container host Compiler: gcc (Ubuntu 13.3.0-6ubuntu2~24.04) 13.3.0 RHEL9 Kernel: Depends on container host Compiler: gcc 11.5.0 20240719 (Red Hat 11.5.0-2) To view detailed results, visit: https://lab.dpdk.org/results/dashboard/tarballs/33595/ UNH-IOL DPDK Community Lab To manage your email subscriptions, visit: https://lab.dpdk.org/results/dashboard/preferences/subscriptions/